BEGIN:VCALENDAR
VERSION:2.0
PRODID:-//ICE Classes - ECPv6.15.20//NONSGML v1.0//EN
CALSCALE:GREGORIAN
METHOD:PUBLISH
X-WR-CALNAME:ICE Classes
X-ORIGINAL-URL:https://www.iceclasses.com
X-WR-CALDESC:Events for ICE Classes
REFRESH-INTERVAL;VALUE=DURATION:PT1H
X-Robots-Tag:noindex
X-PUBLISHED-TTL:PT1H
BEGIN:VTIMEZONE
TZID:UTC
BEGIN:STANDARD
TZOFFSETFROM:+0000
TZOFFSETTO:+0000
TZNAME:UTC
DTSTART:20250101T000000
END:STANDARD
END:VTIMEZONE
BEGIN:VEVENT
DTSTART;TZID=UTC:20261113T090000
DTEND;TZID=UTC:20261113T153000
DTSTAMP:20260423T170602
CREATED:20260402T161642Z
LAST-MODIFIED:20260402T161642Z
UID:44620-1794560400-1794583800@www.iceclasses.com
SUMMARY:Myofascial Release-Restoring Postural Imbalances
DESCRIPTION:
URL:https://www.iceclasses.com/event/myofascial-release-restoring-postural-imbalances-5/
END:VEVENT
BEGIN:VEVENT
DTSTART;TZID=UTC:20261118T090000
DTEND;TZID=UTC:20261118T163000
DTSTAMP:20260423T170602
CREATED:20260324T211711Z
LAST-MODIFIED:20260324T211711Z
UID:44525-1794992400-1795019400@www.iceclasses.com
SUMMARY:Medical Massage for Sciatica
DESCRIPTION:
URL:https://www.iceclasses.com/event/medical-massage-for-sciatica-8/
END:VEVENT
BEGIN:VEVENT
DTSTART;TZID=UTC:20261120T090000
DTEND;TZID=UTC:20261120T130000
DTSTAMP:20260423T170602
CREATED:20260320T205338Z
LAST-MODIFIED:20260320T205429Z
UID:44486-1795165200-1795179600@www.iceclasses.com
SUMMARY:Maximize the Effect of Your Chair Massage with Acupressure and Tui Na
DESCRIPTION:
URL:https://www.iceclasses.com/event/maximize-the-effect-of-your-chair-massage-with-acupressure-and-tui-na-3/
END:VEVENT
BEGIN:VEVENT
DTSTART;TZID=UTC:20261123T190000
DTEND;TZID=UTC:20261123T210000
DTSTAMP:20260423T170602
CREATED:20260402T210053Z
LAST-MODIFIED:20260402T210053Z
UID:44652-1795460400-1795467600@www.iceclasses.com
SUMMARY:Live Webinar: Treating Anxiety and Depression with Nutrition
DESCRIPTION:
URL:https://www.iceclasses.com/event/live-webinar-treating-anxiety-and-depression-with-nutrition-13/
END:VEVENT
BEGIN:VEVENT
DTSTART;TZID=UTC:20261130T090000
DTEND;TZID=UTC:20261130T153000
DTSTAMP:20260423T170602
CREATED:20260402T163538Z
LAST-MODIFIED:20260402T163538Z
UID:44623-1796029200-1796052600@www.iceclasses.com
SUMMARY:Sports Massage and Integrated Stretching Techniques
DESCRIPTION:
URL:https://www.iceclasses.com/event/sports-massage-and-integrated-stretching-techniques-2/
END:VEVENT
END:VCALENDAR