BEGIN:VCALENDAR
VERSION:2.0
PRODID:-//ICE Classes - ECPv6.15.20//NONSGML v1.0//EN
CALSCALE:GREGORIAN
METHOD:PUBLISH
X-WR-CALNAME:ICE Classes
X-ORIGINAL-URL:https://www.iceclasses.com
X-WR-CALDESC:Events for ICE Classes
REFRESH-INTERVAL;VALUE=DURATION:PT1H
X-Robots-Tag:noindex
X-PUBLISHED-TTL:PT1H
BEGIN:VTIMEZONE
TZID:UTC
BEGIN:STANDARD
TZOFFSETFROM:+0000
TZOFFSETTO:+0000
TZNAME:UTC
DTSTART:20250101T000000
END:STANDARD
END:VTIMEZONE
BEGIN:VEVENT
DTSTART;TZID=UTC:20260724T090000
DTEND;TZID=UTC:20260724T130000
DTSTAMP:20260423T111242
CREATED:20260320T204822Z
LAST-MODIFIED:20260320T204822Z
UID:44480-1784883600-1784898000@www.iceclasses.com
SUMMARY:QI GONG AND MIND/BODY METHODOLOGIES
DESCRIPTION:
URL:https://www.iceclasses.com/event/qi-gong-and-mind-body-methodologies-26/
END:VEVENT
BEGIN:VEVENT
DTSTART;TZID=UTC:20260803T190000
DTEND;TZID=UTC:20260803T210000
DTSTAMP:20260423T111242
CREATED:20260402T205730Z
LAST-MODIFIED:20260402T205730Z
UID:44648-1785783600-1785790800@www.iceclasses.com
SUMMARY:Live Webinar: Treating Anxiety and Depression with Nutrition
DESCRIPTION:
URL:https://www.iceclasses.com/event/live-webinar-treating-anxiety-and-depression-with-nutrition-11/
END:VEVENT
BEGIN:VEVENT
DTSTART;TZID=UTC:20260805T090000
DTEND;TZID=UTC:20260805T173000
DTSTAMP:20260423T111242
CREATED:20260312T220317Z
LAST-MODIFIED:20260312T220402Z
UID:44366-1785920400-1785951000@www.iceclasses.com
SUMMARY:Pre and Post Natal Massage
DESCRIPTION:
URL:https://www.iceclasses.com/event/pre-and-post-natal-massage-9/
END:VEVENT
BEGIN:VEVENT
DTSTART;TZID=UTC:20260813T123000
DTEND;TZID=UTC:20260813T163000
DTSTAMP:20260423T111242
CREATED:20260325T154018Z
LAST-MODIFIED:20260325T154018Z
UID:44536-1786624200-1786638600@www.iceclasses.com
SUMMARY:Core Strengthening
DESCRIPTION:
URL:https://www.iceclasses.com/event/core-strengthening-33/
END:VEVENT
BEGIN:VEVENT
DTSTART;TZID=UTC:20260813T190000
DTEND;TZID=UTC:20260813T210000
DTSTAMP:20260423T111242
CREATED:20260403T130639Z
LAST-MODIFIED:20260403T130639Z
UID:44664-1786647600-1786654800@www.iceclasses.com
SUMMARY:2 Hour Generator Gas Piping Certification Program for Electrical Contractors
DESCRIPTION:
URL:https://www.iceclasses.com/event/2-hour-generator-gas-piping-certification-program-for-electrical-contractors-6/
CATEGORIES:Electrical
END:VEVENT
BEGIN:VEVENT
DTSTART;TZID=UTC:20260819T160000
DTEND;TZID=UTC:20260826T210000
DTSTAMP:20260423T111242
CREATED:20260318T130101Z
LAST-MODIFIED:20260318T130101Z
UID:44448-1787155200-1787778000@www.iceclasses.com
SUMMARY:New Jersey MANDATORY 10-Hour Electrical Code Course: Mandatory Class
DESCRIPTION:
URL:https://www.iceclasses.com/event/new-jersey-mandatory-10-hour-electrical-code-course-mandatory-class-13/
CATEGORIES:Electrical
END:VEVENT
BEGIN:VEVENT
DTSTART;TZID=UTC:20260914T180000
DTEND;TZID=UTC:20260914T210000
DTSTAMP:20260423T111242
CREATED:20260402T204441Z
LAST-MODIFIED:20260402T204441Z
UID:44635-1789408800-1789419600@www.iceclasses.com
SUMMARY:Live Webinar: Breaking Nutritional Myths
DESCRIPTION:
URL:https://www.iceclasses.com/event/live-webinar-breaking-nutritional-myths-21/
END:VEVENT
BEGIN:VEVENT
DTSTART;TZID=UTC:20260916T090000
DTEND;TZID=UTC:20260917T173000
DTSTAMP:20260423T111242
CREATED:20260330T210124Z
LAST-MODIFIED:20260330T210124Z
UID:44594-1789549200-1789666200@www.iceclasses.com
SUMMARY:Cancer and the Medically Frail Client
DESCRIPTION:
URL:https://www.iceclasses.com/event/cancer-and-the-medically-frail-client/
END:VEVENT
BEGIN:VEVENT
DTSTART;TZID=UTC:20260916T090000
DTEND;TZID=UTC:20260917T173000
DTSTAMP:20260423T111242
CREATED:20260402T163918Z
LAST-MODIFIED:20260402T164004Z
UID:44626-1789549200-1789666200@www.iceclasses.com
SUMMARY:Cancer and the Medically Frail Client
DESCRIPTION:
URL:https://www.iceclasses.com/event/cancer-and-the-medically-frail-client-2/
END:VEVENT
BEGIN:VEVENT
DTSTART;TZID=UTC:20260917T190000
DTEND;TZID=UTC:20260917T210000
DTSTAMP:20260423T111242
CREATED:20260403T130727Z
LAST-MODIFIED:20260403T130727Z
UID:44666-1789671600-1789678800@www.iceclasses.com
SUMMARY:2 Hour Generator Gas Piping Certification Program for Electrical Contractors
DESCRIPTION:
URL:https://www.iceclasses.com/event/2-hour-generator-gas-piping-certification-program-for-electrical-contractors-7/
CATEGORIES:Electrical
END:VEVENT
BEGIN:VEVENT
DTSTART;TZID=UTC:20260920T080000
DTEND;TZID=UTC:20260927T130000
DTSTAMP:20260423T111242
CREATED:20260318T131129Z
LAST-MODIFIED:20260318T131129Z
UID:44451-1789891200-1790514000@www.iceclasses.com
SUMMARY:New Jersey MANDATORY 10-Hour Electrical Code Course: Mandatory Class
DESCRIPTION:
URL:https://www.iceclasses.com/event/new-jersey-mandatory-10-hour-electrical-code-course-mandatory-class-11/
CATEGORIES:Electrical
END:VEVENT
BEGIN:VEVENT
DTSTART;TZID=UTC:20260924T180000
DTEND;TZID=UTC:20260924T180000
DTSTAMP:20260423T111242
CREATED:20260331T214049Z
LAST-MODIFIED:20260331T214049Z
UID:44605-1790272800-1790272800@www.iceclasses.com
SUMMARY:Live Webinar: Stretching for Stress Reduction
DESCRIPTION:
URL:https://www.iceclasses.com/event/live-webinar-stretching-for-stress-reduction-22/
END:VEVENT
BEGIN:VEVENT
DTSTART;TZID=UTC:20260925T090000
DTEND;TZID=UTC:20260925T130000
DTSTAMP:20260423T111242
CREATED:20260320T202742Z
LAST-MODIFIED:20260320T202742Z
UID:44472-1790326800-1790341200@www.iceclasses.com
SUMMARY:Acupressure
DESCRIPTION:
URL:https://www.iceclasses.com/event/acupressure-34/
END:VEVENT
BEGIN:VEVENT
DTSTART;TZID=UTC:20260926T090000
DTEND;TZID=UTC:20260926T170000
DTSTAMP:20260423T111242
CREATED:20260311T171511Z
LAST-MODIFIED:20260311T171511Z
UID:44343-1790413200-1790442000@www.iceclasses.com
SUMMARY:Somatic Mindfulness-Poise with Fernando Rojas
DESCRIPTION:
URL:https://www.iceclasses.com/event/somatic-mindfulness-poise-with-fernando-rojas/
END:VEVENT
BEGIN:VEVENT
DTSTART;TZID=UTC:20260926T090000
DTEND;TZID=UTC:20260926T170000
DTSTAMP:20260423T111242
CREATED:20260327T010036Z
LAST-MODIFIED:20260327T010036Z
UID:44555-1790413200-1790442000@www.iceclasses.com
SUMMARY:Somatic Mindfulness - Poise with Fernando Rojas
DESCRIPTION:
URL:https://www.iceclasses.com/event/somatic-mindfulness-poise-with-fernando-rojas-2/
END:VEVENT
BEGIN:VEVENT
DTSTART;TZID=UTC:20260927T090000
DTEND;TZID=UTC:20260927T170000
DTSTAMP:20260423T111242
CREATED:20260311T165457Z
LAST-MODIFIED:20260311T165457Z
UID:44335-1790499600-1790528400@www.iceclasses.com
SUMMARY:Somatic Mindfulness-Fluidity with Fernando Rojas
DESCRIPTION:
URL:https://www.iceclasses.com/event/somatic-mindfulness-fluidity-with-fernando-rojas/
END:VEVENT
BEGIN:VEVENT
DTSTART;TZID=UTC:20260927T090000
DTEND;TZID=UTC:20260927T170000
DTSTAMP:20260423T111242
CREATED:20260327T010141Z
LAST-MODIFIED:20260327T010141Z
UID:44557-1790499600-1790528400@www.iceclasses.com
SUMMARY:Somatic Mindfulness-Fluidity with Fernando Rojas
DESCRIPTION:
URL:https://www.iceclasses.com/event/somatic-mindfulness-fluidity-with-fernando-rojas-2/
END:VEVENT
BEGIN:VEVENT
DTSTART;TZID=UTC:20260930T190000
DTEND;TZID=UTC:20260930T210000
DTSTAMP:20260423T111242
CREATED:20260402T205129Z
LAST-MODIFIED:20260402T205129Z
UID:44643-1790794800-1790802000@www.iceclasses.com
SUMMARY:Live Webinar: Building Your Immune System with Food and Nutrients
DESCRIPTION:
URL:https://www.iceclasses.com/event/live-webinar-building-your-immune-system-with-food-and-nutrients-33/
END:VEVENT
BEGIN:VEVENT
DTSTART;TZID=UTC:20261002T090000
DTEND;TZID=UTC:20261002T153000
DTSTAMP:20260423T111242
CREATED:20260323T171510Z
LAST-MODIFIED:20260323T171510Z
UID:44509-1790931600-1790955000@www.iceclasses.com
SUMMARY:Prevention of Musculoskeletal Injuries through Proper Exercise Intervention
DESCRIPTION:
URL:https://www.iceclasses.com/event/prevention-of-musculoskeletal-injuries-through-proper-exercise-intervention-26/
END:VEVENT
BEGIN:VEVENT
DTSTART;TZID=UTC:20261009T090000
DTEND;TZID=UTC:20261009T130000
DTSTAMP:20260423T111242
CREATED:20260320T204918Z
LAST-MODIFIED:20260320T204918Z
UID:44482-1791536400-1791550800@www.iceclasses.com
SUMMARY:Qi Gong and Mind/Body Methodologies
DESCRIPTION:
URL:https://www.iceclasses.com/event/qi-gong-and-mind-body-methodologies-27/
END:VEVENT
BEGIN:VEVENT
DTSTART;TZID=UTC:20261014T190000
DTEND;TZID=UTC:20261014T210000
DTSTAMP:20260423T111242
CREATED:20260402T205854Z
LAST-MODIFIED:20260402T205854Z
UID:44650-1792004400-1792011600@www.iceclasses.com
SUMMARY:Live Webinar: Treating Anxiety and Depression with Nutrition
DESCRIPTION:
URL:https://www.iceclasses.com/event/live-webinar-treating-anxiety-and-depression-with-nutrition-12/
END:VEVENT
BEGIN:VEVENT
DTSTART;TZID=UTC:20261023T090000
DTEND;TZID=UTC:20261023T130000
DTSTAMP:20260423T111242
CREATED:20260320T205150Z
LAST-MODIFIED:20260320T205150Z
UID:44484-1792746000-1792760400@www.iceclasses.com
SUMMARY:Maximize the Effect of Your Chair Massage with Acupressure and Tui Na
DESCRIPTION:
URL:https://www.iceclasses.com/event/maximize-the-effect-of-your-chair-massage-with-acupressure-and-tui-na-2/
END:VEVENT
BEGIN:VEVENT
DTSTART;TZID=UTC:20261106T090000
DTEND;TZID=UTC:20261106T130000
DTSTAMP:20260423T111242
CREATED:20260320T202832Z
LAST-MODIFIED:20260320T202832Z
UID:44474-1793955600-1793970000@www.iceclasses.com
SUMMARY:Acupressure
DESCRIPTION:
URL:https://www.iceclasses.com/event/acupressure-35/
END:VEVENT
BEGIN:VEVENT
DTSTART;TZID=UTC:20261108T090000
DTEND;TZID=UTC:20261108T120000
DTSTAMP:20260423T111242
CREATED:20260402T204545Z
LAST-MODIFIED:20260402T204545Z
UID:44637-1794128400-1794139200@www.iceclasses.com
SUMMARY:Live Webinar: Breaking Nutritional Myths
DESCRIPTION:
URL:https://www.iceclasses.com/event/live-webinar-breaking-nutritional-myths-22/
END:VEVENT
BEGIN:VEVENT
DTSTART;TZID=UTC:20261112T090000
DTEND;TZID=UTC:20261112T153000
DTSTAMP:20260423T111242
CREATED:20260323T171613Z
LAST-MODIFIED:20260323T171613Z
UID:44511-1794474000-1794497400@www.iceclasses.com
SUMMARY:Prevention of Musculoskeletal Injuries through Proper Exercise Intervention
DESCRIPTION:
URL:https://www.iceclasses.com/event/prevention-of-musculoskeletal-injuries-through-proper-exercise-intervention-27/
END:VEVENT
BEGIN:VEVENT
DTSTART;TZID=UTC:20261113T090000
DTEND;TZID=UTC:20261113T153000
DTSTAMP:20260423T111242
CREATED:20260402T161642Z
LAST-MODIFIED:20260402T161642Z
UID:44620-1794560400-1794583800@www.iceclasses.com
SUMMARY:Myofascial Release-Restoring Postural Imbalances
DESCRIPTION:
URL:https://www.iceclasses.com/event/myofascial-release-restoring-postural-imbalances-5/
END:VEVENT
BEGIN:VEVENT
DTSTART;TZID=UTC:20261118T090000
DTEND;TZID=UTC:20261118T163000
DTSTAMP:20260423T111242
CREATED:20260324T211711Z
LAST-MODIFIED:20260324T211711Z
UID:44525-1794992400-1795019400@www.iceclasses.com
SUMMARY:Medical Massage for Sciatica
DESCRIPTION:
URL:https://www.iceclasses.com/event/medical-massage-for-sciatica-8/
END:VEVENT
BEGIN:VEVENT
DTSTART;TZID=UTC:20261120T090000
DTEND;TZID=UTC:20261120T130000
DTSTAMP:20260423T111242
CREATED:20260320T205338Z
LAST-MODIFIED:20260320T205429Z
UID:44486-1795165200-1795179600@www.iceclasses.com
SUMMARY:Maximize the Effect of Your Chair Massage with Acupressure and Tui Na
DESCRIPTION:
URL:https://www.iceclasses.com/event/maximize-the-effect-of-your-chair-massage-with-acupressure-and-tui-na-3/
END:VEVENT
BEGIN:VEVENT
DTSTART;TZID=UTC:20261123T190000
DTEND;TZID=UTC:20261123T210000
DTSTAMP:20260423T111242
CREATED:20260402T210053Z
LAST-MODIFIED:20260402T210053Z
UID:44652-1795460400-1795467600@www.iceclasses.com
SUMMARY:Live Webinar: Treating Anxiety and Depression with Nutrition
DESCRIPTION:
URL:https://www.iceclasses.com/event/live-webinar-treating-anxiety-and-depression-with-nutrition-13/
END:VEVENT
BEGIN:VEVENT
DTSTART;TZID=UTC:20261130T090000
DTEND;TZID=UTC:20261130T153000
DTSTAMP:20260423T111242
CREATED:20260402T163538Z
LAST-MODIFIED:20260402T163538Z
UID:44623-1796029200-1796052600@www.iceclasses.com
SUMMARY:Sports Massage and Integrated Stretching Techniques
DESCRIPTION:
URL:https://www.iceclasses.com/event/sports-massage-and-integrated-stretching-techniques-2/
END:VEVENT
END:VCALENDAR