BEGIN:VCALENDAR
VERSION:2.0
PRODID:-//ICE Classes - ECPv6.15.20//NONSGML v1.0//EN
CALSCALE:GREGORIAN
METHOD:PUBLISH
X-WR-CALNAME:ICE Classes
X-ORIGINAL-URL:https://www.iceclasses.com
X-WR-CALDESC:Events for ICE Classes
REFRESH-INTERVAL;VALUE=DURATION:PT1H
X-Robots-Tag:noindex
X-PUBLISHED-TTL:PT1H
BEGIN:VTIMEZONE
TZID:UTC
BEGIN:STANDARD
TZOFFSETFROM:+0000
TZOFFSETTO:+0000
TZNAME:UTC
DTSTART:20240101T000000
END:STANDARD
END:VTIMEZONE
BEGIN:VEVENT
DTSTART;TZID=UTC:20251215T180000
DTEND;TZID=UTC:20251215T210000
DTSTAMP:20260423T171921
CREATED:20250923T221337Z
LAST-MODIFIED:20251002T173214Z
UID:42766-1765821600-1765832400@www.iceclasses.com
SUMMARY:Live Webinar: Adolescent Health Issues
DESCRIPTION:
URL:https://www.iceclasses.com/event/live-webinar-adolescent-health-issues-13/
END:VEVENT
BEGIN:VEVENT
DTSTART;TZID=UTC:20251214T090000
DTEND;TZID=UTC:20251215T170000
DTSTAMP:20260423T171921
CREATED:20251104T220851Z
LAST-MODIFIED:20251104T220851Z
UID:43042-1765702800-1765818000@www.iceclasses.com
SUMMARY:Infant Massage Therapy and Technique
DESCRIPTION:
URL:https://www.iceclasses.com/event/infant-massage-therapy-and-technique-15/
END:VEVENT
BEGIN:VEVENT
DTSTART;TZID=UTC:20251214T080000
DTEND;TZID=UTC:20251214T143000
DTSTAMP:20260423T171921
CREATED:20251114T155724Z
LAST-MODIFIED:20251114T160406Z
UID:43139-1765699200-1765722600@www.iceclasses.com
SUMMARY:Grounding & Bonding of Electrical Services\, Electrical Systems & Equipment\, Article 250\, Fire Alarm Systems
DESCRIPTION:
URL:https://www.iceclasses.com/event/grounding-bonding-of-electrical-services-electrical-systems-equipment-article-250-fire-alarm-systems/
END:VEVENT
BEGIN:VEVENT
DTSTART;TZID=UTC:20251214T080000
DTEND;TZID=UTC:20251214T130000
DTSTAMP:20260423T171921
CREATED:20251203T185520Z
LAST-MODIFIED:20251203T185938Z
UID:43318-1765699200-1765717200@www.iceclasses.com
SUMMARY:Article 100 NEC Definitions – Back to Basics
DESCRIPTION:
URL:https://www.iceclasses.com/event/article-100-nec-definitions-back-to-basics-2/
CATEGORIES:Electrical
END:VEVENT
BEGIN:VEVENT
DTSTART;TZID=UTC:20251211T180000
DTEND;TZID=UTC:20251211T210000
DTSTAMP:20260423T171921
CREATED:20251030T181236Z
LAST-MODIFIED:20251030T181650Z
UID:43016-1765476000-1765486800@www.iceclasses.com
SUMMARY:Live Webinar: Myofascial Release for Performance
DESCRIPTION:
URL:https://www.iceclasses.com/event/myofascial-release-for-performance/
END:VEVENT
BEGIN:VEVENT
DTSTART;TZID=UTC:20251211T180000
DTEND;TZID=UTC:20251211T210000
DTSTAMP:20260423T171921
CREATED:20251016T162015Z
LAST-MODIFIED:20251016T162015Z
UID:42892-1765476000-1765486800@www.iceclasses.com
SUMMARY:Quality Control in Construction
DESCRIPTION:
URL:https://www.iceclasses.com/event/quality-control-in-construction/
CATEGORIES:Professional Engineers
END:VEVENT
BEGIN:VEVENT
DTSTART;TZID=UTC:20251211T090000
DTEND;TZID=UTC:20251211T153000
DTSTAMP:20260423T171921
CREATED:20251113T184507Z
LAST-MODIFIED:20251113T184507Z
UID:43131-1765443600-1765467000@www.iceclasses.com
SUMMARY:Prevention of Musculoskeletal Injuries through Proper Exercise Intervention
DESCRIPTION:
URL:https://www.iceclasses.com/event/prevention-of-musculoskeletal-injuries-through-proper-exercise-intervention-23/
END:VEVENT
BEGIN:VEVENT
DTSTART;TZID=UTC:20251210T190000
DTEND;TZID=UTC:20251210T210000
DTSTAMP:20260423T171921
CREATED:20250919T203012Z
LAST-MODIFIED:20250919T203012Z
UID:42746-1765393200-1765400400@www.iceclasses.com
SUMMARY:Live Webinar: Treating Anxiety and Depression with Nutrition
DESCRIPTION:
URL:https://www.iceclasses.com/event/live-webinar-treating-anxiety-and-depression-with-nutrition-8/
END:VEVENT
BEGIN:VEVENT
DTSTART;TZID=UTC:20251210T150000
DTEND;TZID=UTC:20251210T200000
DTSTAMP:20260423T171921
CREATED:20250529T171249Z
LAST-MODIFIED:20250529T171249Z
UID:41865-1765378800-1765396800@www.iceclasses.com
SUMMARY:HVACR Contractors 5-Hour Class Required Continuing Education: 2026 Renewal
DESCRIPTION:
URL:https://www.iceclasses.com/event/hvacr-contractors-5-hour-class-required-continuing-education-2026-renewal-4/
CATEGORIES:Hvacr Contractors
END:VEVENT
BEGIN:VEVENT
DTSTART;TZID=UTC:20251210T150000
DTEND;TZID=UTC:20251210T160000
DTSTAMP:20260423T171921
CREATED:20250529T171023Z
LAST-MODIFIED:20250529T171023Z
UID:41858-1765378800-1765382400@www.iceclasses.com
SUMMARY:HVACR – One Hour Course for Plumbers Only
DESCRIPTION:
URL:https://www.iceclasses.com/event/hvacr-one-hour-course-for-plumbers-only-4/
END:VEVENT
BEGIN:VEVENT
DTSTART;TZID=UTC:20251209T190000
DTEND;TZID=UTC:20251209T210000
DTSTAMP:20260423T171921
CREATED:20251028T182151Z
LAST-MODIFIED:20251028T182151Z
UID:42998-1765306800-1765314000@www.iceclasses.com
SUMMARY:Herpes Awareness
DESCRIPTION:
URL:https://www.iceclasses.com/event/herpes-awareness-11/
END:VEVENT
BEGIN:VEVENT
DTSTART;TZID=UTC:20251208T183000
DTEND;TZID=UTC:20251208T203000
DTSTAMP:20260423T171921
CREATED:20251016T162152Z
LAST-MODIFIED:20251016T163310Z
UID:42894-1765218600-1765225800@www.iceclasses.com
SUMMARY:Ethics for Engineering
DESCRIPTION:
URL:https://www.iceclasses.com/event/ethics-for-engineering/
CATEGORIES:Professional Engineers
END:VEVENT
BEGIN:VEVENT
DTSTART;TZID=UTC:20251207T080000
DTEND;TZID=UTC:20251207T143000
DTSTAMP:20260423T171921
CREATED:20251114T155911Z
LAST-MODIFIED:20251114T160954Z
UID:43141-1765094400-1765117800@www.iceclasses.com
SUMMARY:Residential Wiring
DESCRIPTION:
URL:https://www.iceclasses.com/event/residential-wiring-6-ceus/
END:VEVENT
BEGIN:VEVENT
DTSTART;TZID=UTC:20251206T080000
DTEND;TZID=UTC:20251206T130000
DTSTAMP:20260423T171921
CREATED:20250529T171217Z
LAST-MODIFIED:20250529T171217Z
UID:41863-1765008000-1765026000@www.iceclasses.com
SUMMARY:HVACR Contractors 5-Hour Class Required Continuing Education: 2026 Renewal
DESCRIPTION:
URL:https://www.iceclasses.com/event/hvacr-contractors-5-hour-class-required-continuing-education-2026-renewal-3/
CATEGORIES:Hvacr Contractors
END:VEVENT
BEGIN:VEVENT
DTSTART;TZID=UTC:20251206T080000
DTEND;TZID=UTC:20251206T090000
DTSTAMP:20260423T171921
CREATED:20250529T170950Z
LAST-MODIFIED:20250529T170950Z
UID:41856-1765008000-1765011600@www.iceclasses.com
SUMMARY:HVACR – One Hour Course for Plumbers Only
DESCRIPTION:
URL:https://www.iceclasses.com/event/hvacr-one-hour-course-for-plumbers-only-3/
END:VEVENT
BEGIN:VEVENT
DTSTART;TZID=UTC:20251205T090000
DTEND;TZID=UTC:20251207T173000
DTSTAMP:20260423T171921
CREATED:20251003T141035Z
LAST-MODIFIED:20251003T141035Z
UID:42813-1764925200-1765128600@www.iceclasses.com
SUMMARY:The Art of Visceral Manipulation - Three Day Course (Live Webinar or Attend at Our School)
DESCRIPTION:
URL:https://www.iceclasses.com/event/the-art-of-visceral-manipulation-three-day-course-live-webinar-or-attend-at-our-school/
END:VEVENT
BEGIN:VEVENT
DTSTART;TZID=UTC:20251204T090000
DTEND;TZID=UTC:20251204T153000
DTSTAMP:20260423T171921
CREATED:20251110T190336Z
LAST-MODIFIED:20251110T190336Z
UID:43083-1764838800-1764862200@www.iceclasses.com
SUMMARY:Applied Kinesiology for Physical Therapy
DESCRIPTION:
URL:https://www.iceclasses.com/event/applied-kinesiology-for-physical-therapy-3/
END:VEVENT
BEGIN:VEVENT
DTSTART;TZID=UTC:20251204T083000
DTEND;TZID=UTC:20251204T123000
DTSTAMP:20260423T171921
CREATED:20251029T121959Z
LAST-MODIFIED:20251029T121959Z
UID:43007-1764837000-1764851400@www.iceclasses.com
SUMMARY:Rights and Responsibilities in the Lands of Others: The Effect of Easements on Surveyors' Work
DESCRIPTION:
URL:https://www.iceclasses.com/event/rights-and-responsibilities-in-the-lands-of-others-the-effect-of-easements-on-surveyors-work-2/
CATEGORIES:Land Surveyors,Professional Engineers
END:VEVENT
BEGIN:VEVENT
DTSTART;TZID=UTC:20251203T183000
DTEND;TZID=UTC:20251203T211500
DTSTAMP:20260423T171921
CREATED:20250513T211623Z
LAST-MODIFIED:20250513T211623Z
UID:41741-1764786600-1764796500@www.iceclasses.com
SUMMARY:PT Ethics
DESCRIPTION:
URL:https://www.iceclasses.com/event/pt-ethics-6/
END:VEVENT
BEGIN:VEVENT
DTSTART;TZID=UTC:20251203T090000
DTEND;TZID=UTC:20251203T153000
DTSTAMP:20260423T171921
CREATED:20251111T215722Z
LAST-MODIFIED:20251111T215722Z
UID:43102-1764752400-1764775800@www.iceclasses.com
SUMMARY:Thai Massage: Theory and Hands-On Practice
DESCRIPTION:
URL:https://www.iceclasses.com/event/thai-massage-theory-and-hands-on-practice-21/
END:VEVENT
BEGIN:VEVENT
DTSTART;TZID=UTC:20251202T180000
DTEND;TZID=UTC:20251202T210000
DTSTAMP:20260423T171921
CREATED:20250923T221025Z
LAST-MODIFIED:20250923T221025Z
UID:42764-1764698400-1764709200@www.iceclasses.com
SUMMARY:Live Webinar: New Research on Nervous System Diseases
DESCRIPTION:
URL:https://www.iceclasses.com/event/live-webinar-new-research-on-nervous-system-diseases-3/
END:VEVENT
BEGIN:VEVENT
DTSTART;TZID=UTC:20251201T180000
DTEND;TZID=UTC:20251201T210000
DTSTAMP:20260423T171921
CREATED:20251016T161412Z
LAST-MODIFIED:20251016T161412Z
UID:42890-1764612000-1764622800@www.iceclasses.com
SUMMARY:Construction Estimating and Scheduling
DESCRIPTION:
URL:https://www.iceclasses.com/event/construction-estimating-and-scheduling/
CATEGORIES:Professional Engineers
END:VEVENT
BEGIN:VEVENT
DTSTART;TZID=UTC:20251130T080000
DTEND;TZID=UTC:20251130T143000
DTSTAMP:20260423T171921
CREATED:20251114T155603Z
LAST-MODIFIED:20251114T160743Z
UID:43137-1764489600-1764513000@www.iceclasses.com
SUMMARY:Electrical Calculations and Review
DESCRIPTION:
URL:https://www.iceclasses.com/event/electrical-calculations-and-review-6-credits/
END:VEVENT
BEGIN:VEVENT
DTSTART;TZID=UTC:20251124T090000
DTEND;TZID=UTC:20251124T130000
DTSTAMP:20260423T171921
CREATED:20251022T150449Z
LAST-MODIFIED:20251022T150449Z
UID:42955-1763974800-1763989200@www.iceclasses.com
SUMMARY:Core Strengthening
DESCRIPTION:
URL:https://www.iceclasses.com/event/core-strengthening-29/
END:VEVENT
BEGIN:VEVENT
DTSTART;TZID=UTC:20251123T083000
DTEND;TZID=UTC:20251123T123000
DTSTAMP:20260423T171921
CREATED:20250806T172010Z
LAST-MODIFIED:20250806T172010Z
UID:42396-1763886600-1763901000@www.iceclasses.com
SUMMARY:Adverse Possession: When & How This Happens & How to Protect an Innocent Private Owner Against this Regulation
DESCRIPTION:
URL:https://www.iceclasses.com/event/adverse-possession-when-how-this-happens-how-to-protect-an-innocent-private-owner-against-this-regulation-2/
CATEGORIES:Land Surveyors,Professional Engineers
END:VEVENT
BEGIN:VEVENT
DTSTART;TZID=UTC:20251123T080000
DTEND;TZID=UTC:20251123T143000
DTSTAMP:20260423T171921
CREATED:20251114T155315Z
LAST-MODIFIED:20251121T160137Z
UID:43135-1763884800-1763908200@www.iceclasses.com
SUMMARY:Understanding Legal Responsibilites and On-Site Supervision
DESCRIPTION:
URL:https://www.iceclasses.com/event/motors-feeders-controllers-disconnect-switches-calculations-and-overcurrent-protection-6-ceus/
CATEGORIES:Electrical
END:VEVENT
BEGIN:VEVENT
DTSTART;TZID=UTC:20251121T180000
DTEND;TZID=UTC:20251121T210000
DTSTAMP:20260423T171921
CREATED:20251121T165339Z
LAST-MODIFIED:20251121T170214Z
UID:43200-1763748000-1763758800@www.iceclasses.com
SUMMARY:Article 100 NEC Definitions – Back to Basics
DESCRIPTION:This is a 2 day class; you must attend both days to earn 6 Ceu’s
URL:https://www.iceclasses.com/event/article-100-nec-definitions-back-to-basics/
CATEGORIES:Electrical
END:VEVENT
BEGIN:VEVENT
DTSTART;TZID=UTC:20251120T190000
DTEND;TZID=UTC:20251120T210000
DTSTAMP:20260423T171921
CREATED:20251028T182043Z
LAST-MODIFIED:20251028T182043Z
UID:42996-1763665200-1763672400@www.iceclasses.com
SUMMARY:Herpes Awareness
DESCRIPTION:
URL:https://www.iceclasses.com/event/herpes-awareness-10/
END:VEVENT
BEGIN:VEVENT
DTSTART;TZID=UTC:20251119T180000
DTEND;TZID=UTC:20251119T210000
DTSTAMP:20260423T171921
CREATED:20250923T220714Z
LAST-MODIFIED:20250923T220714Z
UID:42762-1763575200-1763586000@www.iceclasses.com
SUMMARY:Live Webinar: Women's Health Issues
DESCRIPTION:
URL:https://www.iceclasses.com/event/live-webinar-womens-health-issues/
END:VEVENT
BEGIN:VEVENT
DTSTART;TZID=UTC:20251118T190000
DTEND;TZID=UTC:20251118T210000
DTSTAMP:20260423T171921
CREATED:20250919T191103Z
LAST-MODIFIED:20250919T191103Z
UID:42741-1763492400-1763499600@www.iceclasses.com
SUMMARY:Live Webinar: Building Your Immune System with Food and Nutrients
DESCRIPTION:
URL:https://www.iceclasses.com/event/live-webinar-building-your-immune-system-with-food-and-nutrients-30/
END:VEVENT
END:VCALENDAR