BEGIN:VCALENDAR
VERSION:2.0
PRODID:-//ICE Classes - ECPv6.15.20//NONSGML v1.0//EN
CALSCALE:GREGORIAN
METHOD:PUBLISH
X-WR-CALNAME:ICE Classes
X-ORIGINAL-URL:https://www.iceclasses.com
X-WR-CALDESC:Events for ICE Classes
REFRESH-INTERVAL;VALUE=DURATION:PT1H
X-Robots-Tag:noindex
X-PUBLISHED-TTL:PT1H
BEGIN:VTIMEZONE
TZID:UTC
BEGIN:STANDARD
TZOFFSETFROM:+0000
TZOFFSETTO:+0000
TZNAME:UTC
DTSTART:20240101T000000
END:STANDARD
END:VTIMEZONE
BEGIN:VEVENT
DTSTART;TZID=UTC:20260119T180000
DTEND;TZID=UTC:20260119T210000
DTSTAMP:20260423T143321
CREATED:20250905T160957Z
LAST-MODIFIED:20250905T160957Z
UID:42675-1768845600-1768856400@www.iceclasses.com
SUMMARY:Live Webinar: Myofascial Release for Performance
DESCRIPTION:
URL:https://www.iceclasses.com/event/live-webinar-myofascial-release-for-performance-7/
END:VEVENT
BEGIN:VEVENT
DTSTART;TZID=UTC:20260118T080000
DTEND;TZID=UTC:20260118T143000
DTSTAMP:20260423T143321
CREATED:20251121T162408Z
LAST-MODIFIED:20251121T163615Z
UID:43187-1768723200-1768746600@www.iceclasses.com
SUMMARY:Article 670 Industrial Machinery  &  Articles 700.5\, 700.6\, 700.7-Transfer Equipment\, Signals & Signs
DESCRIPTION:
URL:https://www.iceclasses.com/event/article-670-industrial-machinery-articles-700-5-700-6-700-7-transfer-equipment-signals-signs/
CATEGORIES:Electrical
END:VEVENT
BEGIN:VEVENT
DTSTART;TZID=UTC:20260118T080000
DTEND;TZID=UTC:20260118T130000
DTSTAMP:20260423T143321
CREATED:20251113T141107Z
LAST-MODIFIED:20251113T141107Z
UID:43119-1768723200-1768741200@www.iceclasses.com
SUMMARY:HVACR Contractors 5-Hour Class Required Continuing Education: 2026 Renewal
DESCRIPTION:First Hour is for Plumbers as well that hold an HVACR License
URL:https://www.iceclasses.com/event/hvacr-contractors-5-hour-class-required-continuing-education-2026-renewal-6/
CATEGORIES:Hvacr Contractors,Plumbers
END:VEVENT
BEGIN:VEVENT
DTSTART;TZID=UTC:20260116T090000
DTEND;TZID=UTC:20260116T153000
DTSTAMP:20260423T143321
CREATED:20251030T182329Z
LAST-MODIFIED:20251030T182329Z
UID:43019-1768554000-1768577400@www.iceclasses.com
SUMMARY:Stretching for Health and Wellness
DESCRIPTION:
URL:https://www.iceclasses.com/event/stretching-for-health-and-wellness-7/
END:VEVENT
BEGIN:VEVENT
DTSTART;TZID=UTC:20260115T190000
DTEND;TZID=UTC:20260115T210000
DTSTAMP:20260423T143321
CREATED:20251229T185228Z
LAST-MODIFIED:20251229T185228Z
UID:43478-1768503600-1768510800@www.iceclasses.com
SUMMARY:Shingles-The Forgotten Herpes Virus
DESCRIPTION:
URL:https://www.iceclasses.com/event/shingles-the-forgotten-herpes-virus-10/
END:VEVENT
BEGIN:VEVENT
DTSTART;TZID=UTC:20260115T090000
DTEND;TZID=UTC:20260115T153000
DTSTAMP:20260423T143321
CREATED:20251001T190120Z
LAST-MODIFIED:20251001T190120Z
UID:42801-1768467600-1768491000@www.iceclasses.com
SUMMARY:Prevention of Musculoskeletal Injuries through Proper Exercise Intervention
DESCRIPTION:
URL:https://www.iceclasses.com/event/prevention-of-musculoskeletal-injuries-through-proper-exercise-intervention-22/
END:VEVENT
BEGIN:VEVENT
DTSTART;TZID=UTC:20260113T190000
DTEND;TZID=UTC:20260113T200000
DTSTAMP:20260423T143321
CREATED:20251216T215905Z
LAST-MODIFIED:20251216T215905Z
UID:43429-1768330800-1768334400@www.iceclasses.com
SUMMARY:BodyBell Method Basics (Live Webinar)
DESCRIPTION:
URL:https://www.iceclasses.com/event/bodybell-method-basics-live-webinar/
END:VEVENT
BEGIN:VEVENT
DTSTART;TZID=UTC:20260112T190000
DTEND;TZID=UTC:20260112T210000
DTSTAMP:20260423T143321
CREATED:20251229T190322Z
LAST-MODIFIED:20251229T190322Z
UID:43481-1768244400-1768251600@www.iceclasses.com
SUMMARY:Hepatitis Uncovered: Understanding\, Preventing and Managing Liver Inflammation
DESCRIPTION:
URL:https://www.iceclasses.com/event/hepatitis-uncovered-understanding-preventing-and-managing-liver-inflammation-4/
END:VEVENT
BEGIN:VEVENT
DTSTART;TZID=UTC:20260111T090000
DTEND;TZID=UTC:20260111T130000
DTSTAMP:20260423T143321
CREATED:20251022T150535Z
LAST-MODIFIED:20251124T210012Z
UID:42957-1768122000-1768136400@www.iceclasses.com
SUMMARY:Core Strengthening
DESCRIPTION:
URL:https://www.iceclasses.com/event/core-strengthening-30/
END:VEVENT
BEGIN:VEVENT
DTSTART;TZID=UTC:20260109T090000
DTEND;TZID=UTC:20260109T130000
DTSTAMP:20260423T143321
CREATED:20251208T192546Z
LAST-MODIFIED:20251208T192546Z
UID:43357-1767949200-1767963600@www.iceclasses.com
SUMMARY:Acupressure
DESCRIPTION:
URL:https://www.iceclasses.com/event/acupressure-31/
END:VEVENT
BEGIN:VEVENT
DTSTART;TZID=UTC:20260108T183000
DTEND;TZID=UTC:20260108T211500
DTSTAMP:20260423T143321
CREATED:20251208T193025Z
LAST-MODIFIED:20251208T193025Z
UID:43359-1767897000-1767906900@www.iceclasses.com
SUMMARY:PT ETHICS
DESCRIPTION:
URL:https://www.iceclasses.com/event/pt-ethics-8/
END:VEVENT
BEGIN:VEVENT
DTSTART;TZID=UTC:20260108T090000
DTEND;TZID=UTC:20260108T153000
DTSTAMP:20260423T143321
CREATED:20251002T174716Z
LAST-MODIFIED:20251002T174716Z
UID:42806-1767862800-1767886200@www.iceclasses.com
SUMMARY:Thai Massage: Theory and Hands-On Practice
DESCRIPTION:
URL:https://www.iceclasses.com/event/thai-massage-theory-and-hands-on-practice-19/
END:VEVENT
BEGIN:VEVENT
DTSTART;TZID=UTC:20260107T180000
DTEND;TZID=UTC:20260107T210000
DTSTAMP:20260423T143321
CREATED:20250923T221629Z
LAST-MODIFIED:20250923T221629Z
UID:42768-1767808800-1767819600@www.iceclasses.com
SUMMARY:LIVE WEBINAR: THE MIND/GUT CONNECTION
DESCRIPTION:
URL:https://www.iceclasses.com/event/live-webinar-the-mind-gut-connection-16/
END:VEVENT
BEGIN:VEVENT
DTSTART;TZID=UTC:20260104T090000
DTEND;TZID=UTC:20260104T153000
DTSTAMP:20260423T143321
CREATED:20251121T141440Z
LAST-MODIFIED:20251121T141440Z
UID:43173-1767517200-1767540600@www.iceclasses.com
SUMMARY:Shockwave Therapy: The Next Generation of Healing
DESCRIPTION:
URL:https://www.iceclasses.com/event/shockwave-therapy-the-next-generation-of-healing/
END:VEVENT
BEGIN:VEVENT
DTSTART;TZID=UTC:20251223T190000
DTEND;TZID=UTC:20251223T210000
DTSTAMP:20260423T143321
CREATED:20251027T215753Z
LAST-MODIFIED:20251027T215753Z
UID:42989-1766516400-1766523600@www.iceclasses.com
SUMMARY:Live Webinar: Hand Hygiene Protocols: A Critical Step in Patient Safety
DESCRIPTION:
URL:https://www.iceclasses.com/event/live-webinar-hand-hygiene-protocols-a-critical-step-in-patient-safety-2/
END:VEVENT
BEGIN:VEVENT
DTSTART;TZID=UTC:20251221T090000
DTEND;TZID=UTC:20251221T173000
DTSTAMP:20260423T143321
CREATED:20251111T222449Z
LAST-MODIFIED:20251111T222449Z
UID:43104-1766307600-1766338200@www.iceclasses.com
SUMMARY:Reflexology-The Roth Method
DESCRIPTION:
URL:https://www.iceclasses.com/event/reflexology-the-roth-method-12/
END:VEVENT
BEGIN:VEVENT
DTSTART;TZID=UTC:20251221T083000
DTEND;TZID=UTC:20251221T123000
DTSTAMP:20260423T143321
CREATED:20251107T180241Z
LAST-MODIFIED:20251107T180241Z
UID:43055-1766305800-1766320200@www.iceclasses.com
SUMMARY:Deeds: How to Deal with Ambiguous Legal Deed Descriptions
DESCRIPTION:
URL:https://www.iceclasses.com/event/deeds-how-to-deal-with-ambiguous-legal-deed-descriptions-4/
END:VEVENT
BEGIN:VEVENT
DTSTART;TZID=UTC:20251218T183000
DTEND;TZID=UTC:20251218T211500
DTSTAMP:20260423T143321
CREATED:20250513T211717Z
LAST-MODIFIED:20250513T211717Z
UID:41743-1766082600-1766092500@www.iceclasses.com
SUMMARY:PT Ethics
DESCRIPTION:
URL:https://www.iceclasses.com/event/pt-ethics-7/
END:VEVENT
BEGIN:VEVENT
DTSTART;TZID=UTC:20251216T190000
DTEND;TZID=UTC:20251216T210000
DTSTAMP:20260423T143321
CREATED:20251028T183129Z
LAST-MODIFIED:20251028T183129Z
UID:43002-1765911600-1765918800@www.iceclasses.com
SUMMARY:Shingles-The Forgotten Herpes Virus
DESCRIPTION:
URL:https://www.iceclasses.com/event/shingles-the-forgotten-herpes-virus-9/
END:VEVENT
BEGIN:VEVENT
DTSTART;TZID=UTC:20251215T180000
DTEND;TZID=UTC:20251215T210000
DTSTAMP:20260423T143321
CREATED:20251024T155742Z
LAST-MODIFIED:20251024T155742Z
UID:42980-1765821600-1765832400@www.iceclasses.com
SUMMARY:Preservation for Engineers
DESCRIPTION:
URL:https://www.iceclasses.com/event/preservation-for-engineers/
CATEGORIES:Professional Engineers
END:VEVENT
BEGIN:VEVENT
DTSTART;TZID=UTC:20251215T180000
DTEND;TZID=UTC:20251215T210000
DTSTAMP:20260423T143321
CREATED:20250923T221337Z
LAST-MODIFIED:20251002T173214Z
UID:42766-1765821600-1765832400@www.iceclasses.com
SUMMARY:Live Webinar: Adolescent Health Issues
DESCRIPTION:
URL:https://www.iceclasses.com/event/live-webinar-adolescent-health-issues-13/
END:VEVENT
BEGIN:VEVENT
DTSTART;TZID=UTC:20251214T090000
DTEND;TZID=UTC:20251215T170000
DTSTAMP:20260423T143321
CREATED:20251104T220851Z
LAST-MODIFIED:20251104T220851Z
UID:43042-1765702800-1765818000@www.iceclasses.com
SUMMARY:Infant Massage Therapy and Technique
DESCRIPTION:
URL:https://www.iceclasses.com/event/infant-massage-therapy-and-technique-15/
END:VEVENT
BEGIN:VEVENT
DTSTART;TZID=UTC:20251214T080000
DTEND;TZID=UTC:20251214T143000
DTSTAMP:20260423T143321
CREATED:20251114T155724Z
LAST-MODIFIED:20251114T160406Z
UID:43139-1765699200-1765722600@www.iceclasses.com
SUMMARY:Grounding & Bonding of Electrical Services\, Electrical Systems & Equipment\, Article 250\, Fire Alarm Systems
DESCRIPTION:
URL:https://www.iceclasses.com/event/grounding-bonding-of-electrical-services-electrical-systems-equipment-article-250-fire-alarm-systems/
END:VEVENT
BEGIN:VEVENT
DTSTART;TZID=UTC:20251214T080000
DTEND;TZID=UTC:20251214T130000
DTSTAMP:20260423T143321
CREATED:20251203T185520Z
LAST-MODIFIED:20251203T185938Z
UID:43318-1765699200-1765717200@www.iceclasses.com
SUMMARY:Article 100 NEC Definitions – Back to Basics
DESCRIPTION:
URL:https://www.iceclasses.com/event/article-100-nec-definitions-back-to-basics-2/
CATEGORIES:Electrical
END:VEVENT
BEGIN:VEVENT
DTSTART;TZID=UTC:20251211T180000
DTEND;TZID=UTC:20251211T210000
DTSTAMP:20260423T143321
CREATED:20251030T181236Z
LAST-MODIFIED:20251030T181650Z
UID:43016-1765476000-1765486800@www.iceclasses.com
SUMMARY:Live Webinar: Myofascial Release for Performance
DESCRIPTION:
URL:https://www.iceclasses.com/event/myofascial-release-for-performance/
END:VEVENT
BEGIN:VEVENT
DTSTART;TZID=UTC:20251211T180000
DTEND;TZID=UTC:20251211T210000
DTSTAMP:20260423T143321
CREATED:20251016T162015Z
LAST-MODIFIED:20251016T162015Z
UID:42892-1765476000-1765486800@www.iceclasses.com
SUMMARY:Quality Control in Construction
DESCRIPTION:
URL:https://www.iceclasses.com/event/quality-control-in-construction/
CATEGORIES:Professional Engineers
END:VEVENT
BEGIN:VEVENT
DTSTART;TZID=UTC:20251211T090000
DTEND;TZID=UTC:20251211T153000
DTSTAMP:20260423T143321
CREATED:20251113T184507Z
LAST-MODIFIED:20251113T184507Z
UID:43131-1765443600-1765467000@www.iceclasses.com
SUMMARY:Prevention of Musculoskeletal Injuries through Proper Exercise Intervention
DESCRIPTION:
URL:https://www.iceclasses.com/event/prevention-of-musculoskeletal-injuries-through-proper-exercise-intervention-23/
END:VEVENT
BEGIN:VEVENT
DTSTART;TZID=UTC:20251210T190000
DTEND;TZID=UTC:20251210T210000
DTSTAMP:20260423T143321
CREATED:20250919T203012Z
LAST-MODIFIED:20250919T203012Z
UID:42746-1765393200-1765400400@www.iceclasses.com
SUMMARY:Live Webinar: Treating Anxiety and Depression with Nutrition
DESCRIPTION:
URL:https://www.iceclasses.com/event/live-webinar-treating-anxiety-and-depression-with-nutrition-8/
END:VEVENT
BEGIN:VEVENT
DTSTART;TZID=UTC:20251210T150000
DTEND;TZID=UTC:20251210T200000
DTSTAMP:20260423T143321
CREATED:20250529T171249Z
LAST-MODIFIED:20250529T171249Z
UID:41865-1765378800-1765396800@www.iceclasses.com
SUMMARY:HVACR Contractors 5-Hour Class Required Continuing Education: 2026 Renewal
DESCRIPTION:
URL:https://www.iceclasses.com/event/hvacr-contractors-5-hour-class-required-continuing-education-2026-renewal-4/
CATEGORIES:Hvacr Contractors
END:VEVENT
BEGIN:VEVENT
DTSTART;TZID=UTC:20251210T150000
DTEND;TZID=UTC:20251210T160000
DTSTAMP:20260423T143321
CREATED:20250529T171023Z
LAST-MODIFIED:20250529T171023Z
UID:41858-1765378800-1765382400@www.iceclasses.com
SUMMARY:HVACR – One Hour Course for Plumbers Only
DESCRIPTION:
URL:https://www.iceclasses.com/event/hvacr-one-hour-course-for-plumbers-only-4/
END:VEVENT
END:VCALENDAR