BEGIN:VCALENDAR
VERSION:2.0
PRODID:-//ICE Classes - ECPv6.15.20//NONSGML v1.0//EN
CALSCALE:GREGORIAN
METHOD:PUBLISH
X-WR-CALNAME:ICE Classes
X-ORIGINAL-URL:https://www.iceclasses.com
X-WR-CALDESC:Events for ICE Classes
REFRESH-INTERVAL;VALUE=DURATION:PT1H
X-Robots-Tag:noindex
X-PUBLISHED-TTL:PT1H
BEGIN:VTIMEZONE
TZID:UTC
BEGIN:STANDARD
TZOFFSETFROM:+0000
TZOFFSETTO:+0000
TZNAME:UTC
DTSTART:20250101T000000
END:STANDARD
END:VTIMEZONE
BEGIN:VEVENT
DTSTART;TZID=UTC:20260521T160000
DTEND;TZID=UTC:20260521T210000
DTSTAMP:20260423T060700
CREATED:20260217T190558Z
LAST-MODIFIED:20260217T190558Z
UID:44187-1779379200-1779397200@www.iceclasses.com
SUMMARY:HVACR Contractors 5-Hour Class Required Continuing Education: 2026 Renewal
DESCRIPTION:
URL:https://www.iceclasses.com/event/hvacr-contractors-5-hour-class-required-continuing-education-2026-renewal-16/
CATEGORIES:Hvacr Contractors
END:VEVENT
BEGIN:VEVENT
DTSTART;TZID=UTC:20260531T080000
DTEND;TZID=UTC:20260531T143000
DTSTAMP:20260423T060700
CREATED:20260318T125422Z
LAST-MODIFIED:20260318T125422Z
UID:44440-1780214400-1780237800@www.iceclasses.com
SUMMARY:Article 100 NEC Definitions – Back to Basics
DESCRIPTION:
URL:https://www.iceclasses.com/event/article-100-nec-definitions-back-to-basics-3/
CATEGORIES:Electrical
END:VEVENT
BEGIN:VEVENT
DTSTART;TZID=UTC:20260531T090000
DTEND;TZID=UTC:20260531T173000
DTSTAMP:20260423T060700
CREATED:20260420T140027Z
LAST-MODIFIED:20260420T140027Z
UID:44748-1780218000-1780248600@www.iceclasses.com
SUMMARY:Reflexology-The Roth Method
DESCRIPTION:
URL:https://www.iceclasses.com/event/reflexology-the-roth-method-14/
END:VEVENT
BEGIN:VEVENT
DTSTART;TZID=UTC:20260603T080000
DTEND;TZID=UTC:20260603T090000
DTSTAMP:20260423T060700
CREATED:20260217T185552Z
LAST-MODIFIED:20260217T185552Z
UID:44167-1780473600-1780477200@www.iceclasses.com
SUMMARY:HVACR – One Hour Course for Plumbers Only for the HVACR Renewal JUNE 2026 RENEWAL
DESCRIPTION:
URL:https://www.iceclasses.com/event/hvacr-one-hour-course-for-plumbers-only-for-the-hvacr-renewal-june-2026-renewal-8/
CATEGORIES:Plumbers
END:VEVENT
BEGIN:VEVENT
DTSTART;TZID=UTC:20260603T080000
DTEND;TZID=UTC:20260603T130000
DTSTAMP:20260423T060700
CREATED:20260217T190800Z
LAST-MODIFIED:20260217T190800Z
UID:44189-1780473600-1780491600@www.iceclasses.com
SUMMARY:HVACR Contractors 5-Hour Class Required Continuing Education: 2026 Renewal
DESCRIPTION:
URL:https://www.iceclasses.com/event/hvacr-contractors-5-hour-class-required-continuing-education-2026-renewal-17/
CATEGORIES:Hvacr Contractors
END:VEVENT
BEGIN:VEVENT
DTSTART;TZID=UTC:20260603T190000
DTEND;TZID=UTC:20260603T210000
DTSTAMP:20260423T060700
CREATED:20260402T205513Z
LAST-MODIFIED:20260402T205513Z
UID:44646-1780513200-1780520400@www.iceclasses.com
SUMMARY:Live Webinar: Treating Anxiety and Depression with Nutrition
DESCRIPTION:
URL:https://www.iceclasses.com/event/live-webinar-treating-anxiety-and-depression-with-nutrition-10/
END:VEVENT
BEGIN:VEVENT
DTSTART;TZID=UTC:20260607T080000
DTEND;TZID=UTC:20260607T090000
DTSTAMP:20260423T060700
CREATED:20260217T185632Z
LAST-MODIFIED:20260217T185632Z
UID:44169-1780819200-1780822800@www.iceclasses.com
SUMMARY:HVACR – One Hour Course for Plumbers Only for the HVACR Renewal JUNE 2026 RENEWAL
DESCRIPTION:
URL:https://www.iceclasses.com/event/hvacr-one-hour-course-for-plumbers-only-for-the-hvacr-renewal-june-2026-renewal-9/
CATEGORIES:Plumbers
END:VEVENT
BEGIN:VEVENT
DTSTART;TZID=UTC:20260607T080000
DTEND;TZID=UTC:20260607T130000
DTSTAMP:20260423T060700
CREATED:20260217T191541Z
LAST-MODIFIED:20260217T191541Z
UID:44193-1780819200-1780837200@www.iceclasses.com
SUMMARY:HVACR Contractors 5-Hour Class Required Continuing Education: 2026 Renewal
DESCRIPTION:
URL:https://www.iceclasses.com/event/hvacr-contractors-5-hour-class-required-continuing-education-2026-renewal-19/
CATEGORIES:Hvacr Contractors
END:VEVENT
BEGIN:VEVENT
DTSTART;TZID=UTC:20260607T080000
DTEND;TZID=UTC:20260607T143000
DTSTAMP:20260423T060700
CREATED:20260318T125600Z
LAST-MODIFIED:20260318T125600Z
UID:44442-1780819200-1780842600@www.iceclasses.com
SUMMARY:Article 670 Industrial Machinery  &  Articles 700.5\, 700.6\, 700.7-Transfer Equipment\, Signals & Signs
DESCRIPTION:
URL:https://www.iceclasses.com/event/article-670-industrial-machinery-articles-700-5-700-6-700-7-transfer-equipment-signals-signs-2/
CATEGORIES:Electrical
END:VEVENT
BEGIN:VEVENT
DTSTART;TZID=UTC:20260611T123000
DTEND;TZID=UTC:20260611T163000
DTSTAMP:20260423T060700
CREATED:20260325T153904Z
LAST-MODIFIED:20260325T153904Z
UID:44534-1781181000-1781195400@www.iceclasses.com
SUMMARY:CORE STRENGTHENING
DESCRIPTION:
URL:https://www.iceclasses.com/event/core-strengthening-32/
END:VEVENT
BEGIN:VEVENT
DTSTART;TZID=UTC:20260612T090000
DTEND;TZID=UTC:20260612T153000
DTSTAMP:20260423T060700
CREATED:20260323T171337Z
LAST-MODIFIED:20260323T171337Z
UID:44507-1781254800-1781278200@www.iceclasses.com
SUMMARY:PREVENTION OF MUSCULOSKELETAL INJURIES THROUGH PROPER EXERCISE INTERVENTION
DESCRIPTION:
URL:https://www.iceclasses.com/event/prevention-of-musculoskeletal-injuries-through-proper-exercise-intervention-25/
END:VEVENT
BEGIN:VEVENT
DTSTART;TZID=UTC:20260613T080000
DTEND;TZID=UTC:20260613T090000
DTSTAMP:20260423T060700
CREATED:20260217T185720Z
LAST-MODIFIED:20260217T185720Z
UID:44171-1781337600-1781341200@www.iceclasses.com
SUMMARY:HVACR – One Hour Course for Plumbers Only for the HVACR Renewal JUNE 2026 RENEWAL
DESCRIPTION:
URL:https://www.iceclasses.com/event/hvacr-one-hour-course-for-plumbers-only-for-the-hvacr-renewal-june-2026-renewal-10/
CATEGORIES:Plumbers
END:VEVENT
BEGIN:VEVENT
DTSTART;TZID=UTC:20260613T080000
DTEND;TZID=UTC:20260613T130000
DTSTAMP:20260423T060700
CREATED:20260217T191341Z
LAST-MODIFIED:20260217T191341Z
UID:44191-1781337600-1781355600@www.iceclasses.com
SUMMARY:HVACR Contractors 5-Hour Class Required Continuing Education: 2026 Renewal
DESCRIPTION:
URL:https://www.iceclasses.com/event/hvacr-contractors-5-hour-class-required-continuing-education-2026-renewal-18/
CATEGORIES:Hvacr Contractors
END:VEVENT
BEGIN:VEVENT
DTSTART;TZID=UTC:20260613T080000
DTEND;TZID=UTC:20260614T130000
DTSTAMP:20260423T060700
CREATED:20260318T125951Z
LAST-MODIFIED:20260318T125951Z
UID:44446-1781337600-1781442000@www.iceclasses.com
SUMMARY:New Jersey MANDATORY 10-Hour Electrical Code Course: Mandatory Class
DESCRIPTION:
URL:https://www.iceclasses.com/event/new-jersey-mandatory-10-hour-electrical-code-course-mandatory-class-12/
CATEGORIES:Electrical
END:VEVENT
BEGIN:VEVENT
DTSTART;TZID=UTC:20260617T090000
DTEND;TZID=UTC:20260617T153000
DTSTAMP:20260423T060700
CREATED:20260327T004000Z
LAST-MODIFIED:20260327T004530Z
UID:44553-1781686800-1781710200@www.iceclasses.com
SUMMARY:Thai Massage for Those with Special Medical Conditions/Physical Limitations
DESCRIPTION:
URL:https://www.iceclasses.com/event/thai-massage-for-those-with-special-medical-conditions-physical-limitations-17/
END:VEVENT
BEGIN:VEVENT
DTSTART;TZID=UTC:20260618T190000
DTEND;TZID=UTC:20260618T210000
DTSTAMP:20260423T060700
CREATED:20260324T164728Z
LAST-MODIFIED:20260324T164728Z
UID:44520-1781809200-1781816400@www.iceclasses.com
SUMMARY:Live Webinar: Hand Hygiene Protocols: A Critical Step in Patient Safety
DESCRIPTION:
URL:https://www.iceclasses.com/event/live-webinar-hand-hygiene-protocols-a-critical-step-in-patient-safety-3/
END:VEVENT
BEGIN:VEVENT
DTSTART;TZID=UTC:20260618T190000
DTEND;TZID=UTC:20260618T210000
DTSTAMP:20260423T060700
CREATED:20260403T130505Z
LAST-MODIFIED:20260403T130505Z
UID:44659-1781809200-1781816400@www.iceclasses.com
SUMMARY:2 Hour Generator Gas Piping Certification Program for Electrical Contractors
DESCRIPTION:
URL:https://www.iceclasses.com/event/2-hour-generator-gas-piping-certification-program-for-electrical-contractors-4/
CATEGORIES:Electrical
END:VEVENT
BEGIN:VEVENT
DTSTART;TZID=UTC:20260624T180000
DTEND;TZID=UTC:20260624T210000
DTSTAMP:20260423T060700
CREATED:20260402T204328Z
LAST-MODIFIED:20260402T204328Z
UID:44633-1782324000-1782334800@www.iceclasses.com
SUMMARY:Live Webinar: Breaking Nutritional Myths
DESCRIPTION:
URL:https://www.iceclasses.com/event/live-webinar-breaking-nutritional-myths-20/
END:VEVENT
BEGIN:VEVENT
DTSTART;TZID=UTC:20260625T160000
DTEND;TZID=UTC:20260625T170000
DTSTAMP:20260423T060700
CREATED:20260217T185835Z
LAST-MODIFIED:20260217T185835Z
UID:44173-1782403200-1782406800@www.iceclasses.com
SUMMARY:HVACR – One Hour Course for Plumbers Only for the HVACR Renewal JUNE 2026 RENEWAL
DESCRIPTION:
URL:https://www.iceclasses.com/event/hvacr-one-hour-course-for-plumbers-only-for-the-hvacr-renewal-june-2026-renewal-11/
CATEGORIES:Plumbers
END:VEVENT
BEGIN:VEVENT
DTSTART;TZID=UTC:20260625T160000
DTEND;TZID=UTC:20260625T210000
DTSTAMP:20260423T060700
CREATED:20260217T191809Z
LAST-MODIFIED:20260217T191809Z
UID:44195-1782403200-1782421200@www.iceclasses.com
SUMMARY:HVACR Contractors 5-Hour Class Required Continuing Education: 2026 Renewal
DESCRIPTION:
URL:https://www.iceclasses.com/event/hvacr-contractors-5-hour-class-required-continuing-education-2026-renewal-20/
CATEGORIES:Hvacr Contractors
END:VEVENT
BEGIN:VEVENT
DTSTART;TZID=UTC:20260628T080000
DTEND;TZID=UTC:20260628T090000
DTSTAMP:20260423T060700
CREATED:20260217T185940Z
LAST-MODIFIED:20260217T185940Z
UID:44175-1782633600-1782637200@www.iceclasses.com
SUMMARY:HVACR – One Hour Course for Plumbers Only for the HVACR Renewal JUNE 2026 RENEWAL
DESCRIPTION:
URL:https://www.iceclasses.com/event/hvacr-one-hour-course-for-plumbers-only-for-the-hvacr-renewal-june-2026-renewal-12/
CATEGORIES:Plumbers
END:VEVENT
BEGIN:VEVENT
DTSTART;TZID=UTC:20260628T080000
DTEND;TZID=UTC:20260628T130000
DTSTAMP:20260423T060700
CREATED:20260217T191850Z
LAST-MODIFIED:20260217T191850Z
UID:44197-1782633600-1782651600@www.iceclasses.com
SUMMARY:HVACR Contractors 5-Hour Class Required Continuing Education: 2026 Renewal
DESCRIPTION:
URL:https://www.iceclasses.com/event/hvacr-contractors-5-hour-class-required-continuing-education-2026-renewal-21/
CATEGORIES:Hvacr Contractors
END:VEVENT
BEGIN:VEVENT
DTSTART;TZID=UTC:20260628T080000
DTEND;TZID=UTC:20260628T143000
DTSTAMP:20260423T060700
CREATED:20260318T133733Z
LAST-MODIFIED:20260318T133733Z
UID:44453-1782633600-1782657000@www.iceclasses.com
SUMMARY:Strengthening Your Business as a Contractor
DESCRIPTION:
URL:https://www.iceclasses.com/event/strengthening-your-business-as-a-contractor-2/
CATEGORIES:Electrical
END:VEVENT
BEGIN:VEVENT
DTSTART;TZID=UTC:20260708T090000
DTEND;TZID=UTC:20260708T153000
DTSTAMP:20260423T060700
CREATED:20260312T220915Z
LAST-MODIFIED:20260312T220915Z
UID:44370-1783501200-1783524600@www.iceclasses.com
SUMMARY:Medical Massage for Frozen Shoulder
DESCRIPTION:
URL:https://www.iceclasses.com/event/medical-massage-for-frozen-shoulder-9/
END:VEVENT
BEGIN:VEVENT
DTSTART;TZID=UTC:20260710T090000
DTEND;TZID=UTC:20260710T130000
DTSTAMP:20260423T060700
CREATED:20260320T202648Z
LAST-MODIFIED:20260320T202648Z
UID:44470-1783674000-1783688400@www.iceclasses.com
SUMMARY:ACUPRESSURE
DESCRIPTION:
URL:https://www.iceclasses.com/event/acupressure-33/
END:VEVENT
BEGIN:VEVENT
DTSTART;TZID=UTC:20260713T190000
DTEND;TZID=UTC:20260713T210000
DTSTAMP:20260423T060700
CREATED:20260402T205018Z
LAST-MODIFIED:20260402T205018Z
UID:44641-1783969200-1783976400@www.iceclasses.com
SUMMARY:Live Webinar: Building Your Immune System with Food and Nutrients
DESCRIPTION:
URL:https://www.iceclasses.com/event/live-webinar-building-your-immune-system-with-food-and-nutrients-32/
END:VEVENT
BEGIN:VEVENT
DTSTART;TZID=UTC:20260715T190000
DTEND;TZID=UTC:20260715T210000
DTSTAMP:20260423T060700
CREATED:20260403T130559Z
LAST-MODIFIED:20260403T130559Z
UID:44662-1784142000-1784149200@www.iceclasses.com
SUMMARY:2 Hour Generator Gas Piping Certification Program for Electrical Contractors
DESCRIPTION:
URL:https://www.iceclasses.com/event/2-hour-generator-gas-piping-certification-program-for-electrical-contractors-5/
CATEGORIES:Electrical
END:VEVENT
BEGIN:VEVENT
DTSTART;TZID=UTC:20260719T080000
DTEND;TZID=UTC:20260719T143000
DTSTAMP:20260423T060700
CREATED:20260318T125759Z
LAST-MODIFIED:20260318T125759Z
UID:44444-1784448000-1784471400@www.iceclasses.com
SUMMARY:Understanding Legal Responsibilities and On-Site Supervision
DESCRIPTION:
URL:https://www.iceclasses.com/event/understanding-legal-responsibilities-and-on-site-supervision-2/
CATEGORIES:Electrical
END:VEVENT
BEGIN:VEVENT
DTSTART;TZID=UTC:20260722T090000
DTEND;TZID=UTC:20260722T163000
DTSTAMP:20260423T060700
CREATED:20260312T223456Z
LAST-MODIFIED:20260312T223618Z
UID:44373-1784710800-1784737800@www.iceclasses.com
SUMMARY:Medical Massage for Sciatica
DESCRIPTION:
URL:https://www.iceclasses.com/event/medical-massage-for-sciatica-5/
END:VEVENT
BEGIN:VEVENT
DTSTART;TZID=UTC:20260723T190000
DTEND;TZID=UTC:20260723T210000
DTSTAMP:20260423T060700
CREATED:20260316T152607Z
LAST-MODIFIED:20260316T152607Z
UID:44399-1784833200-1784840400@www.iceclasses.com
SUMMARY:Live Webinar: Ethics for the Massage Therapist
DESCRIPTION:
URL:https://www.iceclasses.com/event/live-webinar-ethics-for-the-massage-therapist-2/
END:VEVENT
END:VCALENDAR