BEGIN:VCALENDAR
VERSION:2.0
PRODID:-//ICE Classes - ECPv6.15.20//NONSGML v1.0//EN
CALSCALE:GREGORIAN
METHOD:PUBLISH
X-WR-CALNAME:ICE Classes
X-ORIGINAL-URL:https://www.iceclasses.com
X-WR-CALDESC:Events for ICE Classes
REFRESH-INTERVAL;VALUE=DURATION:PT1H
X-Robots-Tag:noindex
X-PUBLISHED-TTL:PT1H
BEGIN:VTIMEZONE
TZID:UTC
BEGIN:STANDARD
TZOFFSETFROM:+0000
TZOFFSETTO:+0000
TZNAME:UTC
DTSTART:20250101T000000
END:STANDARD
END:VTIMEZONE
BEGIN:VEVENT
DTSTART;TZID=UTC:20260401T190000
DTEND;TZID=UTC:20260401T200000
DTSTAMP:20260423T062138
CREATED:20260212T214019Z
LAST-MODIFIED:20260212T214019Z
UID:44099-1775070000-1775073600@www.iceclasses.com
SUMMARY:Live Webinar: Cannabis Education for the Healthcare Professional
DESCRIPTION:
URL:https://www.iceclasses.com/event/live-webinar-cannabis-education-for-the-healthcare-professional-4/
END:VEVENT
BEGIN:VEVENT
DTSTART;TZID=UTC:20260328T080000
DTEND;TZID=UTC:20260328T143000
DTSTAMP:20260423T062138
CREATED:20260122T192121Z
LAST-MODIFIED:20260130T174233Z
UID:43791-1774684800-1774708200@www.iceclasses.com
SUMMARY:Electrical Estimator Program
DESCRIPTION:
URL:https://www.iceclasses.com/event/electrical-estimator-program/
CATEGORIES:Electrical
END:VEVENT
BEGIN:VEVENT
DTSTART;TZID=UTC:20260326T180000
DTEND;TZID=UTC:20260326T210000
DTSTAMP:20260423T062138
CREATED:20260310T150603Z
LAST-MODIFIED:20260310T150603Z
UID:44313-1774548000-1774558800@www.iceclasses.com
SUMMARY:Live Webinar: Myofascial Release for Performance
DESCRIPTION:
URL:https://www.iceclasses.com/event/live-webinar-myofascial-release-for-performance-8/
END:VEVENT
BEGIN:VEVENT
DTSTART;TZID=UTC:20260323T190000
DTEND;TZID=UTC:20260323T210000
DTSTAMP:20260423T062138
CREATED:20260210T144614Z
LAST-MODIFIED:20260210T144614Z
UID:44056-1774292400-1774299600@www.iceclasses.com
SUMMARY:2 Hour Generator Gas Piping Certification Program for Electrical Contractors
DESCRIPTION:
URL:https://www.iceclasses.com/event/2-hour-generator-gas-piping-certification-program-for-electrical-contractors/
CATEGORIES:Electrical
END:VEVENT
BEGIN:VEVENT
DTSTART;TZID=UTC:20260323T183000
DTEND;TZID=UTC:20260323T203000
DTSTAMP:20260423T062138
CREATED:20260108T144415Z
LAST-MODIFIED:20260108T144415Z
UID:43604-1774290600-1774297800@www.iceclasses.com
SUMMARY:Inspiring Ethical Behavior: Mandatory Ethics Program
DESCRIPTION:
URL:https://www.iceclasses.com/event/inspiring-ethical-behavior-mandatory-ethics-program-7/
CATEGORIES:Professional Engineers
END:VEVENT
BEGIN:VEVENT
DTSTART;TZID=UTC:20260322T090000
DTEND;TZID=UTC:20260322T173000
DTSTAMP:20260423T062138
CREATED:20260102T214320Z
LAST-MODIFIED:20260218T221751Z
UID:43511-1774170000-1774200600@www.iceclasses.com
SUMMARY:Reflexology - The Roth Method
DESCRIPTION:
URL:https://www.iceclasses.com/event/reflexology-the-roth-method-13/
END:VEVENT
BEGIN:VEVENT
DTSTART;TZID=UTC:20260322T080000
DTEND;TZID=UTC:20260322T143000
DTSTAMP:20260423T062138
CREATED:20251121T175347Z
LAST-MODIFIED:20260316T160216Z
UID:43217-1774166400-1774189800@www.iceclasses.com
SUMMARY:6 Ceu's Article 100 NEC Definitions – Back to Basics
DESCRIPTION:
URL:https://www.iceclasses.com/event/temporary-installations-article-590-electric-vehicle-power-transfer-systems-article-625-3/
CATEGORIES:Electrical
END:VEVENT
BEGIN:VEVENT
DTSTART;TZID=UTC:20260321T083000
DTEND;TZID=UTC:20260321T123000
DTSTAMP:20260423T062138
CREATED:20260107T190738Z
LAST-MODIFIED:20260312T203947Z
UID:43574-1774081800-1774096200@www.iceclasses.com
SUMMARY:Mathematics for Land Surveyors /Engineers
DESCRIPTION:
URL:https://www.iceclasses.com/event/mathematics-for-land-surveyors-engineers-2/
CATEGORIES:Professional Engineers
END:VEVENT
BEGIN:VEVENT
DTSTART;TZID=UTC:20260315T083000
DTEND;TZID=UTC:20260315T123000
DTSTAMP:20260423T062138
CREATED:20260107T193143Z
LAST-MODIFIED:20260209T173956Z
UID:43584-1773563400-1773577800@www.iceclasses.com
SUMMARY:Boundary Survey & How to Deal with Boundary Dispute Issues
DESCRIPTION:
URL:https://www.iceclasses.com/event/boundary-survey-and-rights-liabilities/
CATEGORIES:Professional Engineers
END:VEVENT
BEGIN:VEVENT
DTSTART;TZID=UTC:20260315T080000
DTEND;TZID=UTC:20260315T143000
DTSTAMP:20260423T062138
CREATED:20260122T192251Z
LAST-MODIFIED:20260122T192251Z
UID:43793-1773561600-1773585000@www.iceclasses.com
SUMMARY:Strengthening Your Business as a Contractor
DESCRIPTION:
URL:https://www.iceclasses.com/event/strengthening-your-business-as-a-contractor/
CATEGORIES:Electrical
END:VEVENT
BEGIN:VEVENT
DTSTART;TZID=UTC:20260314T083000
DTEND;TZID=UTC:20260314T143000
DTSTAMP:20260423T062138
CREATED:20251218T162432Z
LAST-MODIFIED:20251218T162432Z
UID:43444-1773477000-1773498600@www.iceclasses.com
SUMMARY:608 EPA Universal Certification Class and Exam
DESCRIPTION:
URL:https://www.iceclasses.com/event/608-epa-universal-certification-class-and-exam-13/
CATEGORIES:Hvacr Contractors
END:VEVENT
BEGIN:VEVENT
DTSTART;TZID=UTC:20260314T080000
DTEND;TZID=UTC:20260314T143000
DTSTAMP:20260423T062138
CREATED:20251114T160036Z
LAST-MODIFIED:20251114T160154Z
UID:43143-1773475200-1773498600@www.iceclasses.com
SUMMARY:Residential Wiring
DESCRIPTION:
URL:https://www.iceclasses.com/event/residential-wiring-6-ceus-2/
END:VEVENT
BEGIN:VEVENT
DTSTART;TZID=UTC:20260314T080000
DTEND;TZID=UTC:20260314T130000
DTSTAMP:20260423T062138
CREATED:20251113T141432Z
LAST-MODIFIED:20251113T142049Z
UID:43125-1773475200-1773493200@www.iceclasses.com
SUMMARY:HVACR Contractors 5-Hour Class Required Continuing Education: 2026 Renewal
DESCRIPTION:HVACR Contractors 5-Hour Class Required Continuing Education: 2026 Renewal \nFirst Hour is for Plumbers as well that hold an HVACR License
URL:https://www.iceclasses.com/event/hvacr-contractors-5-hour-class-required-continuing-education-2026-renewal-9/
CATEGORIES:Hvacr Contractors,Plumbers
END:VEVENT
BEGIN:VEVENT
DTSTART;TZID=UTC:20260313T083000
DTEND;TZID=UTC:20260313T170000
DTSTAMP:20260423T062138
CREATED:20260209T180233Z
LAST-MODIFIED:20260209T180233Z
UID:44033-1773390600-1773421200@www.iceclasses.com
SUMMARY:Suspension Bridge\, Basic and Advanced Concepts & Structural Evaluation
DESCRIPTION:
URL:https://www.iceclasses.com/event/suspension-bridge-basic-and-advanced-concepts-structural-evaluation/
CATEGORIES:Professional Engineers
END:VEVENT
BEGIN:VEVENT
DTSTART;TZID=UTC:20260309T183000
DTEND;TZID=UTC:20260309T203000
DTSTAMP:20260423T062138
CREATED:20260108T151658Z
LAST-MODIFIED:20260108T151658Z
UID:43617-1773081000-1773088200@www.iceclasses.com
SUMMARY:How to Improve Construction Productivity
DESCRIPTION:
URL:https://www.iceclasses.com/event/how-to-improve-construction-productivity-2/
CATEGORIES:Professional Engineers
END:VEVENT
BEGIN:VEVENT
DTSTART;TZID=UTC:20260308T083000
DTEND;TZID=UTC:20260308T170000
DTSTAMP:20260423T062138
CREATED:20260209T173752Z
LAST-MODIFIED:20260209T173752Z
UID:44010-1772958600-1772989200@www.iceclasses.com
SUMMARY:Adverse Possession: When & How This Happens & How to Protect an Innocent Private Owner Against this Regulation
DESCRIPTION:
URL:https://www.iceclasses.com/event/adverse-possession-when-how-this-happens-how-to-protect-an-innocent-private-owner-against-this-regulation-3/
CATEGORIES:Professional Engineers
END:VEVENT
BEGIN:VEVENT
DTSTART;TZID=UTC:20260307T130000
DTEND;TZID=UTC:20260307T170000
DTSTAMP:20260423T062138
CREATED:20260209T174949Z
LAST-MODIFIED:20260209T174949Z
UID:44026-1772888400-1772902800@www.iceclasses.com
SUMMARY:Surveyors Rights & Liabilities to Enter Private Property for Performance of Survey
DESCRIPTION:
URL:https://www.iceclasses.com/event/surveyors-rights-liabilities-to-enter-private-property-for-performance-of-survey-3/
CATEGORIES:Land Surveyors,Professional Engineers
END:VEVENT
BEGIN:VEVENT
DTSTART;TZID=UTC:20260307T080000
DTEND;TZID=UTC:20260307T130000
DTSTAMP:20260423T062138
CREATED:20260122T191517Z
LAST-MODIFIED:20260122T191517Z
UID:43783-1772870400-1772888400@www.iceclasses.com
SUMMARY:New Jersey MANDATORY 10-Hour Electrical Code Course: Mandatory Class
DESCRIPTION:Saturday March 7 & Sunday March 8\, 2026
URL:https://www.iceclasses.com/event/new-jersey-mandatory-10-hour-electrical-code-course-mandatory-class-8/
CATEGORIES:Electrical
END:VEVENT
BEGIN:VEVENT
DTSTART;TZID=UTC:20260306T130000
DTEND;TZID=UTC:20260306T170000
DTSTAMP:20260423T062138
CREATED:20260209T174103Z
LAST-MODIFIED:20260209T174103Z
UID:44015-1772802000-1772816400@www.iceclasses.com
SUMMARY:Boundary Survey & How to Deal with Boundary Dispute Issues
DESCRIPTION:
URL:https://www.iceclasses.com/event/boundary-survey-how-to-deal-with-boundary-dispute-issues-3/
CATEGORIES:Land Surveyors,Professional Engineers
END:VEVENT
BEGIN:VEVENT
DTSTART;TZID=UTC:20260306T083000
DTEND;TZID=UTC:20260306T123000
DTSTAMP:20260423T062138
CREATED:20260209T174723Z
LAST-MODIFIED:20260209T174723Z
UID:44021-1772785800-1772800200@www.iceclasses.com
SUMMARY:Mathematics for Land Surveyors / Engineers
DESCRIPTION:
URL:https://www.iceclasses.com/event/mathematics-for-land-surveyors-engineers-3/
CATEGORIES:Land Surveyors,Professional Engineers
END:VEVENT
BEGIN:VEVENT
DTSTART;TZID=UTC:20260306T083000
DTEND;TZID=UTC:20260306T123000
DTSTAMP:20260423T062138
CREATED:20260209T174251Z
LAST-MODIFIED:20260209T174251Z
UID:44017-1772785800-1772800200@www.iceclasses.com
SUMMARY:Deeds: How to Deal with Ambiguous Legal Deed Descriptions
DESCRIPTION:
URL:https://www.iceclasses.com/event/deeds-how-to-deal-with-ambiguous-legal-deed-descriptions-6/
CATEGORIES:Land Surveyors,Professional Engineers
END:VEVENT
BEGIN:VEVENT
DTSTART;TZID=UTC:20260305T190000
DTEND;TZID=UTC:20260305T210000
DTSTAMP:20260423T062138
CREATED:20260205T233037Z
LAST-MODIFIED:20260205T233037Z
UID:43983-1772737200-1772744400@www.iceclasses.com
SUMMARY:Shingles-The Forgotten Herpes Virus
DESCRIPTION:
URL:https://www.iceclasses.com/event/shingles-the-forgotten-herpes-virus-11/
END:VEVENT
BEGIN:VEVENT
DTSTART;TZID=UTC:20260301T080000
DTEND;TZID=UTC:20260301T143000
DTSTAMP:20260423T062138
CREATED:20251121T163657Z
LAST-MODIFIED:20251121T163657Z
UID:43193-1772352000-1772375400@www.iceclasses.com
SUMMARY:Artificial Intelligence for the Electrical Contractor
DESCRIPTION:
URL:https://www.iceclasses.com/event/artificial-intelligence-for-the-electrical-contractor/
CATEGORIES:Electrical
END:VEVENT
BEGIN:VEVENT
DTSTART;TZID=UTC:20260301T080000
DTEND;TZID=UTC:20260301T130000
DTSTAMP:20260423T062138
CREATED:20251113T142249Z
LAST-MODIFIED:20251113T142249Z
UID:43127-1772352000-1772370000@www.iceclasses.com
SUMMARY:HVACR Contractors 5-Hour Class Required Continuing Education: 2026 Renewal
DESCRIPTION:HVACR Contractors 5-Hour Class Required Continuing Education: 2026 Renewal \nFirst Hour is for Plumbers as well that hold an HVACR License
URL:https://www.iceclasses.com/event/hvacr-contractors-5-hour-class-required-continuing-education-2026-renewal-10/
CATEGORIES:Hvacr Contractors,Plumbers
END:VEVENT
BEGIN:VEVENT
DTSTART;TZID=UTC:20260227T083000
DTEND;TZID=UTC:20260227T143000
DTSTAMP:20260423T062138
CREATED:20251218T162336Z
LAST-MODIFIED:20251218T162336Z
UID:43442-1772181000-1772202600@www.iceclasses.com
SUMMARY:608 EPA Universal Certification Class and Exam
DESCRIPTION:
URL:https://www.iceclasses.com/event/608-epa-universal-certification-class-and-exam-12/
CATEGORIES:Hvacr Contractors
END:VEVENT
BEGIN:VEVENT
DTSTART;TZID=UTC:20260223T190000
DTEND;TZID=UTC:20260223T210000
DTSTAMP:20260423T062138
CREATED:20260122T192458Z
LAST-MODIFIED:20260122T192458Z
UID:43795-1771873200-1771880400@www.iceclasses.com
SUMMARY:Gas Piping Certification Program
DESCRIPTION:
URL:https://www.iceclasses.com/event/gas-piping-certification-program/
CATEGORIES:Electrical
END:VEVENT
BEGIN:VEVENT
DTSTART;TZID=UTC:20260223T183000
DTEND;TZID=UTC:20260223T203000
DTSTAMP:20260423T062138
CREATED:20260108T144247Z
LAST-MODIFIED:20260108T144247Z
UID:43600-1771871400-1771878600@www.iceclasses.com
SUMMARY:Inspiring Ethical Behavior: Mandatory Ethics Program
DESCRIPTION:
URL:https://www.iceclasses.com/event/inspiring-ethical-behavior-mandatory-ethics-program-5/
CATEGORIES:Professional Engineers
END:VEVENT
BEGIN:VEVENT
DTSTART;TZID=UTC:20260222T080000
DTEND;TZID=UTC:20260222T143000
DTSTAMP:20260423T062138
CREATED:20251216T011008Z
LAST-MODIFIED:20251216T011008Z
UID:43421-1771747200-1771770600@www.iceclasses.com
SUMMARY:Understanding Legal Responsibilities and On-Site Supervision
DESCRIPTION:
URL:https://www.iceclasses.com/event/understanding-legal-responsibilities-and-on-site-supervision/
END:VEVENT
BEGIN:VEVENT
DTSTART;TZID=UTC:20260221T080000
DTEND;TZID=UTC:20260221T143000
DTSTAMP:20260423T062138
CREATED:20251121T175153Z
LAST-MODIFIED:20251121T175153Z
UID:43215-1771660800-1771684200@www.iceclasses.com
SUMMARY:Temporary Installations (Article 590) & Electric Vehicle Power Transfer Systems (Article 625)
DESCRIPTION:
URL:https://www.iceclasses.com/event/temporary-installations-article-590-electric-vehicle-power-transfer-systems-article-625-2/
CATEGORIES:Electrical
END:VEVENT
BEGIN:VEVENT
DTSTART;TZID=UTC:20260221T080000
DTEND;TZID=UTC:20260221T130000
DTSTAMP:20260423T062138
CREATED:20251113T141213Z
LAST-MODIFIED:20251113T141213Z
UID:43121-1771660800-1771678800@www.iceclasses.com
SUMMARY:HVACR Contractors 5-Hour Class Required Continuing Education: 2026 Renewal
DESCRIPTION:HVACR Contractors 5-Hour Class Required Continuing Education: 2026 Renewal \nFirst Hour is for Plumbers as well that hold an HVACR License
URL:https://www.iceclasses.com/event/hvacr-contractors-5-hour-class-required-continuing-education-2026-renewal-7/
CATEGORIES:Hvacr Contractors,Plumbers
END:VEVENT
END:VCALENDAR