BEGIN:VCALENDAR
VERSION:2.0
PRODID:-//ICE Classes - ECPv6.15.20//NONSGML v1.0//EN
CALSCALE:GREGORIAN
METHOD:PUBLISH
X-WR-CALNAME:ICE Classes
X-ORIGINAL-URL:https://www.iceclasses.com
X-WR-CALDESC:Events for ICE Classes
REFRESH-INTERVAL;VALUE=DURATION:PT1H
X-Robots-Tag:noindex
X-PUBLISHED-TTL:PT1H
BEGIN:VTIMEZONE
TZID:UTC
BEGIN:STANDARD
TZOFFSETFROM:+0000
TZOFFSETTO:+0000
TZNAME:UTC
DTSTART:20240101T000000
END:STANDARD
END:VTIMEZONE
BEGIN:VEVENT
DTSTART;TZID=UTC:20250813T110000
DTEND;TZID=UTC:20250813T130000
DTSTAMP:20260424T203828
CREATED:20250624T155104Z
LAST-MODIFIED:20250624T155104Z
UID:42133-1755082800-1755090000@www.iceclasses.com
SUMMARY:Introduction to Underground Construction
DESCRIPTION:
URL:https://www.iceclasses.com/event/introduction-to-underground-construction-5/
CATEGORIES:Professional Engineers
END:VEVENT
BEGIN:VEVENT
DTSTART;TZID=UTC:20250812T183000
DTEND;TZID=UTC:20250812T211500
DTSTAMP:20260424T203828
CREATED:20250513T210826Z
LAST-MODIFIED:20250513T210826Z
UID:41733-1755023400-1755033300@www.iceclasses.com
SUMMARY:PT Ethics
DESCRIPTION:
URL:https://www.iceclasses.com/event/pt-ethics-2/
END:VEVENT
BEGIN:VEVENT
DTSTART;TZID=UTC:20250812T090000
DTEND;TZID=UTC:20250812T163000
DTSTAMP:20260424T203828
CREATED:20250729T183531Z
LAST-MODIFIED:20250729T183531Z
UID:42350-1754989200-1755016200@www.iceclasses.com
SUMMARY:American Heart Association HeartSaver CPR & AED with Basic First Aid for Fire/Burglar Alarm
DESCRIPTION:
URL:https://www.iceclasses.com/event/american-heart-association-heartsaver-cpr-aed-with-basic-first-aid-for-fire-burglar-alarm/
CATEGORIES:Fire Alarm / Burglar Alarm / Locksmith
END:VEVENT
BEGIN:VEVENT
DTSTART;TZID=UTC:20250811T190000
DTEND;TZID=UTC:20250811T210000
DTSTAMP:20260424T203828
CREATED:20250728T150625Z
LAST-MODIFIED:20250728T150625Z
UID:42324-1754938800-1754946000@www.iceclasses.com
SUMMARY:Electronics for Low Voltage Systems
DESCRIPTION:
URL:https://www.iceclasses.com/event/electronics-for-low-voltage-systems-2/
END:VEVENT
BEGIN:VEVENT
DTSTART;TZID=UTC:20250811T190000
DTEND;TZID=UTC:20250811T210000
DTSTAMP:20260424T203828
CREATED:20250612T144641Z
LAST-MODIFIED:20250612T144641Z
UID:41999-1754938800-1754946000@www.iceclasses.com
SUMMARY:Live Webinar: Hepatitis Uncovered: Understanding\, Preventing\, and Managing Liver Inflammation
DESCRIPTION:
URL:https://www.iceclasses.com/event/live-webinar-hepatitis-uncovered-understanding-preventing-and-managing-liver-inflammation/
END:VEVENT
BEGIN:VEVENT
DTSTART;TZID=UTC:20250811T183000
DTEND;TZID=UTC:20250811T203000
DTSTAMP:20260424T203828
CREATED:20250624T154459Z
LAST-MODIFIED:20250624T154459Z
UID:42127-1754937000-1754944200@www.iceclasses.com
SUMMARY:Inspiring Ethical Behavior: Mandatory Ethics Program
DESCRIPTION:
URL:https://www.iceclasses.com/event/inspiring-ethical-behavior-mandatory-ethics-program-2/
CATEGORIES:Professional Engineers
END:VEVENT
BEGIN:VEVENT
DTSTART;TZID=UTC:20250807T180000
DTEND;TZID=UTC:20250807T210000
DTSTAMP:20260424T203828
CREATED:20250611T184111Z
LAST-MODIFIED:20250611T184111Z
UID:41980-1754589600-1754600400@www.iceclasses.com
SUMMARY:Live Webinar: Stretching for Stress Reduction
DESCRIPTION:
URL:https://www.iceclasses.com/event/live-webinar-stretching-for-stress-reduction-20/
END:VEVENT
BEGIN:VEVENT
DTSTART;TZID=UTC:20250806T180000
DTEND;TZID=UTC:20250806T210000
DTSTAMP:20260424T203828
CREATED:20250623T154925Z
LAST-MODIFIED:20250623T154925Z
UID:42093-1754503200-1754514000@www.iceclasses.com
SUMMARY:Barrier Free Sub code NJAC 5:23-7 Required Class (LC)
DESCRIPTION:
URL:https://www.iceclasses.com/event/barrier-free-sub-code-njac-523-7-required-class-lc-4/
CATEGORIES:Fire Alarm / Burglar Alarm / Locksmith
END:VEVENT
BEGIN:VEVENT
DTSTART;TZID=UTC:20250806T083000
DTEND;TZID=UTC:20250806T123000
DTSTAMP:20260424T203828
CREATED:20250806T170254Z
LAST-MODIFIED:20250806T170306Z
UID:42387-1754469000-1754483400@www.iceclasses.com
SUMMARY:Eminent Domain: Power of Government to Take Private Property for Public Use
DESCRIPTION:
URL:https://www.iceclasses.com/event/eminent-domain-power-of-government-to-take-private-property-for-public-use-2/
CATEGORIES:Land Surveyors,Professional Engineers
END:VEVENT
BEGIN:VEVENT
DTSTART;TZID=UTC:20250804T190000
DTEND;TZID=UTC:20250804T210000
DTSTAMP:20260424T203828
CREATED:20250612T144036Z
LAST-MODIFIED:20250612T144036Z
UID:41997-1754334000-1754341200@www.iceclasses.com
SUMMARY:LIVE WEBINAR: HERPES AWARENESS
DESCRIPTION:
URL:https://www.iceclasses.com/event/live-webinar-herpes-awareness-9/
END:VEVENT
BEGIN:VEVENT
DTSTART;TZID=UTC:20250804T180000
DTEND;TZID=UTC:20250804T210000
DTSTAMP:20260424T203828
CREATED:20250728T143840Z
LAST-MODIFIED:20250728T143840Z
UID:42314-1754330400-1754341200@www.iceclasses.com
SUMMARY:Overview of NEC Low Voltage Wiring Methods & Requirements for Security Systems
DESCRIPTION:
URL:https://www.iceclasses.com/event/overview-of-nec-low-voltage-wiring-methods-requirements-for-security-systems/
END:VEVENT
BEGIN:VEVENT
DTSTART;TZID=UTC:20250803T090000
DTEND;TZID=UTC:20250803T153000
DTSTAMP:20260424T203828
CREATED:20250717T003840Z
LAST-MODIFIED:20250717T003840Z
UID:42237-1754211600-1754235000@www.iceclasses.com
SUMMARY:Thai Massage for Those with Special Conditions/Physical Limitations
DESCRIPTION:
URL:https://www.iceclasses.com/event/thai-massage-for-those-with-special-conditions-physical-limitations-3/
END:VEVENT
BEGIN:VEVENT
DTSTART;TZID=UTC:20250801T090000
DTEND;TZID=UTC:20250801T120000
DTSTAMP:20260424T203828
CREATED:20250724T132849Z
LAST-MODIFIED:20250724T132849Z
UID:42287-1754038800-1754049600@www.iceclasses.com
SUMMARY:Piezoelectric Methods and Procedures
DESCRIPTION:
URL:https://www.iceclasses.com/event/piezoelectric-methods-and-procedures-3/
END:VEVENT
BEGIN:VEVENT
DTSTART;TZID=UTC:20250731T180000
DTEND;TZID=UTC:20250731T210000
DTSTAMP:20260424T203828
CREATED:20250623T160145Z
LAST-MODIFIED:20250623T160145Z
UID:42100-1753984800-1753995600@www.iceclasses.com
SUMMARY:New Jersey Uniform Construction Code: Required Class (L/C)
DESCRIPTION:
URL:https://www.iceclasses.com/event/new-jersey-uniform-construction-code-required-class-l-c-2/
CATEGORIES:Fire Alarm / Burglar Alarm / Locksmith
END:VEVENT
BEGIN:VEVENT
DTSTART;TZID=UTC:20250731T090000
DTEND;TZID=UTC:20250731T153000
DTSTAMP:20260424T203828
CREATED:20250710T152726Z
LAST-MODIFIED:20250710T152726Z
UID:42214-1753952400-1753975800@www.iceclasses.com
SUMMARY:Stability Taping for Common Joint Conditions
DESCRIPTION:
URL:https://www.iceclasses.com/event/stability-taping-for-common-joint-conditions/
END:VEVENT
BEGIN:VEVENT
DTSTART;TZID=UTC:20250730T190000
DTEND;TZID=UTC:20250730T210000
DTSTAMP:20260424T203828
CREATED:20250611T220308Z
LAST-MODIFIED:20250611T220308Z
UID:41983-1753902000-1753909200@www.iceclasses.com
SUMMARY:Live Webinar: Breaking Nutritional Myths
DESCRIPTION:
URL:https://www.iceclasses.com/event/live-webinar-breaking-nutritional-myths-17/
END:VEVENT
BEGIN:VEVENT
DTSTART;TZID=UTC:20250730T180000
DTEND;TZID=UTC:20250730T210000
DTSTAMP:20260424T203828
CREATED:20250623T154849Z
LAST-MODIFIED:20250623T154849Z
UID:42091-1753898400-1753909200@www.iceclasses.com
SUMMARY:Barrier Free Sub code NJAC 5:23-7 Required Class (LC)
DESCRIPTION:
URL:https://www.iceclasses.com/event/barrier-free-sub-code-njac-523-7-required-class-lc-3/
CATEGORIES:Fire Alarm / Burglar Alarm / Locksmith
END:VEVENT
BEGIN:VEVENT
DTSTART;TZID=UTC:20250728T090000
DTEND;TZID=UTC:20250728T153000
DTSTAMP:20260424T203828
CREATED:20250728T160813Z
LAST-MODIFIED:20250728T160937Z
UID:42338-1753693200-1753716600@www.iceclasses.com
SUMMARY:Industrial Safety
DESCRIPTION:
URL:https://www.iceclasses.com/event/industrial-safety-6/
CATEGORIES:Fire Alarm / Burglar Alarm / Locksmith
END:VEVENT
BEGIN:VEVENT
DTSTART;TZID=UTC:20250724T190000
DTEND;TZID=UTC:20250724T210000
DTSTAMP:20260424T203828
CREATED:20250630T152728Z
LAST-MODIFIED:20250630T152728Z
UID:42177-1753383600-1753390800@www.iceclasses.com
SUMMARY:Live Webinar: Post Surgical Precautions for Hip and Knee
DESCRIPTION:
URL:https://www.iceclasses.com/event/live-webinar-post-surgical-precautions-for-hip-and-knee-12/
END:VEVENT
BEGIN:VEVENT
DTSTART;TZID=UTC:20250724T180000
DTEND;TZID=UTC:20250724T210000
DTSTAMP:20260424T203828
CREATED:20250623T155320Z
LAST-MODIFIED:20250623T155320Z
UID:42097-1753380000-1753390800@www.iceclasses.com
SUMMARY:Smoke Detection (Mandatory Course for Burglar Alarm License Renewal)TECRF-13(6)C020
DESCRIPTION:
URL:https://www.iceclasses.com/event/smoke-detection-mandatory-course-for-burglar-alarm-license-renewaltecrf-136c020-2/
CATEGORIES:Fire Alarm / Burglar Alarm / Locksmith
END:VEVENT
BEGIN:VEVENT
DTSTART;TZID=UTC:20250724T090000
DTEND;TZID=UTC:20250724T153000
DTSTAMP:20260424T203828
CREATED:20250612T173233Z
LAST-MODIFIED:20250715T160628Z
UID:42002-1753347600-1753371000@www.iceclasses.com
SUMMARY:It's All in Your Head: Cranial Techniques
DESCRIPTION:
URL:https://www.iceclasses.com/event/its-all-in-your-head-cranial-techniques-2/
CATEGORIES:Chiropractic
END:VEVENT
BEGIN:VEVENT
DTSTART;TZID=UTC:20250723T180000
DTEND;TZID=UTC:20250723T210000
DTSTAMP:20260424T203828
CREATED:20250623T154610Z
LAST-MODIFIED:20250623T154610Z
UID:42083-1753293600-1753304400@www.iceclasses.com
SUMMARY:Americans with Disability Act Code (L/C) Required Class
DESCRIPTION:
URL:https://www.iceclasses.com/event/americans-with-disability-act-code-l-c-required-class/
CATEGORIES:Fire Alarm / Burglar Alarm / Locksmith
END:VEVENT
BEGIN:VEVENT
DTSTART;TZID=UTC:20250723T180000
DTEND;TZID=UTC:20250723T210000
DTSTAMP:20260424T203828
CREATED:20250603T201227Z
LAST-MODIFIED:20250603T201227Z
UID:41923-1753293600-1753304400@www.iceclasses.com
SUMMARY:Live Webinar: Understanding Heart Health-The Role of Inflammation
DESCRIPTION:
URL:https://www.iceclasses.com/event/live-webinar-understanding-heart-health-the-role-of-inflammation-8/
END:VEVENT
BEGIN:VEVENT
DTSTART;TZID=UTC:20250721T180000
DTEND;TZID=UTC:20250721T210000
DTSTAMP:20260424T203828
CREATED:20250630T145454Z
LAST-MODIFIED:20250630T145454Z
UID:42175-1753120800-1753131600@www.iceclasses.com
SUMMARY:Live Webinar: Post Surgical Precautions for the Shoulder
DESCRIPTION:
URL:https://www.iceclasses.com/event/live-webinar-post-surgical-precautions-for-the-shoulder-12/
END:VEVENT
BEGIN:VEVENT
DTSTART;TZID=UTC:20250721T180000
DTEND;TZID=UTC:20250721T210000
DTSTAMP:20260424T203828
CREATED:20250618T151615Z
LAST-MODIFIED:20250618T152512Z
UID:42051-1753120800-1753131600@www.iceclasses.com
SUMMARY:Introduction to Underground Construction
DESCRIPTION:
URL:https://www.iceclasses.com/event/introduction-to-underground-construction-3/
CATEGORIES:Professional Engineers
END:VEVENT
BEGIN:VEVENT
DTSTART;TZID=UTC:20250718T080000
DTEND;TZID=UTC:20250718T130000
DTSTAMP:20260424T203828
CREATED:20250701T134801Z
LAST-MODIFIED:20250709T162100Z
UID:42183-1752825600-1752843600@www.iceclasses.com
SUMMARY:Plumbing License Renewal Course (5-Hour): Renewal June 2025
DESCRIPTION:
URL:https://www.iceclasses.com/event/plumbing-license-renewal-course-5-hour-renewal-june-2025-5/
END:VEVENT
BEGIN:VEVENT
DTSTART;TZID=UTC:20250717T180000
DTEND;TZID=UTC:20250717T210000
DTSTAMP:20260424T203828
CREATED:20250410T184349Z
LAST-MODIFIED:20250410T184349Z
UID:41452-1752775200-1752786000@www.iceclasses.com
SUMMARY:Overview of NEC Low Voltage Wiring Methods and Requirements for Security Systems
DESCRIPTION:
URL:https://www.iceclasses.com/event/overview-of-nec-low-voltage-wiring-methods-and-requirements-for-security-systems/
CATEGORIES:Fire Alarm / Burglar Alarm / Locksmith
END:VEVENT
BEGIN:VEVENT
DTSTART;TZID=UTC:20250717T120000
DTEND;TZID=UTC:20250717T130000
DTSTAMP:20260424T203828
CREATED:20250619T164942Z
LAST-MODIFIED:20250619T172351Z
UID:42064-1752753600-1752757200@www.iceclasses.com
SUMMARY:Basics of Sustainability Assessment: Live Webinar- LUNCH and LEARN
DESCRIPTION:
URL:https://www.iceclasses.com/event/basics-of-sustainability-assessment-live-webinar-lunch-and-learn/
CATEGORIES:Professional Engineers
END:VEVENT
BEGIN:VEVENT
DTSTART;TZID=UTC:20250716T190000
DTEND;TZID=UTC:20250716T210000
DTSTAMP:20260424T203828
CREATED:20250623T154730Z
LAST-MODIFIED:20250715T170031Z
UID:42087-1752692400-1752699600@www.iceclasses.com
SUMMARY:NJ Law & Rules: Required Class (L/C)
DESCRIPTION:
URL:https://www.iceclasses.com/event/nj-law-rules-required-class-l-c-3/
CATEGORIES:Fire Alarm / Burglar Alarm / Locksmith
END:VEVENT
BEGIN:VEVENT
DTSTART;TZID=UTC:20250714T180000
DTEND;TZID=UTC:20250714T210000
DTSTAMP:20260424T203828
CREATED:20250624T152804Z
LAST-MODIFIED:20250624T152804Z
UID:42119-1752516000-1752526800@www.iceclasses.com
SUMMARY:Advanced Tunnel Design & Engineering Solutions
DESCRIPTION:
URL:https://www.iceclasses.com/event/advanced-tunnel-design-engineering-solutions/
CATEGORIES:Professional Engineers
END:VEVENT
END:VCALENDAR