BEGIN:VCALENDAR
VERSION:2.0
PRODID:-//ICE Classes - ECPv6.15.20//NONSGML v1.0//EN
CALSCALE:GREGORIAN
METHOD:PUBLISH
X-WR-CALNAME:ICE Classes
X-ORIGINAL-URL:https://www.iceclasses.com
X-WR-CALDESC:Events for ICE Classes
REFRESH-INTERVAL;VALUE=DURATION:PT1H
X-Robots-Tag:noindex
X-PUBLISHED-TTL:PT1H
BEGIN:VTIMEZONE
TZID:UTC
BEGIN:STANDARD
TZOFFSETFROM:+0000
TZOFFSETTO:+0000
TZNAME:UTC
DTSTART:20240101T000000
END:STANDARD
END:VTIMEZONE
BEGIN:VEVENT
DTSTART;TZID=UTC:20251003T090000
DTEND;TZID=UTC:20251003T120000
DTSTAMP:20260424T142321
CREATED:20250811T185340Z
LAST-MODIFIED:20250811T185340Z
UID:42432-1759482000-1759492800@www.iceclasses.com
SUMMARY:Instrument Assisted Soft Tissue Mobilization (IASTM)
DESCRIPTION:
URL:https://www.iceclasses.com/event/instrument-assisted-soft-tissue-mobilization-iastm-12/
END:VEVENT
BEGIN:VEVENT
DTSTART;TZID=UTC:20250930T180000
DTEND;TZID=UTC:20250930T210000
DTSTAMP:20260424T142321
CREATED:20250916T174813Z
LAST-MODIFIED:20250916T174813Z
UID:42727-1759255200-1759266000@www.iceclasses.com
SUMMARY:Live Webinar: Understanding Heart Health-The Role of Inflammation
DESCRIPTION:
URL:https://www.iceclasses.com/event/live-webinar-understanding-heart-health-the-role-of-inflammation-9/
END:VEVENT
BEGIN:VEVENT
DTSTART;TZID=UTC:20250929T180000
DTEND;TZID=UTC:20250929T210000
DTSTAMP:20260424T142321
CREATED:20250725T144925Z
LAST-MODIFIED:20250725T145249Z
UID:42302-1759168800-1759179600@www.iceclasses.com
SUMMARY:Introduction to Underground Construction-Core Concepts in Underground Construction
DESCRIPTION:
URL:https://www.iceclasses.com/event/introduction-to-underground-construction-core-concepts-in-underground-construction/
CATEGORIES:Professional Engineers
END:VEVENT
BEGIN:VEVENT
DTSTART;TZID=UTC:20250928T090000
DTEND;TZID=UTC:20250928T173000
DTSTAMP:20260424T142321
CREATED:20250905T165624Z
LAST-MODIFIED:20250905T165624Z
UID:42677-1759050000-1759080600@www.iceclasses.com
SUMMARY:Reflexology-The Roth Method
DESCRIPTION:
URL:https://www.iceclasses.com/event/reflexology-the-roth-method-10/
END:VEVENT
BEGIN:VEVENT
DTSTART;TZID=UTC:20250928T083000
DTEND;TZID=UTC:20250928T123000
DTSTAMP:20260424T142321
CREATED:20250806T171020Z
LAST-MODIFIED:20250806T171020Z
UID:42391-1759048200-1759062600@www.iceclasses.com
SUMMARY:Mathematics for Land Surveyors /Engineers
DESCRIPTION:
URL:https://www.iceclasses.com/event/mathematics-for-land-surveyors-engineers/
CATEGORIES:Land Surveyors,Professional Engineers
END:VEVENT
BEGIN:VEVENT
DTSTART;TZID=UTC:20250921T080000
DTEND;TZID=UTC:20250921T130000
DTSTAMP:20260424T142321
CREATED:20250814T144025Z
LAST-MODIFIED:20250814T144025Z
UID:42473-1758441600-1758459600@www.iceclasses.com
SUMMARY:HVACR Contractors 5-Hour Class Required Continuing Education: 2026 Renewal
DESCRIPTION:
URL:https://www.iceclasses.com/event/hvacr-contractors-5-hour-class-required-continuing-education-2026-renewal-5/
CATEGORIES:Hvacr Contractors
END:VEVENT
BEGIN:VEVENT
DTSTART;TZID=UTC:20250918T190000
DTEND;TZID=UTC:20250918T210000
DTSTAMP:20260424T142321
CREATED:20250904T173431Z
LAST-MODIFIED:20250904T173431Z
UID:42666-1758222000-1758229200@www.iceclasses.com
SUMMARY:Live Webinar: Herpes Awareness
DESCRIPTION:
URL:https://www.iceclasses.com/event/live-webinar-herpes-awareness-10/
END:VEVENT
BEGIN:VEVENT
DTSTART;TZID=UTC:20250914T093000
DTEND;TZID=UTC:20250914T160000
DTSTAMP:20260424T142321
CREATED:20250829T160024Z
LAST-MODIFIED:20250829T160024Z
UID:42649-1757842200-1757865600@www.iceclasses.com
SUMMARY:ADA Code and/or Barrier Free Subcode and/or NJ Uniform Construction Code
DESCRIPTION:
URL:https://www.iceclasses.com/event/ada-code-and-or-barrier-free-subcode-and-or-nj-uniform-construction-code/
END:VEVENT
BEGIN:VEVENT
DTSTART;TZID=UTC:20250914T090000
DTEND;TZID=UTC:20250914T153000
DTSTAMP:20260424T142321
CREATED:20250811T184322Z
LAST-MODIFIED:20250811T184757Z
UID:42430-1757840400-1757863800@www.iceclasses.com
SUMMARY:CUPPING
DESCRIPTION:
URL:https://www.iceclasses.com/event/cupping-38/
END:VEVENT
BEGIN:VEVENT
DTSTART;TZID=UTC:20250910T190000
DTEND;TZID=UTC:20250910T210000
DTSTAMP:20260424T142321
CREATED:20250902T203623Z
LAST-MODIFIED:20250902T203623Z
UID:42658-1757530800-1757538000@www.iceclasses.com
SUMMARY:Cannabis & Your Patients: Discussing the Use of Cannabis by Patients in New Jersey
DESCRIPTION:
URL:https://www.iceclasses.com/event/cannabis-your-patients-discussing-the-use-of-cannabis-by-patients-in-new-jersey/
END:VEVENT
BEGIN:VEVENT
DTSTART;TZID=UTC:20250910T183000
DTEND;TZID=UTC:20250910T211500
DTSTAMP:20260424T142321
CREATED:20250513T210926Z
LAST-MODIFIED:20250513T210926Z
UID:41735-1757529000-1757538900@www.iceclasses.com
SUMMARY:PT ETHICS
DESCRIPTION:
URL:https://www.iceclasses.com/event/pt-ethics-3/
END:VEVENT
BEGIN:VEVENT
DTSTART;TZID=UTC:20250908T090000
DTEND;TZID=UTC:20250908T130000
DTSTAMP:20260424T142321
CREATED:20250908T203404Z
LAST-MODIFIED:20250908T203448Z
UID:42695-1757322000-1757336400@www.iceclasses.com
SUMMARY:ACUPRESSURE
DESCRIPTION:
URL:https://www.iceclasses.com/event/acupressure-30/
END:VEVENT
BEGIN:VEVENT
DTSTART;TZID=UTC:20250829T090000
DTEND;TZID=UTC:20250829T153000
DTSTAMP:20260424T142321
CREATED:20250312T173849Z
LAST-MODIFIED:20250623T181427Z
UID:41229-1756458000-1756481400@www.iceclasses.com
SUMMARY:Prevention of Musculoskeletal Injuries through Proper Exercise Intervention
DESCRIPTION:
URL:https://www.iceclasses.com/event/prevention-of-musculoskeletal-injuries-through-proper-exercise-intervention-20/
END:VEVENT
BEGIN:VEVENT
DTSTART;TZID=UTC:20250828T190000
DTEND;TZID=UTC:20250828T210000
DTSTAMP:20260424T142321
CREATED:20250728T150716Z
LAST-MODIFIED:20250728T151042Z
UID:42326-1756407600-1756414800@www.iceclasses.com
SUMMARY:Electronics for Low Voltage Systems
DESCRIPTION:
URL:https://www.iceclasses.com/event/electronics-for-low-voltage-systems-3/
END:VEVENT
BEGIN:VEVENT
DTSTART;TZID=UTC:20250828T180000
DTEND;TZID=UTC:20250828T210000
DTSTAMP:20260424T142321
CREATED:20250728T212430Z
LAST-MODIFIED:20250728T212430Z
UID:42344-1756404000-1756414800@www.iceclasses.com
SUMMARY:Live Webinar: Men's Health Issues
DESCRIPTION:
URL:https://www.iceclasses.com/event/live-webinar-mens-health-issues-21/
END:VEVENT
BEGIN:VEVENT
DTSTART;TZID=UTC:20250827T194500
DTEND;TZID=UTC:20250827T214500
DTSTAMP:20260424T142321
CREATED:20250821T185148Z
LAST-MODIFIED:20250821T185148Z
UID:42561-1756323900-1756331100@www.iceclasses.com
SUMMARY:Documentation for Fire Alarm Installations According to NFPA 72
DESCRIPTION:
URL:https://www.iceclasses.com/event/documentation-for-fire-alarm-installations-according-to-nfpa-72-3/
END:VEVENT
BEGIN:VEVENT
DTSTART;TZID=UTC:20250827T190000
DTEND;TZID=UTC:20250827T210000
DTSTAMP:20260424T142321
CREATED:20250611T221512Z
LAST-MODIFIED:20250611T221512Z
UID:41987-1756321200-1756328400@www.iceclasses.com
SUMMARY:Live Webinar: Treating Anxiety and Depression with Nutrition
DESCRIPTION:
URL:https://www.iceclasses.com/event/live-webinar-treating-anxiety-and-depression-with-nutrition-7/
END:VEVENT
BEGIN:VEVENT
DTSTART;TZID=UTC:20250827T173000
DTEND;TZID=UTC:20250827T193000
DTSTAMP:20260424T142321
CREATED:20250728T154333Z
LAST-MODIFIED:20250821T185756Z
UID:42336-1756315800-1756323000@www.iceclasses.com
SUMMARY:Electronic Access Control Fundamentals
DESCRIPTION:
URL:https://www.iceclasses.com/event/electronic-access-control-fundamentals-3/
END:VEVENT
BEGIN:VEVENT
DTSTART;TZID=UTC:20250827T130000
DTEND;TZID=UTC:20250827T163000
DTSTAMP:20260424T142321
CREATED:20250729T183637Z
LAST-MODIFIED:20250729T183637Z
UID:42352-1756299600-1756312200@www.iceclasses.com
SUMMARY:American Heart Association HeartSaver CPR & AED ONLY for Fire/Burglar Alarm
DESCRIPTION:
URL:https://www.iceclasses.com/event/american-heart-association-heartsaver-cpr-aed-only-for-fire-burglar-alarm/
CATEGORIES:Fire Alarm / Burglar Alarm / Locksmith
END:VEVENT
BEGIN:VEVENT
DTSTART;TZID=UTC:20250826T194500
DTEND;TZID=UTC:20250826T214500
DTSTAMP:20260424T142321
CREATED:20250821T191643Z
LAST-MODIFIED:20250821T191643Z
UID:42566-1756237500-1756244700@www.iceclasses.com
SUMMARY:Barrier Free Sub Code NJAC 5:23-7
DESCRIPTION:
URL:https://www.iceclasses.com/event/barrier-free-sub-code-njac-523-7-2/
END:VEVENT
BEGIN:VEVENT
DTSTART;TZID=UTC:20250826T190000
DTEND;TZID=UTC:20250826T210000
DTSTAMP:20260424T142321
CREATED:20250612T003008Z
LAST-MODIFIED:20250612T003008Z
UID:41991-1756234800-1756242000@www.iceclasses.com
SUMMARY:Live Webinar: Herpes Awareness
DESCRIPTION:
URL:https://www.iceclasses.com/event/live-webinar-herpes-awareness-8/
END:VEVENT
BEGIN:VEVENT
DTSTART;TZID=UTC:20250826T173000
DTEND;TZID=UTC:20250826T193000
DTSTAMP:20260424T142321
CREATED:20250821T140335Z
LAST-MODIFIED:20250821T140335Z
UID:42545-1756229400-1756236600@www.iceclasses.com
SUMMARY:NJ Law & Rules Governing the Provision of Burglar\, Fire Alarm & Locksmith Services
DESCRIPTION:
URL:https://www.iceclasses.com/event/nj-law-rules-governing-the-provision-of-burglar-fire-alarm-locksmith-services/
END:VEVENT
BEGIN:VEVENT
DTSTART;TZID=UTC:20250825T190000
DTEND;TZID=UTC:20250825T210000
DTSTAMP:20260424T142321
CREATED:20250612T002509Z
LAST-MODIFIED:20250612T002509Z
UID:41989-1756148400-1756155600@www.iceclasses.com
SUMMARY:Live Webinar: Shingles-The Forgotten Herpes Virus
DESCRIPTION:
URL:https://www.iceclasses.com/event/live-webinar-shingles-the-forgotten-herpes-virus-3/
END:VEVENT
BEGIN:VEVENT
DTSTART;TZID=UTC:20250822T090000
DTEND;TZID=UTC:20250822T120000
DTSTAMP:20260424T142321
CREATED:20250428T151759Z
LAST-MODIFIED:20250428T151911Z
UID:41651-1755853200-1755864000@www.iceclasses.com
SUMMARY:Stop the Bleed
DESCRIPTION:
URL:https://www.iceclasses.com/event/stop-the-bleed-18/
END:VEVENT
BEGIN:VEVENT
DTSTART;TZID=UTC:20250821T194500
DTEND;TZID=UTC:20250821T214500
DTSTAMP:20260424T142321
CREATED:20250821T141151Z
LAST-MODIFIED:20250821T141208Z
UID:42554-1755805500-1755812700@www.iceclasses.com
SUMMARY:Barrier Free Sub Code NJAC 5:23-7
DESCRIPTION:
URL:https://www.iceclasses.com/event/barrier-free-sub-code-njac-523-7/
END:VEVENT
BEGIN:VEVENT
DTSTART;TZID=UTC:20250821T190000
DTEND;TZID=UTC:20250821T210000
DTSTAMP:20260424T142321
CREATED:20250528T220827Z
LAST-MODIFIED:20250528T220827Z
UID:41846-1755802800-1755810000@www.iceclasses.com
SUMMARY:Live Webinar: Hand Hygiene Protocols: A Critical Step in Patient Safety
DESCRIPTION:
URL:https://www.iceclasses.com/event/live-webinar-hand-hygiene-protocols-a-critical-step-in-patient-safety/
END:VEVENT
BEGIN:VEVENT
DTSTART;TZID=UTC:20250821T180000
DTEND;TZID=UTC:20250821T210000
DTSTAMP:20260424T142321
CREATED:20250623T160223Z
LAST-MODIFIED:20250623T160223Z
UID:42102-1755799200-1755810000@www.iceclasses.com
SUMMARY:New Jersey Uniform Construction Code: Required Class (L/C)
DESCRIPTION:
URL:https://www.iceclasses.com/event/new-jersey-uniform-construction-code-required-class-l-c-3/
CATEGORIES:Fire Alarm / Burglar Alarm / Locksmith
END:VEVENT
BEGIN:VEVENT
DTSTART;TZID=UTC:20250820T180000
DTEND;TZID=UTC:20250820T210000
DTSTAMP:20260424T142321
CREATED:20250728T205445Z
LAST-MODIFIED:20250728T205445Z
UID:42341-1755712800-1755723600@www.iceclasses.com
SUMMARY:Live Webinar: The Mind/Gut Connection
DESCRIPTION:
URL:https://www.iceclasses.com/event/live-webinar-the-mind-gut-connection-15/
END:VEVENT
BEGIN:VEVENT
DTSTART;TZID=UTC:20250820T180000
DTEND;TZID=UTC:20250820T210000
DTSTAMP:20260424T142321
CREATED:20250623T154644Z
LAST-MODIFIED:20250623T154644Z
UID:42085-1755712800-1755723600@www.iceclasses.com
SUMMARY:Americans with Disability Act Code (L/C) Required Class
DESCRIPTION:
URL:https://www.iceclasses.com/event/americans-with-disability-act-code-l-c-required-class-2/
CATEGORIES:Fire Alarm / Burglar Alarm / Locksmith
END:VEVENT
BEGIN:VEVENT
DTSTART;TZID=UTC:20250818T190000
DTEND;TZID=UTC:20250818T210000
DTSTAMP:20260424T142321
CREATED:20250601T183203Z
LAST-MODIFIED:20250601T183203Z
UID:41910-1755543600-1755550800@www.iceclasses.com
SUMMARY:Live Webinar: Ethics for Healthcare Professionals
DESCRIPTION:
URL:https://www.iceclasses.com/event/live-webinar-ethics-for-healthcare-professionals-30/
END:VEVENT
END:VCALENDAR