BEGIN:VCALENDAR
VERSION:2.0
PRODID:-//ICE Classes - ECPv6.15.20//NONSGML v1.0//EN
CALSCALE:GREGORIAN
METHOD:PUBLISH
X-WR-CALNAME:ICE Classes
X-ORIGINAL-URL:https://www.iceclasses.com
X-WR-CALDESC:Events for ICE Classes
REFRESH-INTERVAL;VALUE=DURATION:PT1H
X-Robots-Tag:noindex
X-PUBLISHED-TTL:PT1H
BEGIN:VTIMEZONE
TZID:UTC
BEGIN:STANDARD
TZOFFSETFROM:+0000
TZOFFSETTO:+0000
TZNAME:UTC
DTSTART:20240101T000000
END:STANDARD
END:VTIMEZONE
BEGIN:VEVENT
DTSTART;TZID=UTC:20251109T090000
DTEND;TZID=UTC:20251109T173000
DTSTAMP:20260424T110847
CREATED:20251009T194710Z
LAST-MODIFIED:20251009T194710Z
UID:42833-1762678800-1762709400@www.iceclasses.com
SUMMARY:Reflexology - The Roth Method
DESCRIPTION:
URL:https://www.iceclasses.com/event/reflexology-the-roth-method-11/
END:VEVENT
BEGIN:VEVENT
DTSTART;TZID=UTC:20251109T080000
DTEND;TZID=UTC:20251109T130000
DTSTAMP:20260424T110847
CREATED:20250529T171142Z
LAST-MODIFIED:20250529T171142Z
UID:41861-1762675200-1762693200@www.iceclasses.com
SUMMARY:HVACR Contractors 5-Hour Class Required Continuing Education: 2026 Renewal
DESCRIPTION:
URL:https://www.iceclasses.com/event/hvacr-contractors-5-hour-class-required-continuing-education-2026-renewal-2/
CATEGORIES:Hvacr Contractors
END:VEVENT
BEGIN:VEVENT
DTSTART;TZID=UTC:20251109T080000
DTEND;TZID=UTC:20251109T090000
DTSTAMP:20260424T110847
CREATED:20250529T170919Z
LAST-MODIFIED:20250529T170919Z
UID:41854-1762675200-1762678800@www.iceclasses.com
SUMMARY:HVACR – One Hour Course for Plumbers Only
DESCRIPTION:
URL:https://www.iceclasses.com/event/hvacr-one-hour-course-for-plumbers-only-2/
END:VEVENT
BEGIN:VEVENT
DTSTART;TZID=UTC:20251102T090000
DTEND;TZID=UTC:20251102T170000
DTSTAMP:20260424T110847
CREATED:20250822T175634Z
LAST-MODIFIED:20250822T175634Z
UID:42572-1762074000-1762102800@www.iceclasses.com
SUMMARY:Somatic Mindfulness-Grounding
DESCRIPTION:
URL:https://www.iceclasses.com/event/somatic-mindfulness-grounding/
END:VEVENT
BEGIN:VEVENT
DTSTART;TZID=UTC:20251101T090000
DTEND;TZID=UTC:20251101T170000
DTSTAMP:20260424T110847
CREATED:20250822T183102Z
LAST-MODIFIED:20250822T183102Z
UID:42579-1761987600-1762016400@www.iceclasses.com
SUMMARY:SOMATIC MINDFULNESS - EXPANSION
DESCRIPTION:
URL:https://www.iceclasses.com/event/somatic-mindfulness-expansion/
END:VEVENT
BEGIN:VEVENT
DTSTART;TZID=UTC:20251031T090000
DTEND;TZID=UTC:20251031T130000
DTSTAMP:20260424T110847
CREATED:20250908T203318Z
LAST-MODIFIED:20250908T203318Z
UID:42693-1761901200-1761915600@www.iceclasses.com
SUMMARY:Acupressure
DESCRIPTION:
URL:https://www.iceclasses.com/event/acupressure-29/
END:VEVENT
BEGIN:VEVENT
DTSTART;TZID=UTC:20251028T190000
DTEND;TZID=UTC:20251028T210000
DTSTAMP:20260424T110847
CREATED:20251013T192930Z
LAST-MODIFIED:20251013T192930Z
UID:42842-1761678000-1761685200@www.iceclasses.com
SUMMARY:Live Webinar: Treating Anxiety and Depression with Nutrition
DESCRIPTION:
URL:https://www.iceclasses.com/event/live-webinar-treating-anxiety-and-depression-with-nutrition-9/
END:VEVENT
BEGIN:VEVENT
DTSTART;TZID=UTC:20251027T180000
DTEND;TZID=UTC:20251027T210000
DTSTAMP:20260424T110847
CREATED:20250725T144312Z
LAST-MODIFIED:20250725T144312Z
UID:42297-1761588000-1761598800@www.iceclasses.com
SUMMARY:Advanced Tunnel Design & Engineering Solutions
DESCRIPTION:
URL:https://www.iceclasses.com/event/advanced-tunnel-design-engineering-solutions-2/
CATEGORIES:Professional Engineers
END:VEVENT
BEGIN:VEVENT
DTSTART;TZID=UTC:20251026T083000
DTEND;TZID=UTC:20251026T123000
DTSTAMP:20260424T110847
CREATED:20250806T172824Z
LAST-MODIFIED:20250806T172855Z
UID:42400-1761467400-1761481800@www.iceclasses.com
SUMMARY:Surveyors Rights & Liabilities to Enter Private Property for Performance of Survey
DESCRIPTION:
URL:https://www.iceclasses.com/event/surveyors-rights-liabilities-to-enter-private-property-for-performance-of-survey-2/
CATEGORIES:Land Surveyors,Professional Engineers
END:VEVENT
BEGIN:VEVENT
DTSTART;TZID=UTC:20251025T123000
DTEND;TZID=UTC:20251025T153000
DTSTAMP:20260424T110847
CREATED:20251014T211139Z
LAST-MODIFIED:20251014T211139Z
UID:42849-1761395400-1761406200@www.iceclasses.com
SUMMARY:Basic First Aid: American Heart Association
DESCRIPTION:
URL:https://www.iceclasses.com/event/basic-first-aid-american-heart-association/
END:VEVENT
BEGIN:VEVENT
DTSTART;TZID=UTC:20251024T090000
DTEND;TZID=UTC:20251024T120000
DTSTAMP:20260424T110847
CREATED:20251003T170922Z
LAST-MODIFIED:20251003T170922Z
UID:42815-1761296400-1761307200@www.iceclasses.com
SUMMARY:STOP THE BLEED
DESCRIPTION:
URL:https://www.iceclasses.com/event/stop-the-bleed-21/
END:VEVENT
BEGIN:VEVENT
DTSTART;TZID=UTC:20251019T090000
DTEND;TZID=UTC:20251019T130000
DTSTAMP:20260424T110847
CREATED:20250811T190133Z
LAST-MODIFIED:20250811T190133Z
UID:42434-1760864400-1760878800@www.iceclasses.com
SUMMARY:Trigger Point Cupping
DESCRIPTION:
URL:https://www.iceclasses.com/event/trigger-point-cupping-8/
END:VEVENT
BEGIN:VEVENT
DTSTART;TZID=UTC:20251019T080000
DTEND;TZID=UTC:20251019T130000
DTSTAMP:20260424T110847
CREATED:20250303T164743Z
LAST-MODIFIED:20250303T164743Z
UID:41145-1760860800-1760878800@www.iceclasses.com
SUMMARY:HVACR Contractors 5-Hour Class Required Continuing Education: 2026 Renewal
DESCRIPTION:
URL:https://www.iceclasses.com/event/hvacr-contractors-5-hour-class-required-continuing-education-2026-renewal/
CATEGORIES:Hvacr Contractors
END:VEVENT
BEGIN:VEVENT
DTSTART;TZID=UTC:20251016T180000
DTEND;TZID=UTC:20251016T210000
DTSTAMP:20260424T110847
CREATED:20250923T215725Z
LAST-MODIFIED:20250923T215725Z
UID:42757-1760637600-1760648400@www.iceclasses.com
SUMMARY:Live Webinar: Men's Health Issues
DESCRIPTION:
URL:https://www.iceclasses.com/event/live-webinar-mens-health-issues-22/
END:VEVENT
BEGIN:VEVENT
DTSTART;TZID=UTC:20251014T183000
DTEND;TZID=UTC:20251014T211500
DTSTAMP:20260424T110847
CREATED:20250513T211422Z
LAST-MODIFIED:20250513T211422Z
UID:41737-1760466600-1760476500@www.iceclasses.com
SUMMARY:PT ETHICS
DESCRIPTION:
URL:https://www.iceclasses.com/event/pt-ethics-4/
END:VEVENT
BEGIN:VEVENT
DTSTART;TZID=UTC:20251010T090000
DTEND;TZID=UTC:20251010T130000
DTSTAMP:20260424T110847
CREATED:20250908T201033Z
LAST-MODIFIED:20250908T202808Z
UID:42689-1760086800-1760101200@www.iceclasses.com
SUMMARY:Qi Gong and Mind/Body Methodologies
DESCRIPTION:
URL:https://www.iceclasses.com/event/qi-gong-and-mind-body-methodologies-23/
END:VEVENT
BEGIN:VEVENT
DTSTART;TZID=UTC:20251009T083000
DTEND;TZID=UTC:20251009T123000
DTSTAMP:20260424T110847
CREATED:20250616T124305Z
LAST-MODIFIED:20250616T124405Z
UID:42026-1759998600-1760013000@www.iceclasses.com
SUMMARY:Title Commitments and Reports: What's In Them and Why We Care: Live Webinar
DESCRIPTION:
URL:https://www.iceclasses.com/event/title-commitments-and-reports-whats-in-them-and-why-we-care-live-webinar/
CATEGORIES:Land Surveyors,Professional Engineers
END:VEVENT
BEGIN:VEVENT
DTSTART;TZID=UTC:20251007T190000
DTEND;TZID=UTC:20251007T210000
DTSTAMP:20260424T110847
CREATED:20250919T184402Z
LAST-MODIFIED:20250919T184446Z
UID:42739-1759863600-1759870800@www.iceclasses.com
SUMMARY:Live Webinar: Breaking Nutritional Myths
DESCRIPTION:
URL:https://www.iceclasses.com/event/live-webinar-breaking-nutritional-myths-18/
END:VEVENT
BEGIN:VEVENT
DTSTART;TZID=UTC:20251006T180000
DTEND;TZID=UTC:20251006T210000
DTSTAMP:20260424T110847
CREATED:20250905T160627Z
LAST-MODIFIED:20250905T160627Z
UID:42671-1759773600-1759784400@www.iceclasses.com
SUMMARY:Live Webinar: Myofascial Release for Performance
DESCRIPTION:
URL:https://www.iceclasses.com/event/live-webinar-myofascial-release-for-performance-5/
END:VEVENT
BEGIN:VEVENT
DTSTART;TZID=UTC:20251005T083000
DTEND;TZID=UTC:20251005T173000
DTSTAMP:20260424T110847
CREATED:20250521T232408Z
LAST-MODIFIED:20250521T232630Z
UID:41803-1759653000-1759685400@www.iceclasses.com
SUMMARY:The BodyBell Method Level 1 Elite Instructor Certification
DESCRIPTION:
URL:https://www.iceclasses.com/event/the-bodybell-method-level-1-elite-instructor-certification/
END:VEVENT
BEGIN:VEVENT
DTSTART;TZID=UTC:20251003T090000
DTEND;TZID=UTC:20251003T120000
DTSTAMP:20260424T110847
CREATED:20250811T185340Z
LAST-MODIFIED:20250811T185340Z
UID:42432-1759482000-1759492800@www.iceclasses.com
SUMMARY:Instrument Assisted Soft Tissue Mobilization (IASTM)
DESCRIPTION:
URL:https://www.iceclasses.com/event/instrument-assisted-soft-tissue-mobilization-iastm-12/
END:VEVENT
BEGIN:VEVENT
DTSTART;TZID=UTC:20250930T180000
DTEND;TZID=UTC:20250930T210000
DTSTAMP:20260424T110847
CREATED:20250916T174813Z
LAST-MODIFIED:20250916T174813Z
UID:42727-1759255200-1759266000@www.iceclasses.com
SUMMARY:Live Webinar: Understanding Heart Health-The Role of Inflammation
DESCRIPTION:
URL:https://www.iceclasses.com/event/live-webinar-understanding-heart-health-the-role-of-inflammation-9/
END:VEVENT
BEGIN:VEVENT
DTSTART;TZID=UTC:20250929T180000
DTEND;TZID=UTC:20250929T210000
DTSTAMP:20260424T110847
CREATED:20250725T144925Z
LAST-MODIFIED:20250725T145249Z
UID:42302-1759168800-1759179600@www.iceclasses.com
SUMMARY:Introduction to Underground Construction-Core Concepts in Underground Construction
DESCRIPTION:
URL:https://www.iceclasses.com/event/introduction-to-underground-construction-core-concepts-in-underground-construction/
CATEGORIES:Professional Engineers
END:VEVENT
BEGIN:VEVENT
DTSTART;TZID=UTC:20250928T090000
DTEND;TZID=UTC:20250928T173000
DTSTAMP:20260424T110847
CREATED:20250905T165624Z
LAST-MODIFIED:20250905T165624Z
UID:42677-1759050000-1759080600@www.iceclasses.com
SUMMARY:Reflexology-The Roth Method
DESCRIPTION:
URL:https://www.iceclasses.com/event/reflexology-the-roth-method-10/
END:VEVENT
BEGIN:VEVENT
DTSTART;TZID=UTC:20250928T083000
DTEND;TZID=UTC:20250928T123000
DTSTAMP:20260424T110847
CREATED:20250806T171020Z
LAST-MODIFIED:20250806T171020Z
UID:42391-1759048200-1759062600@www.iceclasses.com
SUMMARY:Mathematics for Land Surveyors /Engineers
DESCRIPTION:
URL:https://www.iceclasses.com/event/mathematics-for-land-surveyors-engineers/
CATEGORIES:Land Surveyors,Professional Engineers
END:VEVENT
BEGIN:VEVENT
DTSTART;TZID=UTC:20250921T080000
DTEND;TZID=UTC:20250921T130000
DTSTAMP:20260424T110847
CREATED:20250814T144025Z
LAST-MODIFIED:20250814T144025Z
UID:42473-1758441600-1758459600@www.iceclasses.com
SUMMARY:HVACR Contractors 5-Hour Class Required Continuing Education: 2026 Renewal
DESCRIPTION:
URL:https://www.iceclasses.com/event/hvacr-contractors-5-hour-class-required-continuing-education-2026-renewal-5/
CATEGORIES:Hvacr Contractors
END:VEVENT
BEGIN:VEVENT
DTSTART;TZID=UTC:20250918T190000
DTEND;TZID=UTC:20250918T210000
DTSTAMP:20260424T110847
CREATED:20250904T173431Z
LAST-MODIFIED:20250904T173431Z
UID:42666-1758222000-1758229200@www.iceclasses.com
SUMMARY:Live Webinar: Herpes Awareness
DESCRIPTION:
URL:https://www.iceclasses.com/event/live-webinar-herpes-awareness-10/
END:VEVENT
BEGIN:VEVENT
DTSTART;TZID=UTC:20250914T093000
DTEND;TZID=UTC:20250914T160000
DTSTAMP:20260424T110847
CREATED:20250829T160024Z
LAST-MODIFIED:20250829T160024Z
UID:42649-1757842200-1757865600@www.iceclasses.com
SUMMARY:ADA Code and/or Barrier Free Subcode and/or NJ Uniform Construction Code
DESCRIPTION:
URL:https://www.iceclasses.com/event/ada-code-and-or-barrier-free-subcode-and-or-nj-uniform-construction-code/
END:VEVENT
BEGIN:VEVENT
DTSTART;TZID=UTC:20250914T090000
DTEND;TZID=UTC:20250914T153000
DTSTAMP:20260424T110847
CREATED:20250811T184322Z
LAST-MODIFIED:20250811T184757Z
UID:42430-1757840400-1757863800@www.iceclasses.com
SUMMARY:CUPPING
DESCRIPTION:
URL:https://www.iceclasses.com/event/cupping-38/
END:VEVENT
BEGIN:VEVENT
DTSTART;TZID=UTC:20250910T190000
DTEND;TZID=UTC:20250910T210000
DTSTAMP:20260424T110847
CREATED:20250902T203623Z
LAST-MODIFIED:20250902T203623Z
UID:42658-1757530800-1757538000@www.iceclasses.com
SUMMARY:Cannabis & Your Patients: Discussing the Use of Cannabis by Patients in New Jersey
DESCRIPTION:
URL:https://www.iceclasses.com/event/cannabis-your-patients-discussing-the-use-of-cannabis-by-patients-in-new-jersey/
END:VEVENT
END:VCALENDAR