BEGIN:VCALENDAR
VERSION:2.0
PRODID:-//ICE Classes - ECPv6.15.20//NONSGML v1.0//EN
CALSCALE:GREGORIAN
METHOD:PUBLISH
X-ORIGINAL-URL:https://www.iceclasses.com
X-WR-CALDESC:Events for ICE Classes
REFRESH-INTERVAL;VALUE=DURATION:PT1H
X-Robots-Tag:noindex
X-PUBLISHED-TTL:PT1H
BEGIN:VTIMEZONE
TZID:UTC
BEGIN:STANDARD
TZOFFSETFROM:+0000
TZOFFSETTO:+0000
TZNAME:UTC
DTSTART:20230101T000000
END:STANDARD
END:VTIMEZONE
BEGIN:VEVENT
DTSTART;TZID=UTC:20251026T083000
DTEND;TZID=UTC:20251026T123000
DTSTAMP:20260425T014019
CREATED:20250806T172824Z
LAST-MODIFIED:20250806T172855Z
UID:42400-1761467400-1761481800@www.iceclasses.com
SUMMARY:Surveyors Rights & Liabilities to Enter Private Property for Performance of Survey
DESCRIPTION:
URL:https://www.iceclasses.com/event/surveyors-rights-liabilities-to-enter-private-property-for-performance-of-survey-2/
CATEGORIES:Land Surveyors,Professional Engineers
END:VEVENT
BEGIN:VEVENT
DTSTART;TZID=UTC:20251009T083000
DTEND;TZID=UTC:20251009T123000
DTSTAMP:20260425T014019
CREATED:20250616T124305Z
LAST-MODIFIED:20250616T124405Z
UID:42026-1759998600-1760013000@www.iceclasses.com
SUMMARY:Title Commitments and Reports: What's In Them and Why We Care: Live Webinar
DESCRIPTION:
URL:https://www.iceclasses.com/event/title-commitments-and-reports-whats-in-them-and-why-we-care-live-webinar/
CATEGORIES:Land Surveyors,Professional Engineers
END:VEVENT
BEGIN:VEVENT
DTSTART;TZID=UTC:20250929T180000
DTEND;TZID=UTC:20250929T210000
DTSTAMP:20260425T014019
CREATED:20250725T144925Z
LAST-MODIFIED:20250725T145249Z
UID:42302-1759168800-1759179600@www.iceclasses.com
SUMMARY:Introduction to Underground Construction-Core Concepts in Underground Construction
DESCRIPTION:
URL:https://www.iceclasses.com/event/introduction-to-underground-construction-core-concepts-in-underground-construction/
CATEGORIES:Professional Engineers
END:VEVENT
BEGIN:VEVENT
DTSTART;TZID=UTC:20250928T083000
DTEND;TZID=UTC:20250928T123000
DTSTAMP:20260425T014019
CREATED:20250806T171020Z
LAST-MODIFIED:20250806T171020Z
UID:42391-1759048200-1759062600@www.iceclasses.com
SUMMARY:Mathematics for Land Surveyors /Engineers
DESCRIPTION:
URL:https://www.iceclasses.com/event/mathematics-for-land-surveyors-engineers/
CATEGORIES:Land Surveyors,Professional Engineers
END:VEVENT
BEGIN:VEVENT
DTSTART;TZID=UTC:20250818T180000
DTEND;TZID=UTC:20250818T210000
DTSTAMP:20260425T014019
CREATED:20250624T155023Z
LAST-MODIFIED:20250624T155023Z
UID:42131-1755540000-1755550800@www.iceclasses.com
SUMMARY:Introduction to Underground Construction
DESCRIPTION:
URL:https://www.iceclasses.com/event/introduction-to-underground-construction-4/
CATEGORIES:Professional Engineers
END:VEVENT
BEGIN:VEVENT
DTSTART;TZID=UTC:20250814T110000
DTEND;TZID=UTC:20250814T130000
DTSTAMP:20260425T014019
CREATED:20250624T154540Z
LAST-MODIFIED:20250624T154540Z
UID:42129-1755169200-1755176400@www.iceclasses.com
SUMMARY:Inspiring Ethical Behavior: Mandatory Ethics Program
DESCRIPTION:
URL:https://www.iceclasses.com/event/inspiring-ethical-behavior-mandatory-ethics-program-3/
CATEGORIES:Professional Engineers
END:VEVENT
BEGIN:VEVENT
DTSTART;TZID=UTC:20250813T110000
DTEND;TZID=UTC:20250813T130000
DTSTAMP:20260425T014019
CREATED:20250624T155104Z
LAST-MODIFIED:20250624T155104Z
UID:42133-1755082800-1755090000@www.iceclasses.com
SUMMARY:Introduction to Underground Construction
DESCRIPTION:
URL:https://www.iceclasses.com/event/introduction-to-underground-construction-5/
CATEGORIES:Professional Engineers
END:VEVENT
BEGIN:VEVENT
DTSTART;TZID=UTC:20250811T183000
DTEND;TZID=UTC:20250811T203000
DTSTAMP:20260425T014019
CREATED:20250624T154459Z
LAST-MODIFIED:20250624T154459Z
UID:42127-1754937000-1754944200@www.iceclasses.com
SUMMARY:Inspiring Ethical Behavior: Mandatory Ethics Program
DESCRIPTION:
URL:https://www.iceclasses.com/event/inspiring-ethical-behavior-mandatory-ethics-program-2/
CATEGORIES:Professional Engineers
END:VEVENT
BEGIN:VEVENT
DTSTART;TZID=UTC:20250806T083000
DTEND;TZID=UTC:20250806T123000
DTSTAMP:20260425T014019
CREATED:20250806T170254Z
LAST-MODIFIED:20250806T170306Z
UID:42387-1754469000-1754483400@www.iceclasses.com
SUMMARY:Eminent Domain: Power of Government to Take Private Property for Public Use
DESCRIPTION:
URL:https://www.iceclasses.com/event/eminent-domain-power-of-government-to-take-private-property-for-public-use-2/
CATEGORIES:Land Surveyors,Professional Engineers
END:VEVENT
BEGIN:VEVENT
DTSTART;TZID=UTC:20250721T180000
DTEND;TZID=UTC:20250721T210000
DTSTAMP:20260425T014019
CREATED:20250618T151615Z
LAST-MODIFIED:20250618T152512Z
UID:42051-1753120800-1753131600@www.iceclasses.com
SUMMARY:Introduction to Underground Construction
DESCRIPTION:
URL:https://www.iceclasses.com/event/introduction-to-underground-construction-3/
CATEGORIES:Professional Engineers
END:VEVENT
BEGIN:VEVENT
DTSTART;TZID=UTC:20250717T120000
DTEND;TZID=UTC:20250717T130000
DTSTAMP:20260425T014019
CREATED:20250619T164942Z
LAST-MODIFIED:20250619T172351Z
UID:42064-1752753600-1752757200@www.iceclasses.com
SUMMARY:Basics of Sustainability Assessment: Live Webinar- LUNCH and LEARN
DESCRIPTION:
URL:https://www.iceclasses.com/event/basics-of-sustainability-assessment-live-webinar-lunch-and-learn/
CATEGORIES:Professional Engineers
END:VEVENT
BEGIN:VEVENT
DTSTART;TZID=UTC:20250714T180000
DTEND;TZID=UTC:20250714T210000
DTSTAMP:20260425T014019
CREATED:20250624T152804Z
LAST-MODIFIED:20250624T152804Z
UID:42119-1752516000-1752526800@www.iceclasses.com
SUMMARY:Advanced Tunnel Design & Engineering Solutions
DESCRIPTION:
URL:https://www.iceclasses.com/event/advanced-tunnel-design-engineering-solutions/
CATEGORIES:Professional Engineers
END:VEVENT
BEGIN:VEVENT
DTSTART;TZID=UTC:20250629T083000
DTEND;TZID=UTC:20250629T123000
DTSTAMP:20260425T014019
CREATED:20250415T133354Z
LAST-MODIFIED:20250415T133354Z
UID:41494-1751185800-1751200200@www.iceclasses.com
SUMMARY:Deeds
DESCRIPTION:
URL:https://www.iceclasses.com/event/deeds/
CATEGORIES:Land Surveyors,Professional Engineers
END:VEVENT
BEGIN:VEVENT
DTSTART;TZID=UTC:20250608T083000
DTEND;TZID=UTC:20250608T123000
DTSTAMP:20260425T014019
CREATED:20250415T132631Z
LAST-MODIFIED:20250415T133311Z
UID:41492-1749371400-1749385800@www.iceclasses.com
SUMMARY:Adverse Possession
DESCRIPTION:
URL:https://www.iceclasses.com/event/adverse-possession/
CATEGORIES:Land Surveyors,Professional Engineers
END:VEVENT
BEGIN:VEVENT
DTSTART;TZID=UTC:20250515T123000
DTEND;TZID=UTC:20250515T153000
DTSTAMP:20260425T014019
CREATED:20250515T134455Z
LAST-MODIFIED:20250515T134505Z
UID:41758-1747312200-1747323000@www.iceclasses.com
SUMMARY:Introduction to Underground Construction
DESCRIPTION:
URL:https://www.iceclasses.com/event/introduction-to-underground-construction-2/
CATEGORIES:Professional Engineers
END:VEVENT
BEGIN:VEVENT
DTSTART;TZID=UTC:20250504T083000
DTEND;TZID=UTC:20250504T123000
DTSTAMP:20260425T014019
CREATED:20250414T181303Z
LAST-MODIFIED:20250414T181303Z
UID:41483-1746347400-1746361800@www.iceclasses.com
SUMMARY:Boundary Survey & How to Deal with Boundary Dispute Issues
DESCRIPTION:
URL:https://www.iceclasses.com/event/boundary-survey-how-to-deal-with-boundary-dispute-issues/
CATEGORIES:Land Surveyors,Professional Engineers
END:VEVENT
BEGIN:VEVENT
DTSTART;TZID=UTC:20250416T130000
DTEND;TZID=UTC:20250416T160000
DTSTAMP:20260425T014019
CREATED:20250227T183832Z
LAST-MODIFIED:20250311T162202Z
UID:41049-1744808400-1744819200@www.iceclasses.com
SUMMARY:Record Research: Paper versus Ground Truth
DESCRIPTION:
URL:https://www.iceclasses.com/event/record-research-paper-versus-ground-truth/
CATEGORIES:Land Surveyors,Professional Engineers
END:VEVENT
BEGIN:VEVENT
DTSTART;TZID=UTC:20250415T083000
DTEND;TZID=UTC:20250415T123000
DTSTAMP:20260425T014019
CREATED:20250415T131056Z
LAST-MODIFIED:20250415T131106Z
UID:41490-1744705800-1744720200@www.iceclasses.com
SUMMARY:Adverse Possession: When & How This Happens & How to Protect an Innocent Private Owner Against this Regulation
DESCRIPTION:
URL:https://www.iceclasses.com/event/adverse-possession-when-how-this-happens-how-to-protect-an-innocent-private-owner-against-this-regulation/
CATEGORIES:Land Surveyors,Professional Engineers
END:VEVENT
BEGIN:VEVENT
DTSTART;TZID=UTC:20250406T083000
DTEND;TZID=UTC:20250406T123000
DTSTAMP:20260425T014019
CREATED:20250228T185651Z
LAST-MODIFIED:20250228T185651Z
UID:41089-1743928200-1743942600@www.iceclasses.com
SUMMARY:Eminent Domain: Power of Government to Take Private Property for Public Use
DESCRIPTION:
URL:https://www.iceclasses.com/event/eminent-domain-power-of-government-to-take-private-property-for-public-use/
CATEGORIES:Land Surveyors,Professional Engineers
END:VEVENT
BEGIN:VEVENT
DTSTART;TZID=UTC:20250328T180000
DTEND;TZID=UTC:20250328T210000
DTSTAMP:20260425T014019
CREATED:20250328T133839Z
LAST-MODIFIED:20250328T133904Z
UID:41361-1743184800-1743195600@www.iceclasses.com
SUMMARY:Introduction to Underground Construction
DESCRIPTION:
URL:https://www.iceclasses.com/event/introduction-to-underground-construction/
CATEGORIES:Professional Engineers
END:VEVENT
BEGIN:VEVENT
DTSTART;TZID=UTC:20250326T080000
DTEND;TZID=UTC:20250326T120000
DTSTAMP:20260425T014019
CREATED:20250326T185518Z
LAST-MODIFIED:20250326T185843Z
UID:41346-1742976000-1742990400@www.iceclasses.com
SUMMARY:FEMA Flood Insurance Mapping Issues
DESCRIPTION:
URL:https://www.iceclasses.com/event/fema-flood-insurance-mapping-issues/
CATEGORIES:Land Surveyors,Professional Engineers
END:VEVENT
BEGIN:VEVENT
DTSTART;TZID=UTC:20250228T083000
DTEND;TZID=UTC:20250228T123000
DTSTAMP:20260425T014019
CREATED:20250228T190517Z
LAST-MODIFIED:20250228T191337Z
UID:41091-1740731400-1740745800@www.iceclasses.com
SUMMARY:Surveyors Rights & Liabilities to Enter Private Property for Performance of Survey
DESCRIPTION:
URL:https://www.iceclasses.com/event/surveyors-rights-liabilities-to-enter-private-property-for-performance-of-survey/
CATEGORIES:Land Surveyors,Professional Engineers
END:VEVENT
BEGIN:VEVENT
DTSTART;TZID=UTC:20250228T083000
DTEND;TZID=UTC:20250228T123000
DTSTAMP:20260425T014019
CREATED:20250228T185117Z
LAST-MODIFIED:20250228T185142Z
UID:41087-1740731400-1740745800@www.iceclasses.com
SUMMARY:Deeds: How to Deal with Ambiguous Legal Deed Descriptions
DESCRIPTION:
URL:https://www.iceclasses.com/event/deeds-how-to-deal-with-ambiguous-legal-deed-descriptions/
CATEGORIES:Land Surveyors,Professional Engineers
END:VEVENT
BEGIN:VEVENT
DTSTART;TZID=UTC:20241211T190000
DTEND;TZID=UTC:20241211T210000
DTSTAMP:20260425T014019
CREATED:20241003T145842Z
LAST-MODIFIED:20241003T145842Z
UID:39887-1733943600-1733950800@www.iceclasses.com
SUMMARY:Basics of Sustainability Assessment: Live Webinar
DESCRIPTION:
URL:https://www.iceclasses.com/event/basics-of-sustainability-assessment-live-webinar-4/
CATEGORIES:Professional Engineers
END:VEVENT
BEGIN:VEVENT
DTSTART;TZID=UTC:20241210T110000
DTEND;TZID=UTC:20241210T130000
DTSTAMP:20260425T014019
CREATED:20241003T145805Z
LAST-MODIFIED:20241003T145805Z
UID:39885-1733828400-1733835600@www.iceclasses.com
SUMMARY:Basics of Sustainability Assessment: Live Webinar
DESCRIPTION:
URL:https://www.iceclasses.com/event/basics-of-sustainability-assessment-live-webinar-3/
CATEGORIES:Professional Engineers
END:VEVENT
BEGIN:VEVENT
DTSTART;TZID=UTC:20241209T190000
DTEND;TZID=UTC:20241209T210000
DTSTAMP:20260425T014019
CREATED:20241003T145259Z
LAST-MODIFIED:20241003T145259Z
UID:39882-1733770800-1733778000@www.iceclasses.com
SUMMARY:Basics of Water Transportation Design: Live Webinar
DESCRIPTION:
URL:https://www.iceclasses.com/event/basics-of-water-transportation-design-live-webinar-5/
CATEGORIES:Professional Engineers
END:VEVENT
BEGIN:VEVENT
DTSTART;TZID=UTC:20241119T110000
DTEND;TZID=UTC:20241119T130000
DTSTAMP:20260425T014019
CREATED:20241003T145223Z
LAST-MODIFIED:20241003T145223Z
UID:39880-1732014000-1732021200@www.iceclasses.com
SUMMARY:Basics of Water Transportation Design: Live Webinar
DESCRIPTION:
URL:https://www.iceclasses.com/event/basics-of-water-transportation-design-live-webinar-4/
CATEGORIES:Professional Engineers
END:VEVENT
BEGIN:VEVENT
DTSTART;TZID=UTC:20241113T190000
DTEND;TZID=UTC:20241113T210000
DTSTAMP:20260425T014019
CREATED:20241003T144733Z
LAST-MODIFIED:20241003T144733Z
UID:39878-1731524400-1731531600@www.iceclasses.com
SUMMARY:Basics of Airport Design: Live Webinar
DESCRIPTION:
URL:https://www.iceclasses.com/event/basics-of-airport-design-live-webinar-4/
CATEGORIES:Professional Engineers
END:VEVENT
BEGIN:VEVENT
DTSTART;TZID=UTC:20241105T110000
DTEND;TZID=UTC:20241105T130000
DTSTAMP:20260425T014019
CREATED:20241003T142829Z
LAST-MODIFIED:20241023T180610Z
UID:39867-1730804400-1730811600@www.iceclasses.com
SUMMARY:Basics of Intelligent Transportation Systems: Live Webinar
DESCRIPTION:
URL:https://www.iceclasses.com/event/basics-of-intelligent-transportation-systems-live-webinar-3/
CATEGORIES:Professional Engineers
END:VEVENT
BEGIN:VEVENT
DTSTART;TZID=UTC:20241104T190000
DTEND;TZID=UTC:20241104T210000
DTSTAMP:20260425T014019
CREATED:20241003T143634Z
LAST-MODIFIED:20241003T143634Z
UID:39872-1730746800-1730754000@www.iceclasses.com
SUMMARY:Construction Risk Management Basics: Live Webinar
DESCRIPTION:
URL:https://www.iceclasses.com/event/construction-risk-management-basics-live-webinar-4/
CATEGORIES:Professional Engineers
END:VEVENT
END:VCALENDAR