BEGIN:VCALENDAR
VERSION:2.0
PRODID:-//ICE Classes - ECPv6.15.20//NONSGML v1.0//EN
CALSCALE:GREGORIAN
METHOD:PUBLISH
X-WR-CALNAME:ICE Classes
X-ORIGINAL-URL:https://www.iceclasses.com
X-WR-CALDESC:Events for ICE Classes
REFRESH-INTERVAL;VALUE=DURATION:PT1H
X-Robots-Tag:noindex
X-PUBLISHED-TTL:PT1H
BEGIN:VTIMEZONE
TZID:UTC
BEGIN:STANDARD
TZOFFSETFROM:+0000
TZOFFSETTO:+0000
TZNAME:UTC
DTSTART:20240101T000000
END:STANDARD
END:VTIMEZONE
BEGIN:VEVENT
DTSTART;TZID=UTC:20260424T083000
DTEND;TZID=UTC:20260424T123000
DTSTAMP:20260424T203522
CREATED:20260113T190408Z
LAST-MODIFIED:20260317T122019Z
UID:43668-1777019400-1777033800@www.iceclasses.com
SUMMARY:To Accept or Not To Accept
DESCRIPTION:
URL:https://www.iceclasses.com/event/to-accept-or-not-to-accept/
CATEGORIES:Land Surveyors,Professional Engineers
END:VEVENT
BEGIN:VEVENT
DTSTART;TZID=UTC:20260418T083000
DTEND;TZID=UTC:20260418T170000
DTSTAMP:20260424T203522
CREATED:20260209T173830Z
LAST-MODIFIED:20260209T173830Z
UID:44012-1776501000-1776531600@www.iceclasses.com
SUMMARY:Adverse Possession: When & How This Happens & How to Protect an Innocent Private Owner Against this Regulation
DESCRIPTION:
URL:https://www.iceclasses.com/event/adverse-possession-when-how-this-happens-how-to-protect-an-innocent-private-owner-against-this-regulation-4/
CATEGORIES:Professional Engineers
END:VEVENT
BEGIN:VEVENT
DTSTART;TZID=UTC:20260417T083000
DTEND;TZID=UTC:20260417T123000
DTSTAMP:20260424T203522
CREATED:20260209T174831Z
LAST-MODIFIED:20260209T174831Z
UID:44024-1776414600-1776429000@www.iceclasses.com
SUMMARY:Mathematics for Land Surveyors / Engineers
DESCRIPTION:
URL:https://www.iceclasses.com/event/mathematics-for-land-surveyors-engineers-4/
CATEGORIES:Land Surveyors,Professional Engineers
END:VEVENT
BEGIN:VEVENT
DTSTART;TZID=UTC:20260417T083000
DTEND;TZID=UTC:20260417T123000
DTSTAMP:20260424T203522
CREATED:20260209T174329Z
LAST-MODIFIED:20260209T174329Z
UID:44019-1776414600-1776429000@www.iceclasses.com
SUMMARY:Deeds: How to Deal with Ambiguous Legal Deed Descriptions
DESCRIPTION:
URL:https://www.iceclasses.com/event/deeds-how-to-deal-with-ambiguous-legal-deed-descriptions-7/
CATEGORIES:Land Surveyors,Professional Engineers
END:VEVENT
BEGIN:VEVENT
DTSTART;TZID=UTC:20260412T090000
DTEND;TZID=UTC:20260412T110000
DTSTAMP:20260424T203522
CREATED:20260108T144455Z
LAST-MODIFIED:20260108T144455Z
UID:43606-1775984400-1775991600@www.iceclasses.com
SUMMARY:Inspiring Ethical Behavior: Mandatory Ethics Program
DESCRIPTION:
URL:https://www.iceclasses.com/event/inspiring-ethical-behavior-mandatory-ethics-program-8/
CATEGORIES:Professional Engineers
END:VEVENT
BEGIN:VEVENT
DTSTART;TZID=UTC:20260406T183000
DTEND;TZID=UTC:20260406T203000
DTSTAMP:20260424T203522
CREATED:20260108T153043Z
LAST-MODIFIED:20260108T153043Z
UID:43624-1775500200-1775507400@www.iceclasses.com
SUMMARY:Advanced Tunnel Design & Engineering Solutions
DESCRIPTION:
URL:https://www.iceclasses.com/event/advanced-tunnel-design-engineering-solutions-3/
CATEGORIES:Professional Engineers
END:VEVENT
BEGIN:VEVENT
DTSTART;TZID=UTC:20260323T183000
DTEND;TZID=UTC:20260323T203000
DTSTAMP:20260424T203522
CREATED:20260108T144415Z
LAST-MODIFIED:20260108T144415Z
UID:43604-1774290600-1774297800@www.iceclasses.com
SUMMARY:Inspiring Ethical Behavior: Mandatory Ethics Program
DESCRIPTION:
URL:https://www.iceclasses.com/event/inspiring-ethical-behavior-mandatory-ethics-program-7/
CATEGORIES:Professional Engineers
END:VEVENT
BEGIN:VEVENT
DTSTART;TZID=UTC:20260321T083000
DTEND;TZID=UTC:20260321T123000
DTSTAMP:20260424T203522
CREATED:20260107T190738Z
LAST-MODIFIED:20260312T203947Z
UID:43574-1774081800-1774096200@www.iceclasses.com
SUMMARY:Mathematics for Land Surveyors /Engineers
DESCRIPTION:
URL:https://www.iceclasses.com/event/mathematics-for-land-surveyors-engineers-2/
CATEGORIES:Professional Engineers
END:VEVENT
BEGIN:VEVENT
DTSTART;TZID=UTC:20260315T083000
DTEND;TZID=UTC:20260315T123000
DTSTAMP:20260424T203522
CREATED:20260107T193143Z
LAST-MODIFIED:20260209T173956Z
UID:43584-1773563400-1773577800@www.iceclasses.com
SUMMARY:Boundary Survey & How to Deal with Boundary Dispute Issues
DESCRIPTION:
URL:https://www.iceclasses.com/event/boundary-survey-and-rights-liabilities/
CATEGORIES:Professional Engineers
END:VEVENT
BEGIN:VEVENT
DTSTART;TZID=UTC:20260313T083000
DTEND;TZID=UTC:20260313T170000
DTSTAMP:20260424T203522
CREATED:20260209T180233Z
LAST-MODIFIED:20260209T180233Z
UID:44033-1773390600-1773421200@www.iceclasses.com
SUMMARY:Suspension Bridge\, Basic and Advanced Concepts & Structural Evaluation
DESCRIPTION:
URL:https://www.iceclasses.com/event/suspension-bridge-basic-and-advanced-concepts-structural-evaluation/
CATEGORIES:Professional Engineers
END:VEVENT
BEGIN:VEVENT
DTSTART;TZID=UTC:20260309T183000
DTEND;TZID=UTC:20260309T203000
DTSTAMP:20260424T203522
CREATED:20260108T151658Z
LAST-MODIFIED:20260108T151658Z
UID:43617-1773081000-1773088200@www.iceclasses.com
SUMMARY:How to Improve Construction Productivity
DESCRIPTION:
URL:https://www.iceclasses.com/event/how-to-improve-construction-productivity-2/
CATEGORIES:Professional Engineers
END:VEVENT
BEGIN:VEVENT
DTSTART;TZID=UTC:20260308T083000
DTEND;TZID=UTC:20260308T170000
DTSTAMP:20260424T203522
CREATED:20260209T173752Z
LAST-MODIFIED:20260209T173752Z
UID:44010-1772958600-1772989200@www.iceclasses.com
SUMMARY:Adverse Possession: When & How This Happens & How to Protect an Innocent Private Owner Against this Regulation
DESCRIPTION:
URL:https://www.iceclasses.com/event/adverse-possession-when-how-this-happens-how-to-protect-an-innocent-private-owner-against-this-regulation-3/
CATEGORIES:Professional Engineers
END:VEVENT
BEGIN:VEVENT
DTSTART;TZID=UTC:20260307T130000
DTEND;TZID=UTC:20260307T170000
DTSTAMP:20260424T203522
CREATED:20260209T174949Z
LAST-MODIFIED:20260209T174949Z
UID:44026-1772888400-1772902800@www.iceclasses.com
SUMMARY:Surveyors Rights & Liabilities to Enter Private Property for Performance of Survey
DESCRIPTION:
URL:https://www.iceclasses.com/event/surveyors-rights-liabilities-to-enter-private-property-for-performance-of-survey-3/
CATEGORIES:Land Surveyors,Professional Engineers
END:VEVENT
BEGIN:VEVENT
DTSTART;TZID=UTC:20260306T130000
DTEND;TZID=UTC:20260306T170000
DTSTAMP:20260424T203522
CREATED:20260209T174103Z
LAST-MODIFIED:20260209T174103Z
UID:44015-1772802000-1772816400@www.iceclasses.com
SUMMARY:Boundary Survey & How to Deal with Boundary Dispute Issues
DESCRIPTION:
URL:https://www.iceclasses.com/event/boundary-survey-how-to-deal-with-boundary-dispute-issues-3/
CATEGORIES:Land Surveyors,Professional Engineers
END:VEVENT
BEGIN:VEVENT
DTSTART;TZID=UTC:20260306T083000
DTEND;TZID=UTC:20260306T123000
DTSTAMP:20260424T203522
CREATED:20260209T174723Z
LAST-MODIFIED:20260209T174723Z
UID:44021-1772785800-1772800200@www.iceclasses.com
SUMMARY:Mathematics for Land Surveyors / Engineers
DESCRIPTION:
URL:https://www.iceclasses.com/event/mathematics-for-land-surveyors-engineers-3/
CATEGORIES:Land Surveyors,Professional Engineers
END:VEVENT
BEGIN:VEVENT
DTSTART;TZID=UTC:20260306T083000
DTEND;TZID=UTC:20260306T123000
DTSTAMP:20260424T203522
CREATED:20260209T174251Z
LAST-MODIFIED:20260209T174251Z
UID:44017-1772785800-1772800200@www.iceclasses.com
SUMMARY:Deeds: How to Deal with Ambiguous Legal Deed Descriptions
DESCRIPTION:
URL:https://www.iceclasses.com/event/deeds-how-to-deal-with-ambiguous-legal-deed-descriptions-6/
CATEGORIES:Land Surveyors,Professional Engineers
END:VEVENT
BEGIN:VEVENT
DTSTART;TZID=UTC:20260223T183000
DTEND;TZID=UTC:20260223T203000
DTSTAMP:20260424T203522
CREATED:20260108T144247Z
LAST-MODIFIED:20260108T144247Z
UID:43600-1771871400-1771878600@www.iceclasses.com
SUMMARY:Inspiring Ethical Behavior: Mandatory Ethics Program
DESCRIPTION:
URL:https://www.iceclasses.com/event/inspiring-ethical-behavior-mandatory-ethics-program-5/
CATEGORIES:Professional Engineers
END:VEVENT
BEGIN:VEVENT
DTSTART;TZID=UTC:20260218T183000
DTEND;TZID=UTC:20260218T203000
DTSTAMP:20260424T203522
CREATED:20260108T150343Z
LAST-MODIFIED:20260108T150343Z
UID:43612-1771439400-1771446600@www.iceclasses.com
SUMMARY:Application of Construction Management Methods
DESCRIPTION:
URL:https://www.iceclasses.com/event/application-of-construction-management-methods-2/
CATEGORIES:Professional Engineers
END:VEVENT
BEGIN:VEVENT
DTSTART;TZID=UTC:20260216T183000
DTEND;TZID=UTC:20260216T203000
DTSTAMP:20260424T203522
CREATED:20260108T145743Z
LAST-MODIFIED:20260209T150440Z
UID:43610-1771266600-1771273800@www.iceclasses.com
SUMMARY:Preservation for Engineers
DESCRIPTION:
URL:https://www.iceclasses.com/event/preservation-for-engineers-2/
CATEGORIES:Professional Engineers
END:VEVENT
BEGIN:VEVENT
DTSTART;TZID=UTC:20260215T083000
DTEND;TZID=UTC:20260215T123000
DTSTAMP:20260424T203522
CREATED:20260107T192108Z
LAST-MODIFIED:20260107T192108Z
UID:43580-1771144200-1771158600@www.iceclasses.com
SUMMARY:Surveyors Rights & Liabilities
DESCRIPTION:
URL:https://www.iceclasses.com/event/surveyors-rights-liabilities/
CATEGORIES:Professional Engineers
END:VEVENT
BEGIN:VEVENT
DTSTART;TZID=UTC:20260129T093000
DTEND;TZID=UTC:20260129T123000
DTSTAMP:20260424T203522
CREATED:20260108T150945Z
LAST-MODIFIED:20260108T150945Z
UID:43615-1769679000-1769689800@www.iceclasses.com
SUMMARY:Quality Control in Construction
DESCRIPTION:
URL:https://www.iceclasses.com/event/quality-control-in-construction-2/
CATEGORIES:Professional Engineers
END:VEVENT
BEGIN:VEVENT
DTSTART;TZID=UTC:20260125T133000
DTEND;TZID=UTC:20260125T173000
DTSTAMP:20260424T203522
CREATED:20260107T191609Z
LAST-MODIFIED:20260107T191609Z
UID:43577-1769347800-1769362200@www.iceclasses.com
SUMMARY:Deeds: How to Deal with Ambiguous Legal Deed Descriptions
DESCRIPTION:
URL:https://www.iceclasses.com/event/deeds-how-to-deal-with-ambiguous-legal-deed-descriptions-5/
CATEGORIES:Professional Engineers
END:VEVENT
BEGIN:VEVENT
DTSTART;TZID=UTC:20260122T093000
DTEND;TZID=UTC:20260122T123000
DTSTAMP:20260424T203522
CREATED:20260108T152135Z
LAST-MODIFIED:20260108T152135Z
UID:43619-1769074200-1769085000@www.iceclasses.com
SUMMARY:Construction Estimating and Scheduling
DESCRIPTION:
URL:https://www.iceclasses.com/event/construction-estimating-and-scheduling-2/
CATEGORIES:Professional Engineers
END:VEVENT
BEGIN:VEVENT
DTSTART;TZID=UTC:20251215T180000
DTEND;TZID=UTC:20251215T210000
DTSTAMP:20260424T203522
CREATED:20251024T155742Z
LAST-MODIFIED:20251024T155742Z
UID:42980-1765821600-1765832400@www.iceclasses.com
SUMMARY:Preservation for Engineers
DESCRIPTION:
URL:https://www.iceclasses.com/event/preservation-for-engineers/
CATEGORIES:Professional Engineers
END:VEVENT
BEGIN:VEVENT
DTSTART;TZID=UTC:20251211T180000
DTEND;TZID=UTC:20251211T210000
DTSTAMP:20260424T203522
CREATED:20251016T162015Z
LAST-MODIFIED:20251016T162015Z
UID:42892-1765476000-1765486800@www.iceclasses.com
SUMMARY:Quality Control in Construction
DESCRIPTION:
URL:https://www.iceclasses.com/event/quality-control-in-construction/
CATEGORIES:Professional Engineers
END:VEVENT
BEGIN:VEVENT
DTSTART;TZID=UTC:20251208T183000
DTEND;TZID=UTC:20251208T203000
DTSTAMP:20260424T203522
CREATED:20251016T162152Z
LAST-MODIFIED:20251016T163310Z
UID:42894-1765218600-1765225800@www.iceclasses.com
SUMMARY:Ethics for Engineering
DESCRIPTION:
URL:https://www.iceclasses.com/event/ethics-for-engineering/
CATEGORIES:Professional Engineers
END:VEVENT
BEGIN:VEVENT
DTSTART;TZID=UTC:20251204T083000
DTEND;TZID=UTC:20251204T123000
DTSTAMP:20260424T203522
CREATED:20251029T121959Z
LAST-MODIFIED:20251029T121959Z
UID:43007-1764837000-1764851400@www.iceclasses.com
SUMMARY:Rights and Responsibilities in the Lands of Others: The Effect of Easements on Surveyors' Work
DESCRIPTION:
URL:https://www.iceclasses.com/event/rights-and-responsibilities-in-the-lands-of-others-the-effect-of-easements-on-surveyors-work-2/
CATEGORIES:Land Surveyors,Professional Engineers
END:VEVENT
BEGIN:VEVENT
DTSTART;TZID=UTC:20251201T180000
DTEND;TZID=UTC:20251201T210000
DTSTAMP:20260424T203522
CREATED:20251016T161412Z
LAST-MODIFIED:20251016T161412Z
UID:42890-1764612000-1764622800@www.iceclasses.com
SUMMARY:Construction Estimating and Scheduling
DESCRIPTION:
URL:https://www.iceclasses.com/event/construction-estimating-and-scheduling/
CATEGORIES:Professional Engineers
END:VEVENT
BEGIN:VEVENT
DTSTART;TZID=UTC:20251123T083000
DTEND;TZID=UTC:20251123T123000
DTSTAMP:20260424T203522
CREATED:20250806T172010Z
LAST-MODIFIED:20250806T172010Z
UID:42396-1763886600-1763901000@www.iceclasses.com
SUMMARY:Adverse Possession: When & How This Happens & How to Protect an Innocent Private Owner Against this Regulation
DESCRIPTION:
URL:https://www.iceclasses.com/event/adverse-possession-when-how-this-happens-how-to-protect-an-innocent-private-owner-against-this-regulation-2/
CATEGORIES:Land Surveyors,Professional Engineers
END:VEVENT
BEGIN:VEVENT
DTSTART;TZID=UTC:20251027T180000
DTEND;TZID=UTC:20251027T210000
DTSTAMP:20260424T203522
CREATED:20250725T144312Z
LAST-MODIFIED:20250725T144312Z
UID:42297-1761588000-1761598800@www.iceclasses.com
SUMMARY:Advanced Tunnel Design & Engineering Solutions
DESCRIPTION:
URL:https://www.iceclasses.com/event/advanced-tunnel-design-engineering-solutions-2/
CATEGORIES:Professional Engineers
END:VEVENT
END:VCALENDAR