BEGIN:VCALENDAR
VERSION:2.0
PRODID:-//ICE Classes - ECPv6.15.20//NONSGML v1.0//EN
CALSCALE:GREGORIAN
METHOD:PUBLISH
X-WR-CALNAME:ICE Classes
X-ORIGINAL-URL:https://www.iceclasses.com
X-WR-CALDESC:Events for ICE Classes
REFRESH-INTERVAL;VALUE=DURATION:PT1H
X-Robots-Tag:noindex
X-PUBLISHED-TTL:PT1H
BEGIN:VTIMEZONE
TZID:UTC
BEGIN:STANDARD
TZOFFSETFROM:+0000
TZOFFSETTO:+0000
TZNAME:UTC
DTSTART:20250101T000000
END:STANDARD
END:VTIMEZONE
BEGIN:VEVENT
DTSTART;TZID=UTC:20260517T080000
DTEND;TZID=UTC:20260518T130000
DTSTAMP:20260424T220859
CREATED:20260122T191804Z
LAST-MODIFIED:20260130T151441Z
UID:43787-1779004800-1779109200@www.iceclasses.com
SUMMARY:New Jersey MANDATORY 10-Hour Electrical Code Course: Mandatory Class
DESCRIPTION:Saturday May16 and Sunday May 17\, 2026 \nYou must take both dates to complete the 10 hour code
URL:https://www.iceclasses.com/event/new-jersey-mandatory-10-hour-electrical-code-course-mandatory-class-10/
CATEGORIES:Electrical,Professional Engineers
END:VEVENT
END:VCALENDAR