BEGIN:VCALENDAR
VERSION:2.0
PRODID:-//ICE Classes - ECPv6.15.20//NONSGML v1.0//EN
CALSCALE:GREGORIAN
METHOD:PUBLISH
X-WR-CALNAME:ICE Classes
X-ORIGINAL-URL:https://www.iceclasses.com
X-WR-CALDESC:Events for ICE Classes
REFRESH-INTERVAL;VALUE=DURATION:PT1H
X-Robots-Tag:noindex
X-PUBLISHED-TTL:PT1H
BEGIN:VTIMEZONE
TZID:UTC
BEGIN:STANDARD
TZOFFSETFROM:+0000
TZOFFSETTO:+0000
TZNAME:UTC
DTSTART:20250101T000000
END:STANDARD
END:VTIMEZONE
BEGIN:VEVENT
DTSTART;TZID=UTC:20260215T083000
DTEND;TZID=UTC:20260215T123000
DTSTAMP:20260424T235903
CREATED:20260107T192108Z
LAST-MODIFIED:20260107T192108Z
UID:43580-1771144200-1771158600@www.iceclasses.com
SUMMARY:Surveyors Rights & Liabilities
DESCRIPTION:
URL:https://www.iceclasses.com/event/surveyors-rights-liabilities/
CATEGORIES:Professional Engineers
END:VEVENT
BEGIN:VEVENT
DTSTART;TZID=UTC:20260216T183000
DTEND;TZID=UTC:20260216T203000
DTSTAMP:20260424T235903
CREATED:20260108T145743Z
LAST-MODIFIED:20260209T150440Z
UID:43610-1771266600-1771273800@www.iceclasses.com
SUMMARY:Preservation for Engineers
DESCRIPTION:
URL:https://www.iceclasses.com/event/preservation-for-engineers-2/
CATEGORIES:Professional Engineers
END:VEVENT
BEGIN:VEVENT
DTSTART;TZID=UTC:20260218T183000
DTEND;TZID=UTC:20260218T203000
DTSTAMP:20260424T235903
CREATED:20260108T150343Z
LAST-MODIFIED:20260108T150343Z
UID:43612-1771439400-1771446600@www.iceclasses.com
SUMMARY:Application of Construction Management Methods
DESCRIPTION:
URL:https://www.iceclasses.com/event/application-of-construction-management-methods-2/
CATEGORIES:Professional Engineers
END:VEVENT
BEGIN:VEVENT
DTSTART;TZID=UTC:20260223T183000
DTEND;TZID=UTC:20260223T203000
DTSTAMP:20260424T235903
CREATED:20260108T144247Z
LAST-MODIFIED:20260108T144247Z
UID:43600-1771871400-1771878600@www.iceclasses.com
SUMMARY:Inspiring Ethical Behavior: Mandatory Ethics Program
DESCRIPTION:
URL:https://www.iceclasses.com/event/inspiring-ethical-behavior-mandatory-ethics-program-5/
CATEGORIES:Professional Engineers
END:VEVENT
END:VCALENDAR