BEGIN:VCALENDAR
VERSION:2.0
PRODID:-//ICE Classes - ECPv6.15.20//NONSGML v1.0//EN
CALSCALE:GREGORIAN
METHOD:PUBLISH
X-ORIGINAL-URL:https://www.iceclasses.com
X-WR-CALDESC:Events for ICE Classes
REFRESH-INTERVAL;VALUE=DURATION:PT1H
X-Robots-Tag:noindex
X-PUBLISHED-TTL:PT1H
BEGIN:VTIMEZONE
TZID:UTC
BEGIN:STANDARD
TZOFFSETFROM:+0000
TZOFFSETTO:+0000
TZNAME:UTC
DTSTART:20150101T000000
END:STANDARD
END:VTIMEZONE
BEGIN:VEVENT
DTSTART;TZID=UTC:20210125T180000
DTEND;TZID=UTC:20210125T210000
DTSTAMP:20260423T185926
CREATED:20210119T153226Z
LAST-MODIFIED:20210119T153226Z
UID:22265-1611597600-1611608400@www.iceclasses.com
SUMMARY:BLS CPR REN
DESCRIPTION:
URL:https://www.iceclasses.com/event/bls-cpr-ren-49/
CATEGORIES:Athletic Training,Chiropractic,CPR,Massage Therapy,Physical Therapy
END:VEVENT
BEGIN:VEVENT
DTSTART;TZID=UTC:20210120T180000
DTEND;TZID=UTC:20210120T220000
DTSTAMP:20260423T185926
CREATED:20210119T152625Z
LAST-MODIFIED:20210119T152625Z
UID:22261-1611165600-1611180000@www.iceclasses.com
SUMMARY:BLS CPR INIT
DESCRIPTION:
URL:https://www.iceclasses.com/event/bls-cpr-init-62/
CATEGORIES:Athletic Training,Chiropractic,CPR,Massage Therapy,Physical Therapy
END:VEVENT
BEGIN:VEVENT
DTSTART;TZID=UTC:20191215T133000
DTEND;TZID=UTC:20191215T163000
DTSTAMP:20260423T185926
CREATED:20191024T143309Z
LAST-MODIFIED:20191024T143309Z
UID:14502-1576416600-1576427400@www.iceclasses.com
SUMMARY:Basic First Aid
DESCRIPTION:
URL:https://www.iceclasses.com/event/basic-first-aid-28/
CATEGORIES:Athletic Training,Chiropractic,CPR,Massage Therapy,Physical Therapy
END:VEVENT
BEGIN:VEVENT
DTSTART;TZID=UTC:20191201T133000
DTEND;TZID=UTC:20191201T163000
DTSTAMP:20260423T185926
CREATED:20191024T143223Z
LAST-MODIFIED:20191024T143223Z
UID:14500-1575207000-1575217800@www.iceclasses.com
SUMMARY:Basic First Aid
DESCRIPTION:
URL:https://www.iceclasses.com/event/basic-first-aid-27/
CATEGORIES:Athletic Training,Chiropractic,Massage Therapy,Physical Therapy
END:VEVENT
BEGIN:VEVENT
DTSTART;TZID=UTC:20190919T090000
DTEND;TZID=UTC:20190919T170000
DTSTAMP:20260423T185926
CREATED:20181226T190334Z
LAST-MODIFIED:20190904T142225Z
UID:11245-1568883600-1568912400@www.iceclasses.com
SUMMARY:Reiki II
DESCRIPTION:
URL:https://www.iceclasses.com/event/reiki-i-ii-6/
CATEGORIES:Massage Therapy,Physical Therapy
END:VEVENT
BEGIN:VEVENT
DTSTART;TZID=UTC:20190917T090000
DTEND;TZID=UTC:20190917T170000
DTSTAMP:20260423T185926
CREATED:20181226T194700Z
LAST-MODIFIED:20190904T142113Z
UID:11248-1568710800-1568739600@www.iceclasses.com
SUMMARY:Reiki I
DESCRIPTION:
URL:https://www.iceclasses.com/event/advanced-and-master-reiki/
CATEGORIES:Massage Therapy,Physical Therapy
END:VEVENT
BEGIN:VEVENT
DTSTART;TZID=UTC:20190718T090000
DTEND;TZID=UTC:20190718T153000
DTSTAMP:20260423T185926
CREATED:20190617T190348Z
LAST-MODIFIED:20190617T190348Z
UID:13150-1563440400-1563463800@www.iceclasses.com
SUMMARY:Thai Massage
DESCRIPTION:
URL:https://www.iceclasses.com/event/thai-massage-4/
CATEGORIES:Massage Therapy
END:VEVENT
BEGIN:VEVENT
DTSTART;TZID=UTC:20190306T090000
DTEND;TZID=UTC:20190306T133000
DTSTAMP:20260423T185926
CREATED:20181211T181618Z
LAST-MODIFIED:20181211T181618Z
UID:11099-1551862800-1551879000@www.iceclasses.com
SUMMARY:BLS CPR INIT
DESCRIPTION:
URL:https://www.iceclasses.com/event/bls-cpr-init-32/
CATEGORIES:Athletic Training,Chiropractic,CPR,Massage Therapy,Physical Therapy
END:VEVENT
BEGIN:VEVENT
DTSTART;TZID=UTC:20181105T090000
DTEND;TZID=UTC:20181105T170000
DTSTAMP:20260423T185926
CREATED:20180508T184401Z
LAST-MODIFIED:20181001T152916Z
UID:9741-1541408400-1541437200@www.iceclasses.com
SUMMARY:Ben Benjamin: Integrating Orthopedic Assessment & Treatment Neck\, Shoulder\, Low Back & Knee Injuries
DESCRIPTION:
URL:https://www.iceclasses.com/event/ben-benjamin-integrating-orthopedic-assessment-treatment-neck-shoulder-low-back-knee-injuries/
CATEGORIES:Athletic Training,Massage Therapy
END:VEVENT
BEGIN:VEVENT
DTSTART;TZID=UTC:20180911T090000
DTEND;TZID=UTC:20180911T170000
DTSTAMP:20260423T185926
CREATED:20180711T135152Z
LAST-MODIFIED:20180711T135630Z
UID:10101-1536656400-1536685200@www.iceclasses.com
SUMMARY:Advanced Reiki & Master Reiki Classes
DESCRIPTION:Tuesday September 11 & Thursday September 13\, 2018
URL:https://www.iceclasses.com/event/advanced-reiki/
CATEGORIES:Massage Therapy
END:VEVENT
BEGIN:VEVENT
DTSTART;TZID=UTC:20180730T080000
DTEND;TZID=UTC:20180730T170000
DTSTAMP:20260423T185926
CREATED:20180410T171947Z
LAST-MODIFIED:20180410T194429Z
UID:9583-1532937600-1532970000@www.iceclasses.com
SUMMARY:Advanced Muscular Therapy Deep Tissue & Myofascial Technique for the Shoulder & Knee
DESCRIPTION:
URL:https://www.iceclasses.com/event/advanced-muscular-therapy-deep-tissue-myofascial-technique-for-the-shoulder-knee-2/
CATEGORIES:Athletic Training,Massage Therapy
END:VEVENT
BEGIN:VEVENT
DTSTART;TZID=UTC:20180426T090000
DTEND;TZID=UTC:20180426T153000
DTSTAMP:20260423T185926
CREATED:20180227T183718Z
LAST-MODIFIED:20180227T190103Z
UID:9180-1524733200-1524756600@www.iceclasses.com
SUMMARY:Manual Muscle Testing
DESCRIPTION:
URL:https://www.iceclasses.com/event/manual-muscle-testing/
CATEGORIES:Athletic Training,Chiropractic,Massage Therapy
END:VEVENT
BEGIN:VEVENT
DTSTART;TZID=UTC:20180423T090000
DTEND;TZID=UTC:20180423T170000
DTSTAMP:20260423T185926
CREATED:20180213T190211Z
LAST-MODIFIED:20180213T193959Z
UID:8962-1524474000-1524502800@www.iceclasses.com
SUMMARY:Advanced Muscular Therapy Deep Tissue & Myofascial Technique for the Shoulder & Knee
DESCRIPTION:
URL:https://www.iceclasses.com/event/advanced-muscular-therapy-deep-tissue-myofascial-technique-for-the-shoulder-knee/
CATEGORIES:Massage Therapy
END:VEVENT
BEGIN:VEVENT
DTSTART;TZID=UTC:20180114T090000
DTEND;TZID=UTC:20180114T153000
DTSTAMP:20260423T185926
CREATED:20170829T150917Z
LAST-MODIFIED:20170829T150956Z
UID:6685-1515920400-1515943800@www.iceclasses.com
SUMMARY:Managing Medical Emergencies
DESCRIPTION:
URL:https://www.iceclasses.com/event/managing-medical-emergencies-14/
CATEGORIES:Athletic Training,Chiropractic,Massage Therapy,Physical Therapy
END:VEVENT
BEGIN:VEVENT
DTSTART;TZID=UTC:20171128T090000
DTEND;TZID=UTC:20171129T170000
DTSTAMP:20260423T185926
CREATED:20170712T163337Z
LAST-MODIFIED:20170712T184234Z
UID:5994-1511859600-1511974800@www.iceclasses.com
SUMMARY:Infant Massage Therapy and Technique
DESCRIPTION:
URL:https://www.iceclasses.com/event/infant-massage-therapy-and-technique-2/
CATEGORIES:Chiropractic,Massage Therapy,Physical Therapy
END:VEVENT
BEGIN:VEVENT
DTSTART;TZID=UTC:20171116T180000
DTEND;TZID=UTC:20171116T220000
DTSTAMP:20260423T185926
CREATED:20171003T145640Z
LAST-MODIFIED:20171003T145640Z
UID:7151-1510855200-1510869600@www.iceclasses.com
SUMMARY:Current Nutrition Trends: How Food Affects Health
DESCRIPTION:
URL:https://www.iceclasses.com/event/current-nutrition-trends-how-food-affects-health-3/
CATEGORIES:Athletic Training,Chiropractic,Massage Therapy
END:VEVENT
BEGIN:VEVENT
DTSTART;TZID=UTC:20171112T090000
DTEND;TZID=UTC:20171112T153000
DTSTAMP:20260423T185926
CREATED:20171031T163152Z
LAST-MODIFIED:20171031T163152Z
UID:7515-1510477200-1510500600@www.iceclasses.com
SUMMARY:Managing Medical Emergencies
DESCRIPTION:
URL:https://www.iceclasses.com/event/managing-medical-emergencies-22/
CATEGORIES:Athletic Training,Chiropractic,Massage Therapy,Physical Therapy
END:VEVENT
BEGIN:VEVENT
DTSTART;TZID=UTC:20171025T090000
DTEND;TZID=UTC:20171026T180000
DTSTAMP:20260423T185926
CREATED:20170717T153739Z
LAST-MODIFIED:20170717T153739Z
UID:6040-1508922000-1509040800@www.iceclasses.com
SUMMARY:Scar Tissue Release and Integrated Therapies (STRAIT) with Marjorie Brook Seminars
DESCRIPTION:
URL:https://www.iceclasses.com/event/scar-tissue-release-and-integrated-therapies-strait-with-marjorie-brook-seminars/
CATEGORIES:Athletic Training,Massage Therapy,Physical Therapy
END:VEVENT
BEGIN:VEVENT
DTSTART;TZID=UTC:20171019T090000
DTEND;TZID=UTC:20171019T173000
DTSTAMP:20260423T185926
CREATED:20170227T174433Z
LAST-MODIFIED:20170929T214118Z
UID:4704-1508403600-1508434200@www.iceclasses.com
SUMMARY:Upledger Cranio Sacral Therapy 1 - 10/19-10/22/17
DESCRIPTION:Thursday October 19 thru Sunday October 22\, 2017
URL:https://www.iceclasses.com/event/upledger-cranio-sacral-therapy-1/
CATEGORIES:Athletic Training,Massage Therapy,Physical Therapy
END:VEVENT
BEGIN:VEVENT
DTSTART;TZID=UTC:20171014T080000
DTEND;TZID=UTC:20171014T173000
DTSTAMP:20260423T185926
CREATED:20161123T210232Z
LAST-MODIFIED:20161215T195825Z
UID:3146-1507968000-1508002200@www.iceclasses.com
SUMMARY:Kinesio Taping 3
DESCRIPTION:
URL:https://www.iceclasses.com/event/kinesio-taping-3-3/
CATEGORIES:Chiropractic,Massage Therapy,Physical Therapy
END:VEVENT
BEGIN:VEVENT
DTSTART;TZID=UTC:20171004T133000
DTEND;TZID=UTC:20171004T153000
DTSTAMP:20260423T185926
CREATED:20170822T142650Z
LAST-MODIFIED:20170822T142650Z
UID:6527-1507123800-1507131000@www.iceclasses.com
SUMMARY:Ethics & Recordkeeping
DESCRIPTION:
URL:https://www.iceclasses.com/event/ethics-recordkeeping/
CATEGORIES:Athletic Training,Chiropractic,Massage Therapy
END:VEVENT
BEGIN:VEVENT
DTSTART;TZID=UTC:20170927T090000
DTEND;TZID=UTC:20170927T153000
DTSTAMP:20260423T185926
CREATED:20170405T202929Z
LAST-MODIFIED:20170927T191530Z
UID:4992-1506502800-1506526200@www.iceclasses.com
SUMMARY:Thai Massage: Theory and Hands-On Practice
DESCRIPTION:
URL:https://www.iceclasses.com/event/thai-massage-theory-and-hands-on-practice-2/
CATEGORIES:Athletic Training,Massage Therapy
END:VEVENT
BEGIN:VEVENT
DTSTART;TZID=UTC:20170808T060000
DTEND;TZID=UTC:20170808T220000
DTSTAMP:20260423T185926
CREATED:20170717T170623Z
LAST-MODIFIED:20170717T170717Z
UID:6047-1502172000-1502229600@www.iceclasses.com
SUMMARY:Current Nutrition Trends: How Food Affects Health
DESCRIPTION:
URL:https://www.iceclasses.com/event/current-nutrition-trends-how-food-affects-health-2/
CATEGORIES:Athletic Training,Chiropractic,Massage Therapy
END:VEVENT
BEGIN:VEVENT
DTSTART;TZID=UTC:20170609T100000
DTEND;TZID=UTC:20170609T120000
DTSTAMP:20260423T185926
CREATED:20161229T194710Z
LAST-MODIFIED:20161229T194853Z
UID:3593-1497002400-1497009600@www.iceclasses.com
SUMMARY:Ethics & Recordkeeping
DESCRIPTION:
URL:https://www.iceclasses.com/event/ethics-recordkeeping-7/
CATEGORIES:Athletic Training,Chiropractic,Massage Therapy
END:VEVENT
BEGIN:VEVENT
DTSTART;TZID=UTC:20170519T090000
DTEND;TZID=UTC:20170519T130000
DTSTAMP:20260423T185926
CREATED:20170227T162657Z
LAST-MODIFIED:20170420T175542Z
UID:4674-1495184400-1495198800@www.iceclasses.com
SUMMARY:Current Nutrition Trends
DESCRIPTION:
URL:https://www.iceclasses.com/event/current-nutrition-trends-4/
CATEGORIES:Athletic Training,Chiropractic,Massage Therapy
END:VEVENT
BEGIN:VEVENT
DTSTART;TZID=UTC:20170428T080000
DTEND;TZID=UTC:20170428T173000
DTSTAMP:20260423T185926
CREATED:20161123T210148Z
LAST-MODIFIED:20161123T210504Z
UID:3144-1493366400-1493400600@www.iceclasses.com
SUMMARY:Kinesio Taping 3
DESCRIPTION:
URL:https://www.iceclasses.com/event/kinesio-taping-3-2/
CATEGORIES:Chiropractic,Massage Therapy,Physical Therapy
END:VEVENT
BEGIN:VEVENT
DTSTART;TZID=UTC:20170318T080000
DTEND;TZID=UTC:20170319T173000
DTSTAMP:20260423T185926
CREATED:20161123T210851Z
LAST-MODIFIED:20161123T210851Z
UID:3152-1489824000-1489944600@www.iceclasses.com
SUMMARY:Kinesio Taping 1 & 2
DESCRIPTION:
URL:https://www.iceclasses.com/event/kinesio-taping-1-2-3/
CATEGORIES:Chiropractic,Massage Therapy,Physical Therapy
END:VEVENT
BEGIN:VEVENT
DTSTART;TZID=UTC:20161113T133000
DTEND;TZID=UTC:20161113T163000
DTSTAMP:20260423T185926
CREATED:20160831T165929Z
LAST-MODIFIED:20160831T165929Z
UID:2572-1479043800-1479054600@www.iceclasses.com
SUMMARY:Research Methods
DESCRIPTION:
URL:https://www.iceclasses.com/event/research-methods/
CATEGORIES:Athletic Training,Chiropractic,Massage Therapy
END:VEVENT
BEGIN:VEVENT
DTSTART;VALUE=DATE:20161110
DTEND;VALUE=DATE:20161111
DTSTAMP:20260423T185926
CREATED:20160831T164701Z
LAST-MODIFIED:20160831T164701Z
UID:2569-1478736000-1478822399@www.iceclasses.com
SUMMARY:Craniosacral Therapy 1 (Upledger)
DESCRIPTION:Thursday November 10\, 2016 to Sunday November 13\, 2016
URL:https://www.iceclasses.com/event/craniosacral-therapy-1-upledger/
CATEGORIES:Athletic Training,Chiropractic,Massage Therapy,Physical Therapy
END:VEVENT
BEGIN:VEVENT
DTSTART;TZID=UTC:20161106T100000
DTEND;TZID=UTC:20161106T163000
DTSTAMP:20260423T185926
CREATED:20160831T164019Z
LAST-MODIFIED:20160831T164019Z
UID:2568-1478426400-1478449800@www.iceclasses.com
SUMMARY:Massage Techniques for Aging Population
DESCRIPTION:
URL:https://www.iceclasses.com/event/massage-techniques-for-aging-population-2/
CATEGORIES:Massage Therapy
END:VEVENT
END:VCALENDAR