BEGIN:VCALENDAR
VERSION:2.0
PRODID:-//ICE Classes - ECPv6.15.20//NONSGML v1.0//EN
CALSCALE:GREGORIAN
METHOD:PUBLISH
X-ORIGINAL-URL:https://www.iceclasses.com
X-WR-CALDESC:Events for ICE Classes
REFRESH-INTERVAL;VALUE=DURATION:PT1H
X-Robots-Tag:noindex
X-PUBLISHED-TTL:PT1H
BEGIN:VTIMEZONE
TZID:UTC
BEGIN:STANDARD
TZOFFSETFROM:+0000
TZOFFSETTO:+0000
TZNAME:UTC
DTSTART:20170101T000000
END:STANDARD
END:VTIMEZONE
BEGIN:VEVENT
DTSTART;TZID=UTC:20230228T170000
DTEND;TZID=UTC:20230228T210000
DTSTAMP:20260424T234358
CREATED:20230116T190155Z
LAST-MODIFIED:20230116T190155Z
UID:28976-1677603600-1677618000@www.iceclasses.com
SUMMARY:AHA Heartsaver BFA
DESCRIPTION:
URL:https://www.iceclasses.com/event/aha-heartsaver-bfa-3/
CATEGORIES:Chiropractic,Land Surveyors,Professional Engineers
END:VEVENT
BEGIN:VEVENT
DTSTART;TZID=UTC:20230223T170000
DTEND;TZID=UTC:20230223T210000
DTSTAMP:20260424T234358
CREATED:20230116T185844Z
LAST-MODIFIED:20230116T185844Z
UID:28973-1677171600-1677186000@www.iceclasses.com
SUMMARY:AHA Heartsaver CPR/AED for Land Surveyors & Engineers
DESCRIPTION:
URL:https://www.iceclasses.com/event/aha-heartsaver-cpr-aed-for-land-surveyors-engineers-3/
CATEGORIES:Land Surveyors,Professional Engineers
END:VEVENT
BEGIN:VEVENT
DTSTART;TZID=UTC:20230219T090000
DTEND;TZID=UTC:20230219T120000
DTSTAMP:20260424T234358
CREATED:20230116T185720Z
LAST-MODIFIED:20230116T185720Z
UID:28971-1676797200-1676808000@www.iceclasses.com
SUMMARY:AHA Heartsaver CPR/AED for Land Surveyors & Engineers
DESCRIPTION:
URL:https://www.iceclasses.com/event/aha-heartsaver-cpr-aed-for-land-surveyors-engineers-2/
CATEGORIES:Land Surveyors,Professional Engineers
END:VEVENT
BEGIN:VEVENT
DTSTART;TZID=UTC:20230216T090000
DTEND;TZID=UTC:20230216T130000
DTSTAMP:20260424T234358
CREATED:20230116T185604Z
LAST-MODIFIED:20230116T185604Z
UID:28969-1676538000-1676552400@www.iceclasses.com
SUMMARY:AHA Heartsaver BFA
DESCRIPTION:
URL:https://www.iceclasses.com/event/aha-heartsaver-bfa-2/
CATEGORIES:Chiropractic,Land Surveyors,Professional Engineers
END:VEVENT
BEGIN:VEVENT
DTSTART;TZID=UTC:20230209T090000
DTEND;TZID=UTC:20230209T120000
DTSTAMP:20260424T234358
CREATED:20230116T185404Z
LAST-MODIFIED:20230116T185404Z
UID:28965-1675933200-1675944000@www.iceclasses.com
SUMMARY:AHA Heartsaver CPR/AED for Land Surveyors & Engineers
DESCRIPTION:
URL:https://www.iceclasses.com/event/aha-heartsaver-cpr-aed-for-land-surveyors-engineers/
CATEGORIES:Land Surveyors,Professional Engineers
END:VEVENT
BEGIN:VEVENT
DTSTART;TZID=UTC:20210815T080000
DTEND;TZID=UTC:20210815T120000
DTSTAMP:20260424T234358
CREATED:20210629T170109Z
LAST-MODIFIED:20210629T170109Z
UID:24042-1629014400-1629028800@www.iceclasses.com
SUMMARY:BOUNDARY SURVEY & HOW TO DEAL WITH BOUNDARY DISPUTE ISSUES.. LIVE WEBINAR
DESCRIPTION:
URL:https://www.iceclasses.com/event/boundary-survey-how-to-deal-with-boundary-dispute-issues-live-webinar/
CATEGORIES:Land Surveyors,Professional Engineers
END:VEVENT
BEGIN:VEVENT
DTSTART;TZID=UTC:20210811T180000
DTEND;TZID=UTC:20210811T220000
DTSTAMP:20260424T234358
CREATED:20210629T175813Z
LAST-MODIFIED:20210629T175813Z
UID:24053-1628704800-1628719200@www.iceclasses.com
SUMMARY:IVE WEBINAR .. Eminent Domain: Power of Government to take private property for public use
DESCRIPTION:
URL:https://www.iceclasses.com/event/ive-webinar-eminent-domain-power-of-government-to-take-private-property-for-public-use/
CATEGORIES:Land Surveyors,Professional Engineers
END:VEVENT
BEGIN:VEVENT
DTSTART;TZID=UTC:20210808T080000
DTEND;TZID=UTC:20210808T120000
DTSTAMP:20260424T234358
CREATED:20210629T170603Z
LAST-MODIFIED:20210629T170603Z
UID:24044-1628409600-1628424000@www.iceclasses.com
SUMMARY:Deeds: How to Deal with Ambiguous Legal Deed Descriptions- Live Webinar
DESCRIPTION:
URL:https://www.iceclasses.com/event/deeds-how-to-deal-with-ambiguous-legal-deed-descriptions-live-webinar/
CATEGORIES:Land Surveyors,Professional Engineers
END:VEVENT
BEGIN:VEVENT
DTSTART;TZID=UTC:20210721T180000
DTEND;TZID=UTC:20210721T220000
DTSTAMP:20260424T234358
CREATED:20210629T175203Z
LAST-MODIFIED:20210629T175203Z
UID:24050-1626890400-1626904800@www.iceclasses.com
SUMMARY:ADVERSE POSSESSION: WHEN & HOW THIS HAPPENS & HOW TO PROTECT AN INNOCENT PRIVATE OWNER AGAINST THIS REGULATION .. LIVE WEBINAR
DESCRIPTION:
URL:https://www.iceclasses.com/event/adverse-possession-when-how-this-happens-how-to-protect-an-innocent-private-owner-against-this-regulation-live-webinar/
CATEGORIES:Land Surveyors,Professional Engineers
END:VEVENT
BEGIN:VEVENT
DTSTART;TZID=UTC:20210629T180000
DTEND;TZID=UTC:20210629T220000
DTSTAMP:20260424T234358
CREATED:20210629T180929Z
LAST-MODIFIED:20210629T181124Z
UID:24058-1624989600-1625004000@www.iceclasses.com
SUMMARY:Surveyors Rights & Liabilities to Enter Private Property for Performance of Survey .. LIVE WEBINAR
DESCRIPTION:
URL:https://www.iceclasses.com/event/surveyors-rights-liabilities-to-enter-private-property-for-performance-of-survey-live-webinar/
CATEGORIES:Land Surveyors,Professional Engineers
END:VEVENT
BEGIN:VEVENT
DTSTART;TZID=UTC:20210629T080000
DTEND;TZID=UTC:20210629T120000
DTSTAMP:20260424T234358
CREATED:20210629T164454Z
LAST-MODIFIED:20210629T164608Z
UID:24040-1624953600-1624968000@www.iceclasses.com
SUMMARY:Ethical issues of Land Surveying Professionals: Live Webinar
DESCRIPTION:
URL:https://www.iceclasses.com/event/ethical-issues-of-land-surveying-professionals-live-webinar/
CATEGORIES:Land Surveyors,Professional Engineers
END:VEVENT
BEGIN:VEVENT
DTSTART;TZID=UTC:20200404T080000
DTEND;TZID=UTC:20200404T120000
DTSTAMP:20260424T234358
CREATED:20191204T205213Z
LAST-MODIFIED:20200410T170742Z
UID:14947-1585987200-1586001600@www.iceclasses.com
SUMMARY:Live Webinar: Real Property Descriptions
DESCRIPTION:
URL:https://www.iceclasses.com/event/real-property-descriptions-and-easements-rights-and-responsibilities-in-the-lands-of-others-2/
CATEGORIES:Land Surveyors,Professional Engineers
END:VEVENT
BEGIN:VEVENT
DTSTART;TZID=UTC:20200308T083000
DTEND;TZID=UTC:20200308T170000
DTSTAMP:20260424T234358
CREATED:20200113T160329Z
LAST-MODIFIED:20200113T160436Z
UID:15368-1583656200-1583686800@www.iceclasses.com
SUMMARY:Land Surveyors Winter Conference Day 3:
DESCRIPTION:Mathematics for Land Surveyors \nEminent Domain: Power of Government to take private property for public use
URL:https://www.iceclasses.com/event/land-surveyors-winter-conference-day-4/
CATEGORIES:Land Surveyors
END:VEVENT
BEGIN:VEVENT
DTSTART;TZID=UTC:20200223T083000
DTEND;TZID=UTC:20200223T170000
DTSTAMP:20260424T234358
CREATED:20200113T155130Z
LAST-MODIFIED:20200113T155130Z
UID:15364-1582446600-1582477200@www.iceclasses.com
SUMMARY:LAND SURVEYOR WINTER CONFERENCE DAY 1- FEB. 23\, 2020
DESCRIPTION:Deeds: How to Deal with Ambiguous Legal Deed Descriptions \nAdverse Possession: When & how this happens & how to protect an innocent private owner against this regulation
URL:https://www.iceclasses.com/event/land-surveyor-winter-conference-day-1-feb-23-2020/
CATEGORIES:Land Surveyors
END:VEVENT
BEGIN:VEVENT
DTSTART;TZID=UTC:20200113T083000
DTEND;TZID=UTC:20200113T170000
DTSTAMP:20260424T234358
CREATED:20200113T160129Z
LAST-MODIFIED:20200113T160129Z
UID:15366-1578904200-1578934800@www.iceclasses.com
SUMMARY:Land Surveyors Winter Conference Day 2
DESCRIPTION:Ethical Issues of Land Surveying Professionals \nSurveyors Rights & Liabilities to Enter Private Property for Performance of Survey:
URL:https://www.iceclasses.com/event/land-surveyors-winter-conference-day-2/
CATEGORIES:Land Surveyors
END:VEVENT
BEGIN:VEVENT
DTSTART;TZID=UTC:20191123T080000
DTEND;TZID=UTC:20191123T163000
DTSTAMP:20260424T234358
CREATED:20191020T160503Z
LAST-MODIFIED:20191020T170115Z
UID:14444-1574496000-1574526600@www.iceclasses.com
SUMMARY:“Crash Preparation Course for NCEES Fundamental &  Principal and Practice Land Surveying Licensing Exam”
DESCRIPTION:
URL:https://www.iceclasses.com/event/crash-preparation-course-for-ncees-fundamental-principal-and-practice-civil-engineering-licensing-exam/
CATEGORIES:Land Surveyors
END:VEVENT
BEGIN:VEVENT
DTSTART;TZID=UTC:20191013T110000
DTEND;TZID=UTC:20191013T123000
DTSTAMP:20260424T234358
CREATED:20190919T140833Z
LAST-MODIFIED:20191008T212410Z
UID:14079-1570964400-1570969800@www.iceclasses.com
SUMMARY:"Tricks/Tips for NCEES Land Surveying Exams" Workshop
DESCRIPTION:
URL:https://www.iceclasses.com/event/tricks-tips-for-ncees-land-surveying-exams-workshop/
CATEGORIES:Land Surveyors
END:VEVENT
BEGIN:VEVENT
DTSTART;TZID=UTC:20190608T083000
DTEND;TZID=UTC:20190608T163000
DTSTAMP:20260424T234358
CREATED:20190211T162845Z
LAST-MODIFIED:20190211T164128Z
UID:11723-1559982600-1560011400@www.iceclasses.com
SUMMARY:HANDS ON- Elevation Certificates and FEMA Flood Insurance Rate Mapping Issues
DESCRIPTION:
URL:https://www.iceclasses.com/event/hands-on-elevation-certificates-and-fema-flood-insurance-rate-mapping-issues/
CATEGORIES:Land Surveyors,Professional Engineers
END:VEVENT
BEGIN:VEVENT
DTSTART;TZID=UTC:20190203T083000
DTEND;TZID=UTC:20190203T170000
DTSTAMP:20260424T234358
CREATED:20181213T214747Z
LAST-MODIFIED:20181213T214747Z
UID:11130-1549182600-1549213200@www.iceclasses.com
SUMMARY:Land Surveyor Winter Conference Day 3-Get 8 Ceu's in 1 Day: Live Class
DESCRIPTION:Morning Lecture: Boundary Survey & How to Deal with Boundary Dispute Issues: 4 ceu’s Time: 8:30am to 12:30pm  \nCourse Outline: \n\nWhat is a boundary survey?\nWhat are the requirements of a complete boundary survey?\nWhy a retracement surveyor should follow the footsteps of original surveyor?\nFactors affecting cost of boundary survey.\nRegulations of Boundary Survey.\nComplications that can arise in the absence of reliable surveys?\nHow to deal with boundary dispute issues with real life examples.\n\nAfternoon Lecture: Adverse Possession: When & how this happens & how to protect an innocent private owner against this regulation 4 ceu’s Time: 1pm to 5pm \nCourse outline: \n\nWhat is adverse possession in the land surveying profession\nAdverse possession: when and how this happens\nWhat are the legal requirements of adverse possession\nState regulations of adverse possession doctrine\nWhat private and owners need to know in order to protect their property how to protect an innocent owner against this doctrine
URL:https://www.iceclasses.com/event/land-surveyor-winter-conference-day-3-get-8-ceus-in-1-day-live-class/
CATEGORIES:Land Surveyors
END:VEVENT
BEGIN:VEVENT
DTSTART;TZID=UTC:20190127T083000
DTEND;TZID=UTC:20190127T170000
DTSTAMP:20260424T234358
CREATED:20181213T214406Z
LAST-MODIFIED:20181213T214611Z
UID:11128-1548577800-1548608400@www.iceclasses.com
SUMMARY:Land Surveyor Winter Conference - Get 16 credits in one weekend
DESCRIPTION:Mathematics for Land Surveyors  4 ceu’s Time: 8:30am to 12:30pm \nCourse Outline: \n\nWhy mathematics is important.\nWhich portion of mathematics knowledge is critical?\nHow inadequate knowledge of mathematics can create problems in performing land surveying jobs.\nAnswer basic and advanced mathematic problems.\nRecognize solution formats for problems and then make correct effective use of appropriate methods to solve them.\nHow to visualize immediate preliminary solution to complex mathematical problems\n\nEminent Domain: Power of Government to take private property for public use 4 ceu’s Time: 1pm to 5pm  \nCourse Outline: \n\nWhat is eminent domain\nEminent Domain: when and how this happens?\nWhat elements need to be fulfilled in order to enact the eminent domain doctrine?\nWhat are the provisions of remuneration given to ta private owner whose property is taken by eminent domain?\nCan an innocent private owner be exempted from the provision of eminent domain?
URL:https://www.iceclasses.com/event/land-surveyor-winter-conference-get-16-credits-in-one-weekend/
CATEGORIES:Land Surveyors
END:VEVENT
BEGIN:VEVENT
DTSTART;TZID=UTC:20190126T083000
DTEND;TZID=UTC:20190126T170000
DTSTAMP:20260424T234358
CREATED:20181213T212908Z
LAST-MODIFIED:20181213T212939Z
UID:11126-1548491400-1548522000@www.iceclasses.com
SUMMARY:Winter Conference: Land Surveyor
DESCRIPTION:DAY 1 – Saturday January 26\, 2019  Time: 8:30am to 5pm  \nEthical issues of Land Surveying Professionals: 4 ceu’s ( Mandatory for License Renewal) Time: 8:30am to 12:30pm  \nCourse Outline: Required topic for License Renewal \n\nIdentify ethical issues\nSolve practical problems related to ethics\nDescribe and avoid pitfalls related to ethics.\nWhy maintain high ethical Standards\nHow to maintain high ethical standards\n\nDeeds: How to Deal with Ambiguous Legal Deed Descriptions: 4ceu’s Time: 1pm to 5pm  \nCourse Outline: \n\nWhat is a deed description\nVarious terminologies related to deed description\nDescription of various parts of a Deed\nHow to write an effective deed description\nPitfalls in writing deed descriptions\nHow ambiguous deed description can create problems with real life examples
URL:https://www.iceclasses.com/event/winter-conference-land-surveyor/
CATEGORIES:Land Surveyors
END:VEVENT
BEGIN:VEVENT
DTSTART;TZID=UTC:20181208T130000
DTEND;TZID=UTC:20181208T170000
DTSTAMP:20260424T234358
CREATED:20180827T152056Z
LAST-MODIFIED:20181203T144342Z
UID:10354-1544274000-1544288400@www.iceclasses.com
SUMMARY:Mathematics for Land Surveyors /Engineers -Attend Live or Attend by Live Webinar
DESCRIPTION:
URL:https://www.iceclasses.com/event/mathematics-for-land-surveyors-engineers-attend-live-or-attend-by-live-webinar/
CATEGORIES:Land Surveyors,Professional Engineers
END:VEVENT
BEGIN:VEVENT
DTSTART;TZID=UTC:20181208T083000
DTEND;TZID=UTC:20181208T123000
DTSTAMP:20260424T234358
CREATED:20180827T170504Z
LAST-MODIFIED:20181203T144259Z
UID:10369-1544257800-1544272200@www.iceclasses.com
SUMMARY:Deeds: How to Deal with Ambiguous Legal Deed Descriptions- Attend Live or Attend by Live Webinar
DESCRIPTION:
URL:https://www.iceclasses.com/event/deeds-how-to-deal-with-ambiguous-legal-deed-descriptions-attend-live-or-attend-by-live-webinar/
CATEGORIES:Land Surveyors,Professional Engineers
END:VEVENT
BEGIN:VEVENT
DTSTART;TZID=UTC:20181202T083000
DTEND;TZID=UTC:20181202T123000
DTSTAMP:20260424T234358
CREATED:20180827T163809Z
LAST-MODIFIED:20180827T163809Z
UID:10364-1543739400-1543753800@www.iceclasses.com
SUMMARY:Boundary Survey & How to Deal with Boundary Dispute Issues- Attend Live or Attend by Live Webinar
DESCRIPTION:
URL:https://www.iceclasses.com/event/boundary-survey-how-to-deal-with-boundary-dispute-issues-attend-live-or-attend-by-live-webinar/
CATEGORIES:Land Surveyors
END:VEVENT
BEGIN:VEVENT
DTSTART;TZID=UTC:20181103T080000
DTEND;TZID=UTC:20181103T120000
DTSTAMP:20260424T234358
CREATED:20180827T153939Z
LAST-MODIFIED:20180827T160459Z
UID:10360-1541232000-1541246400@www.iceclasses.com
SUMMARY:Ethical issues of Land Surveying Professionals: Attend Live or Attend by Live Webinar
DESCRIPTION:
URL:https://www.iceclasses.com/event/ethical-issues-of-land-surveying-professionals-attend-live-or-attend-by-live-webinar/
CATEGORIES:Land Surveyors
END:VEVENT
BEGIN:VEVENT
DTSTART;TZID=UTC:20180418T083000
DTEND;TZID=UTC:20180418T170000
DTSTAMP:20260424T234358
CREATED:20180121T182308Z
LAST-MODIFIED:20180329T124028Z
UID:8694-1524040200-1524070800@www.iceclasses.com
SUMMARY:Tracking the Railroads and Utilities\, Public and Otherwise
DESCRIPTION:
URL:https://www.iceclasses.com/event/tracking-the-railroads-and-utilities-public-and-otherwise/
CATEGORIES:Land Surveyors,Professional Engineers
END:VEVENT
BEGIN:VEVENT
DTSTART;TZID=UTC:20180415T123000
DTEND;TZID=UTC:20180415T153000
DTSTAMP:20260424T234358
CREATED:20180125T210533Z
LAST-MODIFIED:20180208T214131Z
UID:8768-1523795400-1523806200@www.iceclasses.com
SUMMARY:Deed: How to Deal with Ambiguous Legal Deed Descriptions
DESCRIPTION:
URL:https://www.iceclasses.com/event/deed-how-to-deal-with-ambiguous-legal-deed-descriptions-2/
CATEGORIES:Land Surveyors
END:VEVENT
BEGIN:VEVENT
DTSTART;TZID=UTC:20180415T090000
DTEND;TZID=UTC:20180415T120000
DTSTAMP:20260424T234358
CREATED:20180125T190840Z
LAST-MODIFIED:20180208T214025Z
UID:8758-1523782800-1523793600@www.iceclasses.com
SUMMARY:Boundary Survey & How to Deal with Boundary Dispute Issues
DESCRIPTION:Stay for a full day of classes by taking this class with: \nHow to Deal with Ambiguous Legal Deed Descriptions
URL:https://www.iceclasses.com/event/adverse-possession-when-and-how-this-happens-and-how-to-protect-an-innocent-private-owner-against-this-regulation-2/
CATEGORIES:Land Surveyors
END:VEVENT
BEGIN:VEVENT
DTSTART;TZID=UTC:20180329T083000
DTEND;TZID=UTC:20180329T163000
DTSTAMP:20260424T234358
CREATED:20180121T182820Z
LAST-MODIFIED:20180217T140121Z
UID:8698-1522312200-1522341000@www.iceclasses.com
SUMMARY:Elevation Certificates and FEMA Flood Insurance Mapping Issues
DESCRIPTION:
URL:https://www.iceclasses.com/event/elevation-certificates-and-fema-flood-insurance-mapping-issues-2/
CATEGORIES:Land Surveyors,Professional Engineers
END:VEVENT
BEGIN:VEVENT
DTSTART;TZID=UTC:20180328T083000
DTEND;TZID=UTC:20180328T173000
DTSTAMP:20260424T234358
CREATED:20180121T182504Z
LAST-MODIFIED:20180217T140236Z
UID:8696-1522225800-1522258200@www.iceclasses.com
SUMMARY:Real Property Descriptions and Easements: Rights and Responsibilities in the Lands of others
DESCRIPTION:
URL:https://www.iceclasses.com/event/real-property-descriptions-and-easements-rights-and-responsibilities-in-the-lands-of-others/
CATEGORIES:Land Surveyors,Professional Engineers
END:VEVENT
END:VCALENDAR