BEGIN:VCALENDAR
VERSION:2.0
PRODID:-//ICE Classes - ECPv6.15.20//NONSGML v1.0//EN
CALSCALE:GREGORIAN
METHOD:PUBLISH
X-WR-CALNAME:ICE Classes
X-ORIGINAL-URL:https://www.iceclasses.com
X-WR-CALDESC:Events for ICE Classes
REFRESH-INTERVAL;VALUE=DURATION:PT1H
X-Robots-Tag:noindex
X-PUBLISHED-TTL:PT1H
BEGIN:VTIMEZONE
TZID:UTC
BEGIN:STANDARD
TZOFFSETFROM:+0000
TZOFFSETTO:+0000
TZNAME:UTC
DTSTART:20220101T000000
END:STANDARD
END:VTIMEZONE
BEGIN:VEVENT
DTSTART;TZID=UTC:20250406T083000
DTEND;TZID=UTC:20250406T123000
DTSTAMP:20260424T183937
CREATED:20250228T185651Z
LAST-MODIFIED:20250228T185651Z
UID:41089-1743928200-1743942600@www.iceclasses.com
SUMMARY:Eminent Domain: Power of Government to Take Private Property for Public Use
DESCRIPTION:
URL:https://www.iceclasses.com/event/eminent-domain-power-of-government-to-take-private-property-for-public-use/
CATEGORIES:Land Surveyors,Professional Engineers
END:VEVENT
BEGIN:VEVENT
DTSTART;TZID=UTC:20250326T080000
DTEND;TZID=UTC:20250326T120000
DTSTAMP:20260424T183937
CREATED:20250326T185518Z
LAST-MODIFIED:20250326T185843Z
UID:41346-1742976000-1742990400@www.iceclasses.com
SUMMARY:FEMA Flood Insurance Mapping Issues
DESCRIPTION:
URL:https://www.iceclasses.com/event/fema-flood-insurance-mapping-issues/
CATEGORIES:Land Surveyors,Professional Engineers
END:VEVENT
BEGIN:VEVENT
DTSTART;TZID=UTC:20250228T083000
DTEND;TZID=UTC:20250228T123000
DTSTAMP:20260424T183937
CREATED:20250228T190517Z
LAST-MODIFIED:20250228T191337Z
UID:41091-1740731400-1740745800@www.iceclasses.com
SUMMARY:Surveyors Rights & Liabilities to Enter Private Property for Performance of Survey
DESCRIPTION:
URL:https://www.iceclasses.com/event/surveyors-rights-liabilities-to-enter-private-property-for-performance-of-survey/
CATEGORIES:Land Surveyors,Professional Engineers
END:VEVENT
BEGIN:VEVENT
DTSTART;TZID=UTC:20250228T083000
DTEND;TZID=UTC:20250228T123000
DTSTAMP:20260424T183937
CREATED:20250228T185117Z
LAST-MODIFIED:20250228T185142Z
UID:41087-1740731400-1740745800@www.iceclasses.com
SUMMARY:Deeds: How to Deal with Ambiguous Legal Deed Descriptions
DESCRIPTION:
URL:https://www.iceclasses.com/event/deeds-how-to-deal-with-ambiguous-legal-deed-descriptions/
CATEGORIES:Land Surveyors,Professional Engineers
END:VEVENT
BEGIN:VEVENT
DTSTART;TZID=UTC:20230622T113000
DTEND;TZID=UTC:20230622T153000
DTSTAMP:20260424T183937
CREATED:20230301T161245Z
LAST-MODIFIED:20230301T161245Z
UID:29592-1687433400-1687447800@www.iceclasses.com
SUMMARY:AMERICAN HEART ASSOCIATION HEARTSAVER BASIC FIRST AID FOR LAND SURVEYORS AND ENGINEERS
DESCRIPTION:
URL:https://www.iceclasses.com/event/american-heart-association-heartsaver-basic-first-aid-for-land-surveyors-and-engineers-11/
CATEGORIES:Land Surveyors,Professional Engineers
END:VEVENT
BEGIN:VEVENT
DTSTART;TZID=UTC:20230622T080000
DTEND;TZID=UTC:20230622T110000
DTSTAMP:20260424T183937
CREATED:20230301T162049Z
LAST-MODIFIED:20230301T162049Z
UID:29614-1687420800-1687431600@www.iceclasses.com
SUMMARY:AMERICAN HEART ASSOCIATION HEARTSAVER CPR & AED FOR LAND SURVEYORS AND ENGINEERS
DESCRIPTION:
URL:https://www.iceclasses.com/event/american-heart-association-heartsaver-cpr-aed-for-land-surveyors-and-engineers-11/
CATEGORIES:Land Surveyors,Professional Engineers
END:VEVENT
BEGIN:VEVENT
DTSTART;TZID=UTC:20230611T113000
DTEND;TZID=UTC:20230611T153000
DTSTAMP:20260424T183937
CREATED:20230301T161101Z
LAST-MODIFIED:20230301T161202Z
UID:29590-1686483000-1686497400@www.iceclasses.com
SUMMARY:AMERICAN HEART ASSOCIATION HEARTSAVER BASIC FIRST AID FOR LAND SURVEYORS AND ENGINEERS
DESCRIPTION:
URL:https://www.iceclasses.com/event/american-heart-association-heartsaver-basic-first-aid-for-land-surveyors-and-engineers-10/
CATEGORIES:Land Surveyors,Professional Engineers
END:VEVENT
BEGIN:VEVENT
DTSTART;TZID=UTC:20230611T080000
DTEND;TZID=UTC:20230611T110000
DTSTAMP:20260424T183937
CREATED:20230301T162015Z
LAST-MODIFIED:20230301T162015Z
UID:29612-1686470400-1686481200@www.iceclasses.com
SUMMARY:AMERICAN HEART ASSOCIATION HEARTSAVER CPR & AED FOR LAND SURVEYORS AND ENGINEERS
DESCRIPTION:
URL:https://www.iceclasses.com/event/american-heart-association-heartsaver-cpr-aed-for-land-surveyors-and-engineers-10/
CATEGORIES:Land Surveyors,Professional Engineers
END:VEVENT
BEGIN:VEVENT
DTSTART;TZID=UTC:20230608T113000
DTEND;TZID=UTC:20230608T153000
DTSTAMP:20260424T183937
CREATED:20230301T161023Z
LAST-MODIFIED:20230301T161023Z
UID:29588-1686223800-1686238200@www.iceclasses.com
SUMMARY:AMERICAN HEART ASSOCIATION HEARTSAVER BASIC FIRST AID FOR LAND SURVEYORS AND ENGINEERS
DESCRIPTION:
URL:https://www.iceclasses.com/event/american-heart-association-heartsaver-basic-first-aid-for-land-surveyors-and-engineers-9/
CATEGORIES:Land Surveyors,Professional Engineers
END:VEVENT
BEGIN:VEVENT
DTSTART;TZID=UTC:20230608T080000
DTEND;TZID=UTC:20230608T110000
DTSTAMP:20260424T183937
CREATED:20230301T161945Z
LAST-MODIFIED:20230301T161945Z
UID:29610-1686211200-1686222000@www.iceclasses.com
SUMMARY:AMERICAN HEART ASSOCIATION HEARTSAVER CPR & AED FOR LAND SURVEYORS AND ENGINEERS
DESCRIPTION:
URL:https://www.iceclasses.com/event/american-heart-association-heartsaver-cpr-aed-for-land-surveyors-and-engineers-9/
CATEGORIES:Land Surveyors,Professional Engineers
END:VEVENT
BEGIN:VEVENT
DTSTART;TZID=UTC:20230525T113000
DTEND;TZID=UTC:20230525T153000
DTSTAMP:20260424T183937
CREATED:20230301T160904Z
LAST-MODIFIED:20230301T160904Z
UID:29586-1685014200-1685028600@www.iceclasses.com
SUMMARY:AMERICAN HEART ASSOCIATION HEARTSAVER BASIC FIRST AID FOR LAND SURVEYORS AND ENGINEERS
DESCRIPTION:
URL:https://www.iceclasses.com/event/american-heart-association-heartsaver-basic-first-aid-for-land-surveyors-and-engineers-8/
CATEGORIES:Land Surveyors,Professional Engineers
END:VEVENT
BEGIN:VEVENT
DTSTART;TZID=UTC:20230525T080000
DTEND;TZID=UTC:20230525T110000
DTSTAMP:20260424T183937
CREATED:20230301T161905Z
LAST-MODIFIED:20230301T161905Z
UID:29608-1685001600-1685012400@www.iceclasses.com
SUMMARY:AMERICAN HEART ASSOCIATION HEARTSAVER CPR & AED FOR LAND SURVEYORS AND ENGINEERS
DESCRIPTION:
URL:https://www.iceclasses.com/event/american-heart-association-heartsaver-cpr-aed-for-land-surveyors-and-engineers-8/
CATEGORIES:Land Surveyors,Professional Engineers
END:VEVENT
BEGIN:VEVENT
DTSTART;TZID=UTC:20230518T113000
DTEND;TZID=UTC:20230518T153000
DTSTAMP:20260424T183937
CREATED:20230301T160639Z
LAST-MODIFIED:20230301T160639Z
UID:29583-1684409400-1684423800@www.iceclasses.com
SUMMARY:AMERICAN HEART ASSOCIATION HEARTSAVER BASIC FIRST AID FOR LAND SURVEYORS AND ENGINEERS
DESCRIPTION:
URL:https://www.iceclasses.com/event/american-heart-association-heartsaver-basic-first-aid-for-land-surveyors-and-engineers-7/
CATEGORIES:Land Surveyors,Professional Engineers
END:VEVENT
BEGIN:VEVENT
DTSTART;TZID=UTC:20230518T080000
DTEND;TZID=UTC:20230518T120000
DTSTAMP:20260424T183937
CREATED:20230301T162458Z
LAST-MODIFIED:20230301T162458Z
UID:29620-1684396800-1684411200@www.iceclasses.com
SUMMARY:TRACKING THE RAILROADS: LIVE WEBINAR
DESCRIPTION:
URL:https://www.iceclasses.com/event/tracking-the-railroads-live-webinar/
CATEGORIES:Land Surveyors,Professional Engineers
END:VEVENT
BEGIN:VEVENT
DTSTART;TZID=UTC:20230518T080000
DTEND;TZID=UTC:20230518T110000
DTSTAMP:20260424T183937
CREATED:20230301T161833Z
LAST-MODIFIED:20230301T161833Z
UID:29606-1684396800-1684407600@www.iceclasses.com
SUMMARY:AMERICAN HEART ASSOCIATION HEARTSAVER CPR & AED FOR LAND SURVEYORS AND ENGINEERS
DESCRIPTION:
URL:https://www.iceclasses.com/event/american-heart-association-heartsaver-cpr-aed-for-land-surveyors-and-engineers-7/
CATEGORIES:Land Surveyors,Professional Engineers
END:VEVENT
BEGIN:VEVENT
DTSTART;TZID=UTC:20230507T113000
DTEND;TZID=UTC:20230507T153000
DTSTAMP:20260424T183937
CREATED:20230301T160606Z
LAST-MODIFIED:20230301T160606Z
UID:29581-1683459000-1683473400@www.iceclasses.com
SUMMARY:AMERICAN HEART ASSOCIATION HEARTSAVER BASIC FIRST AID FOR LAND SURVEYORS AND ENGINEERS
DESCRIPTION:
URL:https://www.iceclasses.com/event/american-heart-association-heartsaver-basic-first-aid-for-land-surveyors-and-engineers-6/
CATEGORIES:Land Surveyors,Professional Engineers
END:VEVENT
BEGIN:VEVENT
DTSTART;TZID=UTC:20230507T080000
DTEND;TZID=UTC:20230507T110000
DTSTAMP:20260424T183937
CREATED:20230301T161800Z
LAST-MODIFIED:20230301T161800Z
UID:29604-1683446400-1683457200@www.iceclasses.com
SUMMARY:AMERICAN HEART ASSOCIATION HEARTSAVER CPR & AED FOR LAND SURVEYORS AND ENGINEERS
DESCRIPTION:
URL:https://www.iceclasses.com/event/american-heart-association-heartsaver-cpr-aed-for-land-surveyors-and-engineers-6/
CATEGORIES:Land Surveyors,Professional Engineers
END:VEVENT
BEGIN:VEVENT
DTSTART;TZID=UTC:20230430T080000
DTEND;TZID=UTC:20230430T120000
DTSTAMP:20260424T183937
CREATED:20230301T162354Z
LAST-MODIFIED:20230301T162354Z
UID:29618-1682841600-1682856000@www.iceclasses.com
SUMMARY:RIGHTS AND RESPONSIBILITIES IN THE LANDS OF OTHERS: THE EFFECT OF EASEMENTS ON SURVEYORS’ WORK: LIVE WEBINAR
DESCRIPTION:
URL:https://www.iceclasses.com/event/rights-and-responsibilities-in-the-lands-of-others-the-effect-of-easements-on-surveyors-work-live-webinar/
CATEGORIES:Land Surveyors,Professional Engineers
END:VEVENT
BEGIN:VEVENT
DTSTART;TZID=UTC:20230423T113000
DTEND;TZID=UTC:20230423T153000
DTSTAMP:20260424T183937
CREATED:20230301T160257Z
LAST-MODIFIED:20230301T160257Z
UID:29579-1682249400-1682263800@www.iceclasses.com
SUMMARY:AMERICAN HEART ASSOCIATION HEARTSAVER BASIC FIRST AID FOR LAND SURVEYORS AND ENGINEERS
DESCRIPTION:
URL:https://www.iceclasses.com/event/american-heart-association-heartsaver-basic-first-aid-for-land-surveyors-and-engineers-5/
CATEGORIES:Land Surveyors,Professional Engineers
END:VEVENT
BEGIN:VEVENT
DTSTART;TZID=UTC:20230423T080000
DTEND;TZID=UTC:20230423T110000
DTSTAMP:20260424T183937
CREATED:20230301T161717Z
LAST-MODIFIED:20230301T161717Z
UID:29602-1682236800-1682247600@www.iceclasses.com
SUMMARY:AMERICAN HEART ASSOCIATION HEARTSAVER CPR & AED FOR LAND SURVEYORS AND ENGINEERS
DESCRIPTION:
URL:https://www.iceclasses.com/event/american-heart-association-heartsaver-cpr-aed-for-land-surveyors-and-engineers-5/
CATEGORIES:Land Surveyors,Professional Engineers
END:VEVENT
BEGIN:VEVENT
DTSTART;TZID=UTC:20230413T113000
DTEND;TZID=UTC:20230413T153000
DTSTAMP:20260424T183937
CREATED:20230301T160221Z
LAST-MODIFIED:20230301T160221Z
UID:29577-1681385400-1681399800@www.iceclasses.com
SUMMARY:AMERICAN HEART ASSOCIATION HEARTSAVER BASIC FIRST AID FOR LAND SURVEYORS AND ENGINEERS
DESCRIPTION:
URL:https://www.iceclasses.com/event/american-heart-association-heartsaver-basic-first-aid-for-land-surveyors-and-engineers-4/
CATEGORIES:Land Surveyors,Professional Engineers
END:VEVENT
BEGIN:VEVENT
DTSTART;TZID=UTC:20230413T080000
DTEND;TZID=UTC:20230413T110000
DTSTAMP:20260424T183937
CREATED:20230301T161645Z
LAST-MODIFIED:20230301T161645Z
UID:29600-1681372800-1681383600@www.iceclasses.com
SUMMARY:AMERICAN HEART ASSOCIATION HEARTSAVER CPR & AED FOR LAND SURVEYORS AND ENGINEERS
DESCRIPTION:
URL:https://www.iceclasses.com/event/american-heart-association-heartsaver-cpr-aed-for-land-surveyors-and-engineers-4/
CATEGORIES:Land Surveyors,Professional Engineers
END:VEVENT
BEGIN:VEVENT
DTSTART;TZID=UTC:20230323T113000
DTEND;TZID=UTC:20230323T153000
DTSTAMP:20260424T183937
CREATED:20230301T155803Z
LAST-MODIFIED:20230301T155803Z
UID:29575-1679571000-1679585400@www.iceclasses.com
SUMMARY:AMERICAN HEART ASSOCIATION HEARTSAVER BASIC FIRST AID FOR LAND SURVEYORS AND ENGINEERS
DESCRIPTION:
URL:https://www.iceclasses.com/event/american-heart-association-heartsaver-basic-first-aid-for-land-surveyors-and-engineers-3/
CATEGORIES:Land Surveyors,Professional Engineers
END:VEVENT
BEGIN:VEVENT
DTSTART;TZID=UTC:20230323T080000
DTEND;TZID=UTC:20230323T110000
DTSTAMP:20260424T183937
CREATED:20230301T161530Z
LAST-MODIFIED:20230301T161530Z
UID:29598-1679558400-1679569200@www.iceclasses.com
SUMMARY:AMERICAN HEART ASSOCIATION HEARTSAVER CPR & AED FOR LAND SURVEYORS AND ENGINEERS
DESCRIPTION:
URL:https://www.iceclasses.com/event/american-heart-association-heartsaver-cpr-aed-for-land-surveyors-and-engineers-3/
CATEGORIES:Land Surveyors,Professional Engineers
END:VEVENT
BEGIN:VEVENT
DTSTART;TZID=UTC:20230312T113000
DTEND;TZID=UTC:20230312T153000
DTSTAMP:20260424T183937
CREATED:20230301T155733Z
LAST-MODIFIED:20230301T155733Z
UID:29573-1678620600-1678635000@www.iceclasses.com
SUMMARY:AMERICAN HEART ASSOCIATION HEARTSAVER BASIC FIRST AID FOR LAND SURVEYORS AND ENGINEERS
DESCRIPTION:
URL:https://www.iceclasses.com/event/american-heart-association-heartsaver-basic-first-aid-for-land-surveyors-and-engineers-2/
CATEGORIES:Land Surveyors,Professional Engineers
END:VEVENT
BEGIN:VEVENT
DTSTART;TZID=UTC:20230312T080000
DTEND;TZID=UTC:20230312T110000
DTSTAMP:20260424T183937
CREATED:20230301T161447Z
LAST-MODIFIED:20230301T161447Z
UID:29596-1678608000-1678618800@www.iceclasses.com
SUMMARY:AMERICAN HEART ASSOCIATION HEARTSAVER CPR & AED FOR LAND SURVEYORS AND ENGINEERS
DESCRIPTION:
URL:https://www.iceclasses.com/event/american-heart-association-heartsaver-cpr-aed-for-land-surveyors-and-engineers-2/
CATEGORIES:Land Surveyors,Professional Engineers
END:VEVENT
BEGIN:VEVENT
DTSTART;TZID=UTC:20230309T113000
DTEND;TZID=UTC:20230309T153000
DTSTAMP:20260424T183937
CREATED:20230301T155631Z
LAST-MODIFIED:20230301T155631Z
UID:29571-1678361400-1678375800@www.iceclasses.com
SUMMARY:AMERICAN HEART ASSOCIATION HEARTSAVER BASIC FIRST AID FOR LAND SURVEYORS AND ENGINEERS
DESCRIPTION:
URL:https://www.iceclasses.com/event/american-heart-association-heartsaver-basic-first-aid-for-land-surveyors-and-engineers/
CATEGORIES:Land Surveyors,Professional Engineers
END:VEVENT
BEGIN:VEVENT
DTSTART;TZID=UTC:20230309T080000
DTEND;TZID=UTC:20230309T110000
DTSTAMP:20260424T183937
CREATED:20230301T161413Z
LAST-MODIFIED:20230301T161413Z
UID:29594-1678348800-1678359600@www.iceclasses.com
SUMMARY:AMERICAN HEART ASSOCIATION HEARTSAVER CPR & AED FOR LAND SURVEYORS AND ENGINEERS
DESCRIPTION:
URL:https://www.iceclasses.com/event/american-heart-association-heartsaver-cpr-aed-for-land-surveyors-and-engineers/
CATEGORIES:Land Surveyors,Professional Engineers
END:VEVENT
BEGIN:VEVENT
DTSTART;TZID=UTC:20230308T183000
DTEND;TZID=UTC:20230308T203000
DTSTAMP:20260424T183937
CREATED:20230301T162232Z
LAST-MODIFIED:20230301T162232Z
UID:29616-1678300200-1678307400@www.iceclasses.com
SUMMARY:FLOODPLAIN MANAGEMENT: HOW TO APPLY FOR A LETTER OF MAP AMENDMENT\, START TO FINISH: LIVE WEBINAR
DESCRIPTION:
URL:https://www.iceclasses.com/event/floodplain-management-how-to-apply-for-a-letter-of-map-amendment-start-to-finish-live-webinar/
CATEGORIES:Land Surveyors,Professional Engineers
END:VEVENT
BEGIN:VEVENT
DTSTART;TZID=UTC:20230301T080000
DTEND;TZID=UTC:20230301T163000
DTSTAMP:20260424T183937
CREATED:20221031T175427Z
LAST-MODIFIED:20230301T164924Z
UID:28400-1677657600-1677688200@www.iceclasses.com
SUMMARY:COURSE 1:GROUNDING & BONDING OF ELECTRICAL SYSTEMS/ELECTRICAL SERVICES(RESIDENTIAL\, COMMERCIAL\, INDUSTRIAL)/NEC QUESTIONS AND ANSWERS
DESCRIPTION:LIVE WEBINAR & ATTEND AT OUR SCHOOL  Friday  3/24/2023
URL:https://www.iceclasses.com/event/28400/
CATEGORIES:Electrical,Land Surveyors,Professional Engineers
END:VEVENT
END:VCALENDAR