BEGIN:VCALENDAR
VERSION:2.0
PRODID:-//ICE Classes - ECPv6.15.20//NONSGML v1.0//EN
CALSCALE:GREGORIAN
METHOD:PUBLISH
X-WR-CALNAME:ICE Classes
X-ORIGINAL-URL:https://www.iceclasses.com
X-WR-CALDESC:Events for ICE Classes
REFRESH-INTERVAL;VALUE=DURATION:PT1H
X-Robots-Tag:noindex
X-PUBLISHED-TTL:PT1H
BEGIN:VTIMEZONE
TZID:UTC
BEGIN:STANDARD
TZOFFSETFROM:+0000
TZOFFSETTO:+0000
TZNAME:UTC
DTSTART:20160101T000000
END:STANDARD
END:VTIMEZONE
BEGIN:VEVENT
DTSTART;TZID=UTC:20250410T180000
DTEND;TZID=UTC:20250410T210000
DTSTAMP:20260423T192452
CREATED:20250203T183714Z
LAST-MODIFIED:20250203T183921Z
UID:40805-1744308000-1744318800@www.iceclasses.com
SUMMARY:Home Inspector: HVACR
DESCRIPTION:
URL:https://www.iceclasses.com/event/home-inspector-hvacr/
CATEGORIES:Home Inspectors
END:VEVENT
BEGIN:VEVENT
DTSTART;TZID=UTC:20250226T090000
DTEND;TZID=UTC:20250226T120000
DTSTAMP:20260423T192452
CREATED:20250226T161939Z
LAST-MODIFIED:20250226T161949Z
UID:41027-1740560400-1740571200@www.iceclasses.com
SUMMARY:Estimators Bootcamp:  Owners Seminar
DESCRIPTION:This is a 2 day class:  Class 1 Wed. March 12\, 2025  and Class 2 is Wed. March 19th\, 2025 \nTime: 9am to 12pm EST \nTuition includes both dates: \nThis is not a CE PROGRAM
URL:https://www.iceclasses.com/event/estimators-bootcamp-owners-seminar/
CATEGORIES:Electrical,Home Inspectors,Hvacr Contractors,Plumbers
END:VEVENT
BEGIN:VEVENT
DTSTART;TZID=UTC:20250203T090000
DTEND;TZID=UTC:20250203T130000
DTSTAMP:20260423T192452
CREATED:20250203T184412Z
LAST-MODIFIED:20250203T184436Z
UID:40807-1738573200-1738587600@www.iceclasses.com
SUMMARY:Home Inspector: Electrical Wiring
DESCRIPTION:
URL:https://www.iceclasses.com/event/home-inspector-electrical-wiring/
CATEGORIES:Home Inspectors
END:VEVENT
BEGIN:VEVENT
DTSTART;TZID=UTC:20230420T180000
DTEND;TZID=UTC:20230420T210000
DTSTAMP:20260423T192452
CREATED:20230301T154650Z
LAST-MODIFIED:20230301T154650Z
UID:29557-1682013600-1682024400@www.iceclasses.com
SUMMARY:HVAC: HEATING \, VENTILATION AND AC FOR THE HOME INSPECTOR
DESCRIPTION:
URL:https://www.iceclasses.com/event/hvac-heating-ventilation-and-ac-for-the-home-inspector/
CATEGORIES:Home Inspectors
END:VEVENT
BEGIN:VEVENT
DTSTART;TZID=UTC:20230418T130000
DTEND;TZID=UTC:20230418T170000
DTSTAMP:20260423T192452
CREATED:20230301T155148Z
LAST-MODIFIED:20230301T155148Z
UID:29567-1681822800-1681837200@www.iceclasses.com
SUMMARY:NJ ETHICS; RULES\, REGULATIONS -APPROVED MANDATORY CE
DESCRIPTION:
URL:https://www.iceclasses.com/event/nj-ethics-rules-regulations-approved-mandatory-ce-2/
CATEGORIES:Home Inspectors
END:VEVENT
BEGIN:VEVENT
DTSTART;TZID=UTC:20230418T130000
DTEND;TZID=UTC:20230418T170000
DTSTAMP:20260423T192452
CREATED:20230301T154839Z
LAST-MODIFIED:20230301T154839Z
UID:29561-1681822800-1681837200@www.iceclasses.com
SUMMARY:INSPECTION REPORT WRITING – NJ: MANDATORY CLASS
DESCRIPTION:
URL:https://www.iceclasses.com/event/inspection-report-writing-nj-mandatory-class-2/
CATEGORIES:Home Inspectors
END:VEVENT
BEGIN:VEVENT
DTSTART;TZID=UTC:20230413T180000
DTEND;TZID=UTC:20230413T210000
DTSTAMP:20260423T192452
CREATED:20230301T155303Z
LAST-MODIFIED:20230301T155303Z
UID:29569-1681408800-1681419600@www.iceclasses.com
SUMMARY:PLUMBING FOR THE NEW JERSEY HOME INSPECTOR
DESCRIPTION:
URL:https://www.iceclasses.com/event/plumbing-for-the-new-jersey-home-inspector-2/
CATEGORIES:Home Inspectors
END:VEVENT
BEGIN:VEVENT
DTSTART;TZID=UTC:20230330T180000
DTEND;TZID=UTC:20230330T210000
DTSTAMP:20260423T192452
CREATED:20230301T154508Z
LAST-MODIFIED:20230301T154508Z
UID:29555-1680199200-1680210000@www.iceclasses.com
SUMMARY:EVERYTHING YOU NEED TO KNOW ABOUT ROOFS\, BASIC INFO AND BEYOND
DESCRIPTION:
URL:https://www.iceclasses.com/event/everything-you-need-to-know-about-roofs-basic-info-and-beyond-5/
CATEGORIES:Home Inspectors
END:VEVENT
BEGIN:VEVENT
DTSTART;TZID=UTC:20230328T130000
DTEND;TZID=UTC:20230328T170000
DTSTAMP:20260423T192452
CREATED:20230301T155117Z
LAST-MODIFIED:20230301T155117Z
UID:29565-1680008400-1680022800@www.iceclasses.com
SUMMARY:NJ ETHICS; RULES\, REGULATIONS -APPROVED MANDATORY CE
DESCRIPTION:
URL:https://www.iceclasses.com/event/nj-ethics-rules-regulations-approved-mandatory-ce/
CATEGORIES:Home Inspectors
END:VEVENT
BEGIN:VEVENT
DTSTART;TZID=UTC:20230323T180000
DTEND;TZID=UTC:20230323T210000
DTSTAMP:20260423T192452
CREATED:20230301T154955Z
LAST-MODIFIED:20230301T154955Z
UID:29563-1679594400-1679605200@www.iceclasses.com
SUMMARY:INSPECTIONS OF ELECTRICAL SYSTEMS FOR THE HOME INSPECTOR
DESCRIPTION:
URL:https://www.iceclasses.com/event/inspections-of-electrical-systems-for-the-home-inspector-3/
CATEGORIES:Home Inspectors
END:VEVENT
BEGIN:VEVENT
DTSTART;TZID=UTC:20230321T130000
DTEND;TZID=UTC:20230321T170000
DTSTAMP:20260423T192452
CREATED:20230301T154806Z
LAST-MODIFIED:20230301T154806Z
UID:29559-1679403600-1679418000@www.iceclasses.com
SUMMARY:INSPECTION REPORT WRITING – NJ: MANDATORY CLASS
DESCRIPTION:
URL:https://www.iceclasses.com/event/inspection-report-writing-nj-mandatory-class/
CATEGORIES:Home Inspectors
END:VEVENT
BEGIN:VEVENT
DTSTART;TZID=UTC:20190926T083000
DTEND;TZID=UTC:20190926T170000
DTSTAMP:20260423T192452
CREATED:20190621T120955Z
LAST-MODIFIED:20190912T171009Z
UID:13242-1569486600-1569517200@www.iceclasses.com
SUMMARY:Radon Measurement Technician Course – Live Webinar 16 Hours
DESCRIPTION:This class is available as a Live Webinar from your location\, or Taped Webinar (viewed at your own pace) \n  \nDay one : Thursday Sept. 26th and Friday September 27th\, 2019
URL:https://www.iceclasses.com/event/radon-measurement-technician-course-16-hours-2/
CATEGORIES:Home Inspectors,Plumbers,Professional Engineers
END:VEVENT
BEGIN:VEVENT
DTSTART;TZID=UTC:20190407T083000
DTEND;TZID=UTC:20190407T183000
DTSTAMP:20260423T192452
CREATED:20190201T161730Z
LAST-MODIFIED:20190201T161730Z
UID:11614-1554625800-1554661800@www.iceclasses.com
SUMMARY:Approved Mandatory CE - NJ Ethics; NJ Law\, Rules and Regulations; Inspection Report Writing
DESCRIPTION:
URL:https://www.iceclasses.com/event/approved-mandatory-ce-nj-ethics-nj-law-rules-and-regulations-inspection-report-writing-2/
CATEGORIES:Home Inspectors
END:VEVENT
BEGIN:VEVENT
DTSTART;TZID=UTC:20190330T090000
DTEND;TZID=UTC:20190330T120000
DTSTAMP:20260423T192452
CREATED:20190123T160303Z
LAST-MODIFIED:20190123T160303Z
UID:11523-1553936400-1553947200@www.iceclasses.com
SUMMARY:Framing and Foundations : What the Home Inspector Needs to Know
DESCRIPTION:
URL:https://www.iceclasses.com/event/framing-and-foundations-what-the-home-inspector-needs-to-know-2/
CATEGORIES:Home Inspectors
END:VEVENT
BEGIN:VEVENT
DTSTART;TZID=UTC:20190324T090000
DTEND;TZID=UTC:20190324T120000
DTSTAMP:20260423T192452
CREATED:20190123T154506Z
LAST-MODIFIED:20190123T154506Z
UID:11521-1553418000-1553428800@www.iceclasses.com
SUMMARY:Review and Examination of Exterior Components
DESCRIPTION:
URL:https://www.iceclasses.com/event/review-and-examination-of-exterior-components-3/
CATEGORIES:Home Inspectors
END:VEVENT
BEGIN:VEVENT
DTSTART;TZID=UTC:20190316T090000
DTEND;TZID=UTC:20190316T120000
DTSTAMP:20260423T192452
CREATED:20190123T154248Z
LAST-MODIFIED:20190123T154248Z
UID:11519-1552726800-1552737600@www.iceclasses.com
SUMMARY:Everything You Need to Know About Roofs\, Basic Info and Beyond
DESCRIPTION:
URL:https://www.iceclasses.com/event/everything-you-need-to-know-about-roofs-basic-info-and-beyond-4/
CATEGORIES:Home Inspectors
END:VEVENT
BEGIN:VEVENT
DTSTART;TZID=UTC:20190209T083000
DTEND;TZID=UTC:20190209T181500
DTSTAMP:20260423T192452
CREATED:20181211T174349Z
LAST-MODIFIED:20181211T174349Z
UID:11087-1549701000-1549736100@www.iceclasses.com
SUMMARY:Approved Mandatory CE - NJ Ethics; NJ Law\, Rules and Regulations; Inspection Report Writing
DESCRIPTION:
URL:https://www.iceclasses.com/event/approved-mandatory-ce-nj-ethics-nj-law-rules-and-regulations-inspection-report-writing/
CATEGORIES:Home Inspectors
END:VEVENT
BEGIN:VEVENT
DTSTART;TZID=UTC:20181219T150000
DTEND;TZID=UTC:20181219T180000
DTSTAMP:20260423T192452
CREATED:20180919T165916Z
LAST-MODIFIED:20180919T170748Z
UID:10488-1545231600-1545242400@www.iceclasses.com
SUMMARY:Framing for the Home Inspector
DESCRIPTION:
URL:https://www.iceclasses.com/event/framing-for-the-home-inspector/
CATEGORIES:Home Inspectors
END:VEVENT
BEGIN:VEVENT
DTSTART;TZID=UTC:20181215T090000
DTEND;TZID=UTC:20181215T120000
DTSTAMP:20260423T192452
CREATED:20170922T144626Z
LAST-MODIFIED:20180919T171533Z
UID:7022-1544864400-1544875200@www.iceclasses.com
SUMMARY:Review and Examinations of Exterior Components
DESCRIPTION:
URL:https://www.iceclasses.com/event/review-and-examinations-of-exterior-components/
CATEGORIES:Home Inspectors
END:VEVENT
BEGIN:VEVENT
DTSTART;TZID=UTC:20181118T090000
DTEND;TZID=UTC:20181118T120000
DTSTAMP:20260423T192452
CREATED:20180919T170825Z
LAST-MODIFIED:20180919T171216Z
UID:10490-1542531600-1542542400@www.iceclasses.com
SUMMARY:Everything You Need to Know About Roofs\, Basic Info and Beyond
DESCRIPTION:
URL:https://www.iceclasses.com/event/everything-you-need-to-know-about-roofs-basic-info-and-beyond-3/
CATEGORIES:Home Inspectors
END:VEVENT
BEGIN:VEVENT
DTSTART;TZID=UTC:20180726T083000
DTEND;TZID=UTC:20180726T123000
DTSTAMP:20260423T192452
CREATED:20180726T145716Z
LAST-MODIFIED:20180726T145716Z
UID:10172-1532593800-1532608200@www.iceclasses.com
SUMMARY:Radon Renewal Program- Live Class 4 Ceu
DESCRIPTION:Location: 7 Spielman Road\, Fairfield\, NJ 07004
URL:https://www.iceclasses.com/event/radon-renewal-program-live-class-4-ceu/
CATEGORIES:Home Inspectors
END:VEVENT
BEGIN:VEVENT
DTSTART;TZID=UTC:20180725T183000
DTEND;TZID=UTC:20180725T213000
DTSTAMP:20260423T192452
CREATED:20180425T184749Z
LAST-MODIFIED:20180425T184749Z
UID:9678-1532543400-1532554200@www.iceclasses.com
SUMMARY:Inspections of Electrical Systems for the Home Inspector
DESCRIPTION:
URL:https://www.iceclasses.com/event/inspections-of-electrical-systems-for-the-home-inspector-2/
CATEGORIES:Home Inspectors
END:VEVENT
BEGIN:VEVENT
DTSTART;TZID=UTC:20180725T150000
DTEND;TZID=UTC:20180725T180000
DTSTAMP:20260423T192452
CREATED:20180531T142356Z
LAST-MODIFIED:20180531T142356Z
UID:9932-1532530800-1532541600@www.iceclasses.com
SUMMARY:HVAC - Heating\, Ventilation & Air Condition
DESCRIPTION:
URL:https://www.iceclasses.com/event/hvac-heating-ventilation-air-condition/
CATEGORIES:Home Inspectors
END:VEVENT
BEGIN:VEVENT
DTSTART;TZID=UTC:20180620T150000
DTEND;TZID=UTC:20180620T180000
DTSTAMP:20260423T192452
CREATED:20180426T180157Z
LAST-MODIFIED:20180428T130923Z
UID:9686-1529506800-1529517600@www.iceclasses.com
SUMMARY:Everything You Need to Know About Roofs\, Basic Info and Beyond
DESCRIPTION:
URL:https://www.iceclasses.com/event/everything-you-need-to-know-about-roofs-basic-info-and-beyond-2/
CATEGORIES:Home Inspectors
END:VEVENT
BEGIN:VEVENT
DTSTART;TZID=UTC:20180307T183000
DTEND;TZID=UTC:20180307T213000
DTSTAMP:20260423T192452
CREATED:20180207T155414Z
LAST-MODIFIED:20180207T155414Z
UID:8895-1520447400-1520458200@www.iceclasses.com
SUMMARY:PLUMBING FIXTURES\, FITTINGS AND APPLIANCES FOR THE NEW JERSEY HOME INSPECTOR
DESCRIPTION:
URL:https://www.iceclasses.com/event/plumbing-fixtures-fittings-and-appliances-for-the-new-jersey-home-inspector/
CATEGORIES:Home Inspectors
END:VEVENT
BEGIN:VEVENT
DTSTART;TZID=UTC:20171207T080000
DTEND;TZID=UTC:20171207T120000
DTSTAMP:20260423T192452
CREATED:20171120T191740Z
LAST-MODIFIED:20171120T191740Z
UID:7860-1512633600-1512648000@www.iceclasses.com
SUMMARY:Inspections of Electrical Systems for the Home Inspector
DESCRIPTION:Thursday December 7\, 2017
URL:https://www.iceclasses.com/event/inspections-of-electrical-systems-for-the-home-inspector/
CATEGORIES:Home Inspectors
END:VEVENT
BEGIN:VEVENT
DTSTART;TZID=UTC:20171206T180000
DTEND;TZID=UTC:20171206T210000
DTSTAMP:20260423T192452
CREATED:20170922T144529Z
LAST-MODIFIED:20170922T144529Z
UID:7020-1512583200-1512594000@www.iceclasses.com
SUMMARY:Everything you need to know about Roofs
DESCRIPTION:
URL:https://www.iceclasses.com/event/everything-you-need-to-know-about-roofs-2/
CATEGORIES:Home Inspectors
END:VEVENT
BEGIN:VEVENT
DTSTART;TZID=UTC:20170928T083000
DTEND;TZID=UTC:20170928T181500
DTSTAMP:20260423T192452
CREATED:20170515T133702Z
LAST-MODIFIED:20170515T133813Z
UID:5402-1506587400-1506622500@www.iceclasses.com
SUMMARY:Approved Mandatory CE - NJ Ethics\, NJ Law and Regulations\,and Inspection Report Writing
DESCRIPTION:
URL:https://www.iceclasses.com/event/approved-mandatory-ce-nj-ethics-nj-law-and-regulationsand-inspection-report-writing/
CATEGORIES:Home Inspectors
END:VEVENT
END:VCALENDAR