BEGIN:VCALENDAR
VERSION:2.0
PRODID:-//ICE Classes - ECPv6.15.20//NONSGML v1.0//EN
CALSCALE:GREGORIAN
METHOD:PUBLISH
X-ORIGINAL-URL:https://www.iceclasses.com
X-WR-CALDESC:Events for ICE Classes
REFRESH-INTERVAL;VALUE=DURATION:PT1H
X-Robots-Tag:noindex
X-PUBLISHED-TTL:PT1H
BEGIN:VTIMEZONE
TZID:UTC
BEGIN:STANDARD
TZOFFSETFROM:+0000
TZOFFSETTO:+0000
TZNAME:UTC
DTSTART:20180101T000000
END:STANDARD
END:VTIMEZONE
BEGIN:VEVENT
DTSTART;TZID=UTC:20241107T183000
DTEND;TZID=UTC:20241107T203000
DTSTAMP:20260423T024245
CREATED:20240703T150421Z
LAST-MODIFIED:20240801T135343Z
UID:37639-1731004200-1731011400@www.iceclasses.com
SUMMARY:2024 INDUSTRIAL SAFETY (SAF-13(6)C023) MANDATORY UPDATE FOR LICENSE RENEWAL
DESCRIPTION:
URL:https://www.iceclasses.com/event/2024-industrial-safety-saf-136c023-mandatory-update-for-license-renewal-3/
CATEGORIES:Fire Alarm / Burglar Alarm / Locksmith
END:VEVENT
BEGIN:VEVENT
DTSTART;TZID=UTC:20241031T090000
DTEND;TZID=UTC:20241031T110000
DTSTAMP:20260423T024245
CREATED:20240703T150346Z
LAST-MODIFIED:20240703T150346Z
UID:37637-1730365200-1730372400@www.iceclasses.com
SUMMARY:2024 INDUSTRIAL SAFETY (SAF-13(6)C023) MANDATORY UPDATE FOR LICENSE RENEWAL
DESCRIPTION:
URL:https://www.iceclasses.com/event/2024-industrial-safety-saf-136c023-mandatory-update-for-license-renewal-2/
CATEGORIES:Fire Alarm / Burglar Alarm / Locksmith
END:VEVENT
BEGIN:VEVENT
DTSTART;TZID=UTC:20241019T080000
DTEND;TZID=UTC:20241019T153000
DTSTAMP:20260423T024245
CREATED:20240703T150104Z
LAST-MODIFIED:20240703T150104Z
UID:37629-1729324800-1729351800@www.iceclasses.com
SUMMARY:AMERICAN HEART ASSOCIATION HEARTSAVER CPR & AED WITH BASIC FIRST AID
DESCRIPTION:
URL:https://www.iceclasses.com/event/american-heart-association-heartsaver-cpr-aed-with-basic-first-aid-2/
CATEGORIES:Electrical,Fire Alarm / Burglar Alarm / Locksmith
END:VEVENT
BEGIN:VEVENT
DTSTART;TZID=UTC:20240926T090000
DTEND;TZID=UTC:20240926T110000
DTSTAMP:20260423T024245
CREATED:20240703T150313Z
LAST-MODIFIED:20240703T150313Z
UID:37635-1727341200-1727348400@www.iceclasses.com
SUMMARY:2024 INDUSTRIAL SAFETY (SAF-13(6)C023) MANDATORY UPDATE FOR LICENSE RENEWAL
DESCRIPTION:
URL:https://www.iceclasses.com/event/2024-industrial-safety-saf-136c023-mandatory-update-for-license-renewal/
CATEGORIES:Fire Alarm / Burglar Alarm / Locksmith
END:VEVENT
BEGIN:VEVENT
DTSTART;TZID=UTC:20240919T080000
DTEND;TZID=UTC:20240919T153000
DTSTAMP:20260423T024245
CREATED:20240703T150030Z
LAST-MODIFIED:20240703T150030Z
UID:37627-1726732800-1726759800@www.iceclasses.com
SUMMARY:AMERICAN HEART ASSOCIATION HEARTSAVER CPR & AED WITH BASIC FIRST AID
DESCRIPTION:
URL:https://www.iceclasses.com/event/american-heart-association-heartsaver-cpr-aed-with-basic-first-aid/
CATEGORIES:Electrical,Fire Alarm / Burglar Alarm / Locksmith
END:VEVENT
BEGIN:VEVENT
DTSTART;TZID=UTC:20220918T090000
DTEND;TZID=UTC:20220918T153000
DTSTAMP:20260423T024245
CREATED:20220808T184210Z
LAST-MODIFIED:20220808T184210Z
UID:27630-1663491600-1663515000@www.iceclasses.com
SUMMARY:Heartsaver CPR /AED & Preventing Disease Transmission
DESCRIPTION:
URL:https://www.iceclasses.com/event/heartsaver-cpr-aed-preventing-disease-transmission-4/
CATEGORIES:Fire Alarm / Burglar Alarm / Locksmith
END:VEVENT
BEGIN:VEVENT
DTSTART;TZID=UTC:20220828T090000
DTEND;TZID=UTC:20220828T160000
DTSTAMP:20260423T024245
CREATED:20220808T181052Z
LAST-MODIFIED:20220808T181052Z
UID:27622-1661677200-1661702400@www.iceclasses.com
SUMMARY:Heartsaver CPR /AED & Preventing Disease Transmission
DESCRIPTION:
URL:https://www.iceclasses.com/event/heartsaver-cpr-aed-preventing-disease-transmission-3/
CATEGORIES:Fire Alarm / Burglar Alarm / Locksmith
END:VEVENT
BEGIN:VEVENT
DTSTART;TZID=UTC:20220825T090000
DTEND;TZID=UTC:20220825T160000
DTSTAMP:20260423T024245
CREATED:20220808T181014Z
LAST-MODIFIED:20220808T181014Z
UID:27620-1661418000-1661443200@www.iceclasses.com
SUMMARY:Heartsaver CPR /AED & Preventing Disease Transmission
DESCRIPTION:
URL:https://www.iceclasses.com/event/heartsaver-cpr-aed-preventing-disease-transmission-2/
CATEGORIES:Fire Alarm / Burglar Alarm / Locksmith
END:VEVENT
BEGIN:VEVENT
DTSTART;TZID=UTC:20211104T140000
DTEND;TZID=UTC:20211104T220000
DTSTAMP:20260423T024245
CREATED:20210415T161459Z
LAST-MODIFIED:20210415T161459Z
UID:23486-1636034400-1636063200@www.iceclasses.com
SUMMARY:COURSE 5: BASIC FIRST AID FOR FIRE BURG (SAF-13(6)C027)
DESCRIPTION:
URL:https://www.iceclasses.com/event/course-5-basic-first-aid-for-fire-burg-saf-136c027-3/
CATEGORIES:Fire Alarm / Burglar Alarm / Locksmith
END:VEVENT
BEGIN:VEVENT
DTSTART;TZID=UTC:20210923T143000
DTEND;TZID=UTC:20210923T210000
DTSTAMP:20260423T024245
CREATED:20210415T155052Z
LAST-MODIFIED:20210415T155052Z
UID:23463-1632407400-1632430800@www.iceclasses.com
SUMMARY:HYBRID .. 2021 Industrial Safety (SAF-13(6)C023)  (Mandatory Course for License Renewal)
DESCRIPTION:LIVE WEBINAR OR ATTEND AT OUR FACILITY
URL:https://www.iceclasses.com/event/hybrid-2021-industrial-safety-saf-136c023-mandatory-course-for-license-renewal-2/
CATEGORIES:Fire Alarm / Burglar Alarm / Locksmith
END:VEVENT
BEGIN:VEVENT
DTSTART;TZID=UTC:20210826T143000
DTEND;TZID=UTC:20210826T210000
DTSTAMP:20260423T024245
CREATED:20210415T160107Z
LAST-MODIFIED:20210415T160107Z
UID:23474-1629988200-1630011600@www.iceclasses.com
SUMMARY:CPR (HEARTSAVER COURSE) AED AND DISEASE TRANSMISSION & PREVENTION (SAF-13(6)C017)
DESCRIPTION:
URL:https://www.iceclasses.com/event/cpr-heartsaver-course-aed-and-disease-transmission-prevention-saf-136c017-2/
CATEGORIES:Fire Alarm / Burglar Alarm / Locksmith
END:VEVENT
BEGIN:VEVENT
DTSTART;TZID=UTC:20210729T140000
DTEND;TZID=UTC:20210729T220000
DTSTAMP:20260423T024245
CREATED:20210415T161404Z
LAST-MODIFIED:20210415T161404Z
UID:23482-1627567200-1627596000@www.iceclasses.com
SUMMARY:COURSE 5: BASIC FIRST AID FOR FIRE BURG (SAF-13(6)C027)
DESCRIPTION:
URL:https://www.iceclasses.com/event/course-5-basic-first-aid-for-fire-burg-saf-136c027/
CATEGORIES:Fire Alarm / Burglar Alarm / Locksmith
END:VEVENT
BEGIN:VEVENT
DTSTART;TZID=UTC:20210722T143000
DTEND;TZID=UTC:20210722T210000
DTSTAMP:20260423T024245
CREATED:20210415T155244Z
LAST-MODIFIED:20210415T155244Z
UID:23466-1626964200-1626987600@www.iceclasses.com
SUMMARY:HYBRID .. 2021 Industrial Safety (SAF-13(6)C023)  (Mandatory Course for License Renewal)
DESCRIPTION:LIVE WEBINAR OR ATTEND AT OUR FACILITY
URL:https://www.iceclasses.com/event/hybrid-2021-industrial-safety-saf-136c023-mandatory-course-for-license-renewal-3/
CATEGORIES:Fire Alarm / Burglar Alarm / Locksmith
END:VEVENT
BEGIN:VEVENT
DTSTART;TZID=UTC:20210617T143000
DTEND;TZID=UTC:20210617T210000
DTSTAMP:20260423T024245
CREATED:20210415T160038Z
LAST-MODIFIED:20210415T160038Z
UID:23472-1623940200-1623963600@www.iceclasses.com
SUMMARY:CPR (HEARTSAVER COURSE) AED AND DISEASE TRANSMISSION & PREVENTION (SAF-13(6)C017)
DESCRIPTION:
URL:https://www.iceclasses.com/event/cpr-heartsaver-course-aed-and-disease-transmission-prevention-saf-136c017/
CATEGORIES:Fire Alarm / Burglar Alarm / Locksmith
END:VEVENT
BEGIN:VEVENT
DTSTART;TZID=UTC:20210520T143000
DTEND;TZID=UTC:20210520T210000
DTSTAMP:20260423T024245
CREATED:20210415T155503Z
LAST-MODIFIED:20210415T155503Z
UID:23469-1621521000-1621544400@www.iceclasses.com
SUMMARY:HYBRID .. 2021 Industrial Safety (SAF-13(6)C023)  (Mandatory Course for License Renewal)
DESCRIPTION:LIVE WEBINAR OR ATTEND AT OUR FACILITY
URL:https://www.iceclasses.com/event/hybrid-2021-industrial-safety-saf-136c023-mandatory-course-for-license-renewal-4/
CATEGORIES:Fire Alarm / Burglar Alarm / Locksmith
END:VEVENT
BEGIN:VEVENT
DTSTART;TZID=UTC:20210415T143000
DTEND;TZID=UTC:20210415T210000
DTSTAMP:20260423T024245
CREATED:20210415T154837Z
LAST-MODIFIED:20210415T154908Z
UID:23458-1618497000-1618520400@www.iceclasses.com
SUMMARY:HYBRID .. 2021 Industrial Safety (SAF-13(6)C023)  (Mandatory Course for License Renewal)
DESCRIPTION:LIVE WEBINAR OR ATTEND AT OUR FACILITY
URL:https://www.iceclasses.com/event/2021-industrial-safety-saf-136c023-mandatory-course-for-license-renewal-3/
CATEGORIES:Fire Alarm / Burglar Alarm / Locksmith
END:VEVENT
BEGIN:VEVENT
DTSTART;TZID=UTC:20210415T143000
DTEND;TZID=UTC:20210415T210000
DTSTAMP:20260423T024245
CREATED:20210415T154759Z
LAST-MODIFIED:20210415T155142Z
UID:23456-1618497000-1618520400@www.iceclasses.com
SUMMARY:HYBRID .. 2021 Industrial Safety (SAF-13(6)C023)  (Mandatory Course for License Renewal)
DESCRIPTION:LIVE WEBINAR OR ATTEND AT OUR FACILITY
URL:https://www.iceclasses.com/event/2021-industrial-safety-saf-136c023-mandatory-course-for-license-renewal-2/
CATEGORIES:Fire Alarm / Burglar Alarm / Locksmith
END:VEVENT
BEGIN:VEVENT
DTSTART;TZID=UTC:20210415T143000
DTEND;TZID=UTC:20210415T210000
DTSTAMP:20260423T024245
CREATED:20210415T154723Z
LAST-MODIFIED:20210415T155336Z
UID:23454-1618497000-1618520400@www.iceclasses.com
SUMMARY:HYBRID .. 2021 Industrial Safety (SAF-13(6)C023)  (Mandatory Course for License Renewal)
DESCRIPTION:LIVE WEBINAR OR ATTEND AT OUR FACILITY
URL:https://www.iceclasses.com/event/2021-industrial-safety-saf-136c023-mandatory-course-for-license-renewal/
CATEGORIES:Fire Alarm / Burglar Alarm / Locksmith
END:VEVENT
BEGIN:VEVENT
DTSTART;TZID=UTC:20190829T090000
DTEND;TZID=UTC:20190829T163000
DTSTAMP:20260423T024245
CREATED:20190729T163217Z
LAST-MODIFIED:20190813T184030Z
UID:13518-1567069200-1567096200@www.iceclasses.com
SUMMARY:Heartsaver CPR AED & Preventing Disease Transmission
DESCRIPTION:
URL:https://www.iceclasses.com/event/heartsaver-cpr-aed-preventing-disease-transmission/
CATEGORIES:Fire Alarm / Burglar Alarm / Locksmith
END:VEVENT
BEGIN:VEVENT
DTSTART;TZID=UTC:20190827T090000
DTEND;TZID=UTC:20190827T153000
DTSTAMP:20260423T024245
CREATED:20190729T163247Z
LAST-MODIFIED:20190729T163247Z
UID:13520-1566896400-1566919800@www.iceclasses.com
SUMMARY:Industrial Safety
DESCRIPTION:
URL:https://www.iceclasses.com/event/industrial-safety-5/
CATEGORIES:Fire Alarm / Burglar Alarm / Locksmith
END:VEVENT
BEGIN:VEVENT
DTSTART;TZID=UTC:20190822T090000
DTEND;TZID=UTC:20190822T173000
DTSTAMP:20260423T024245
CREATED:20190729T163125Z
LAST-MODIFIED:20190729T163125Z
UID:13516-1566464400-1566495000@www.iceclasses.com
SUMMARY:Basic First Aid ... Fire Burg
DESCRIPTION:
URL:https://www.iceclasses.com/event/basic-first-aid-fire-burg/
CATEGORIES:Fire Alarm / Burglar Alarm / Locksmith
END:VEVENT
BEGIN:VEVENT
DTSTART;TZID=UTC:20190724T123000
DTEND;TZID=UTC:20190724T133000
DTSTAMP:20260423T024245
CREATED:20190617T190555Z
LAST-MODIFIED:20190617T190555Z
UID:13152-1563971400-1563975000@www.iceclasses.com
SUMMARY:Smoke
DESCRIPTION:
URL:https://www.iceclasses.com/event/smoke/
CATEGORIES:Fire Alarm / Burglar Alarm / Locksmith
END:VEVENT
BEGIN:VEVENT
DTSTART;TZID=UTC:20190721T090000
DTEND;TZID=UTC:20190721T153000
DTSTAMP:20260423T024245
CREATED:20181205T144535Z
LAST-MODIFIED:20181205T144535Z
UID:11037-1563699600-1563723000@www.iceclasses.com
SUMMARY:INDUSTRIAL SAFETY (MANDATORY COURSE FOR LICENSE RENEWAL)
DESCRIPTION:
URL:https://www.iceclasses.com/event/industrial-safety-mandatory-course-for-license-renewal-2/
CATEGORIES:Fire Alarm / Burglar Alarm / Locksmith
END:VEVENT
BEGIN:VEVENT
DTSTART;TZID=UTC:20190720T080000
DTEND;TZID=UTC:20190720T153000
DTSTAMP:20260423T024245
CREATED:20181205T144224Z
LAST-MODIFIED:20181205T144224Z
UID:11033-1563609600-1563636600@www.iceclasses.com
SUMMARY:CPR (HEARTSAVER COURSE) AED AND DISEASE TRANSMISSION & PREVENTION
DESCRIPTION:
URL:https://www.iceclasses.com/event/cpr-heartsaver-course-aed-and-disease-transmission-prevention-4/
CATEGORIES:Fire Alarm / Burglar Alarm / Locksmith
END:VEVENT
BEGIN:VEVENT
DTSTART;TZID=UTC:20190718T080000
DTEND;TZID=UTC:20190718T163000
DTSTAMP:20260423T024245
CREATED:20190121T172751Z
LAST-MODIFIED:20190122T144153Z
UID:11505-1563436800-1563467400@www.iceclasses.com
SUMMARY:Course 5: Basic First Aid
DESCRIPTION:
URL:https://www.iceclasses.com/event/course-5-basic-first-aid-5/
CATEGORIES:Fire Alarm / Burglar Alarm / Locksmith
END:VEVENT
BEGIN:VEVENT
DTSTART;TZID=UTC:20190717T180000
DTEND;TZID=UTC:20190717T190000
DTSTAMP:20260423T024245
CREATED:20190617T190229Z
LAST-MODIFIED:20190617T190229Z
UID:13148-1563386400-1563390000@www.iceclasses.com
SUMMARY:NJ UCC
DESCRIPTION:
URL:https://www.iceclasses.com/event/nj-ucc/
CATEGORIES:Fire Alarm / Burglar Alarm / Locksmith
END:VEVENT
BEGIN:VEVENT
DTSTART;TZID=UTC:20190623T080000
DTEND;TZID=UTC:20190623T143000
DTSTAMP:20260423T024245
CREATED:20190121T160015Z
LAST-MODIFIED:20190121T160134Z
UID:11487-1561276800-1561300200@www.iceclasses.com
SUMMARY:Americans with Disability Act Code & Barrier Free  (Mandatory Course for License Renewal)
DESCRIPTION:Take these classes alone or together
URL:https://www.iceclasses.com/event/americans-with-disability-act-code-barrier-free-mandatory-course-for-license-renewal-2/
CATEGORIES:Fire Alarm / Burglar Alarm / Locksmith
END:VEVENT
BEGIN:VEVENT
DTSTART;TZID=UTC:20190613T080000
DTEND;TZID=UTC:20190613T163000
DTSTAMP:20260423T024245
CREATED:20190121T172723Z
LAST-MODIFIED:20190122T144219Z
UID:11503-1560412800-1560443400@www.iceclasses.com
SUMMARY:Course 5: Basic First Aid
DESCRIPTION:
URL:https://www.iceclasses.com/event/course-5-basic-first-aid-4/
CATEGORIES:Fire Alarm / Burglar Alarm / Locksmith
END:VEVENT
BEGIN:VEVENT
DTSTART;TZID=UTC:20190522T143000
DTEND;TZID=UTC:20190522T210000
DTSTAMP:20260423T024245
CREATED:20190121T160451Z
LAST-MODIFIED:20190121T160541Z
UID:11492-1558535400-1558558800@www.iceclasses.com
SUMMARY:New Jersey Uniform Construction Code  (Mandatory Course for License Renewal)
DESCRIPTION:
URL:https://www.iceclasses.com/event/new-jersey-uniform-construction-code-mandatory-course-for-license-renewal-3/
CATEGORIES:Fire Alarm / Burglar Alarm / Locksmith
END:VEVENT
BEGIN:VEVENT
DTSTART;TZID=UTC:20190425T090000
DTEND;TZID=UTC:20190425T153000
DTSTAMP:20260423T024245
CREATED:20181205T144504Z
LAST-MODIFIED:20181205T144504Z
UID:11035-1556182800-1556206200@www.iceclasses.com
SUMMARY:INDUSTRIAL SAFETY (MANDATORY COURSE FOR LICENSE RENEWAL)
DESCRIPTION:
URL:https://www.iceclasses.com/event/industrial-safety-mandatory-course-for-license-renewal/
CATEGORIES:Fire Alarm / Burglar Alarm / Locksmith
END:VEVENT
END:VCALENDAR