BEGIN:VCALENDAR
VERSION:2.0
PRODID:-//ICE Classes - ECPv6.15.20//NONSGML v1.0//EN
CALSCALE:GREGORIAN
METHOD:PUBLISH
X-WR-CALNAME:ICE Classes
X-ORIGINAL-URL:https://www.iceclasses.com
X-WR-CALDESC:Events for ICE Classes
REFRESH-INTERVAL;VALUE=DURATION:PT1H
X-Robots-Tag:noindex
X-PUBLISHED-TTL:PT1H
BEGIN:VTIMEZONE
TZID:UTC
BEGIN:STANDARD
TZOFFSETFROM:+0000
TZOFFSETTO:+0000
TZNAME:UTC
DTSTART:20230101T000000
END:STANDARD
END:VTIMEZONE
BEGIN:VEVENT
DTSTART;TZID=UTC:20250827T130000
DTEND;TZID=UTC:20250827T163000
DTSTAMP:20260422T205720
CREATED:20250729T183637Z
LAST-MODIFIED:20250729T183637Z
UID:42352-1756299600-1756312200@www.iceclasses.com
SUMMARY:American Heart Association HeartSaver CPR & AED ONLY for Fire/Burglar Alarm
DESCRIPTION:
URL:https://www.iceclasses.com/event/american-heart-association-heartsaver-cpr-aed-only-for-fire-burglar-alarm/
CATEGORIES:Fire Alarm / Burglar Alarm / Locksmith
END:VEVENT
BEGIN:VEVENT
DTSTART;TZID=UTC:20250821T180000
DTEND;TZID=UTC:20250821T210000
DTSTAMP:20260422T205720
CREATED:20250623T160223Z
LAST-MODIFIED:20250623T160223Z
UID:42102-1755799200-1755810000@www.iceclasses.com
SUMMARY:New Jersey Uniform Construction Code: Required Class (L/C)
DESCRIPTION:
URL:https://www.iceclasses.com/event/new-jersey-uniform-construction-code-required-class-l-c-3/
CATEGORIES:Fire Alarm / Burglar Alarm / Locksmith
END:VEVENT
BEGIN:VEVENT
DTSTART;TZID=UTC:20250820T180000
DTEND;TZID=UTC:20250820T210000
DTSTAMP:20260422T205720
CREATED:20250623T154644Z
LAST-MODIFIED:20250623T154644Z
UID:42085-1755712800-1755723600@www.iceclasses.com
SUMMARY:Americans with Disability Act Code (L/C) Required Class
DESCRIPTION:
URL:https://www.iceclasses.com/event/americans-with-disability-act-code-l-c-required-class-2/
CATEGORIES:Fire Alarm / Burglar Alarm / Locksmith
END:VEVENT
BEGIN:VEVENT
DTSTART;TZID=UTC:20250814T180000
DTEND;TZID=UTC:20250814T210000
DTSTAMP:20260422T205720
CREATED:20250623T155130Z
LAST-MODIFIED:20250623T155214Z
UID:42095-1755194400-1755205200@www.iceclasses.com
SUMMARY:Smoke Detection (Mandatory Course for Burglar Alarm License Renewal)TECRF-13(6)C020
DESCRIPTION:
URL:https://www.iceclasses.com/event/smoke-detection-mandatory-course-for-burglar-alarm-license-renewaltecrf-136c020/
CATEGORIES:Fire Alarm / Burglar Alarm / Locksmith
END:VEVENT
BEGIN:VEVENT
DTSTART;TZID=UTC:20250813T190000
DTEND;TZID=UTC:20250813T210000
DTSTAMP:20260422T205720
CREATED:20250623T154805Z
LAST-MODIFIED:20250715T165907Z
UID:42089-1755111600-1755118800@www.iceclasses.com
SUMMARY:NJ Law & Rules: Required Class (L/C)
DESCRIPTION:
URL:https://www.iceclasses.com/event/nj-law-rules-required-class-l-c-4/
CATEGORIES:Fire Alarm / Burglar Alarm / Locksmith
END:VEVENT
BEGIN:VEVENT
DTSTART;TZID=UTC:20250812T090000
DTEND;TZID=UTC:20250812T163000
DTSTAMP:20260422T205720
CREATED:20250729T183531Z
LAST-MODIFIED:20250729T183531Z
UID:42350-1754989200-1755016200@www.iceclasses.com
SUMMARY:American Heart Association HeartSaver CPR & AED with Basic First Aid for Fire/Burglar Alarm
DESCRIPTION:
URL:https://www.iceclasses.com/event/american-heart-association-heartsaver-cpr-aed-with-basic-first-aid-for-fire-burglar-alarm/
CATEGORIES:Fire Alarm / Burglar Alarm / Locksmith
END:VEVENT
BEGIN:VEVENT
DTSTART;TZID=UTC:20250806T180000
DTEND;TZID=UTC:20250806T210000
DTSTAMP:20260422T205720
CREATED:20250623T154925Z
LAST-MODIFIED:20250623T154925Z
UID:42093-1754503200-1754514000@www.iceclasses.com
SUMMARY:Barrier Free Sub code NJAC 5:23-7 Required Class (LC)
DESCRIPTION:
URL:https://www.iceclasses.com/event/barrier-free-sub-code-njac-523-7-required-class-lc-4/
CATEGORIES:Fire Alarm / Burglar Alarm / Locksmith
END:VEVENT
BEGIN:VEVENT
DTSTART;TZID=UTC:20250731T180000
DTEND;TZID=UTC:20250731T210000
DTSTAMP:20260422T205720
CREATED:20250623T160145Z
LAST-MODIFIED:20250623T160145Z
UID:42100-1753984800-1753995600@www.iceclasses.com
SUMMARY:New Jersey Uniform Construction Code: Required Class (L/C)
DESCRIPTION:
URL:https://www.iceclasses.com/event/new-jersey-uniform-construction-code-required-class-l-c-2/
CATEGORIES:Fire Alarm / Burglar Alarm / Locksmith
END:VEVENT
BEGIN:VEVENT
DTSTART;TZID=UTC:20250730T180000
DTEND;TZID=UTC:20250730T210000
DTSTAMP:20260422T205720
CREATED:20250623T154849Z
LAST-MODIFIED:20250623T154849Z
UID:42091-1753898400-1753909200@www.iceclasses.com
SUMMARY:Barrier Free Sub code NJAC 5:23-7 Required Class (LC)
DESCRIPTION:
URL:https://www.iceclasses.com/event/barrier-free-sub-code-njac-523-7-required-class-lc-3/
CATEGORIES:Fire Alarm / Burglar Alarm / Locksmith
END:VEVENT
BEGIN:VEVENT
DTSTART;TZID=UTC:20250728T090000
DTEND;TZID=UTC:20250728T153000
DTSTAMP:20260422T205720
CREATED:20250728T160813Z
LAST-MODIFIED:20250728T160937Z
UID:42338-1753693200-1753716600@www.iceclasses.com
SUMMARY:Industrial Safety
DESCRIPTION:
URL:https://www.iceclasses.com/event/industrial-safety-6/
CATEGORIES:Fire Alarm / Burglar Alarm / Locksmith
END:VEVENT
BEGIN:VEVENT
DTSTART;TZID=UTC:20250724T180000
DTEND;TZID=UTC:20250724T210000
DTSTAMP:20260422T205720
CREATED:20250623T155320Z
LAST-MODIFIED:20250623T155320Z
UID:42097-1753380000-1753390800@www.iceclasses.com
SUMMARY:Smoke Detection (Mandatory Course for Burglar Alarm License Renewal)TECRF-13(6)C020
DESCRIPTION:
URL:https://www.iceclasses.com/event/smoke-detection-mandatory-course-for-burglar-alarm-license-renewaltecrf-136c020-2/
CATEGORIES:Fire Alarm / Burglar Alarm / Locksmith
END:VEVENT
BEGIN:VEVENT
DTSTART;TZID=UTC:20250723T180000
DTEND;TZID=UTC:20250723T210000
DTSTAMP:20260422T205720
CREATED:20250623T154610Z
LAST-MODIFIED:20250623T154610Z
UID:42083-1753293600-1753304400@www.iceclasses.com
SUMMARY:Americans with Disability Act Code (L/C) Required Class
DESCRIPTION:
URL:https://www.iceclasses.com/event/americans-with-disability-act-code-l-c-required-class/
CATEGORIES:Fire Alarm / Burglar Alarm / Locksmith
END:VEVENT
BEGIN:VEVENT
DTSTART;TZID=UTC:20250717T180000
DTEND;TZID=UTC:20250717T210000
DTSTAMP:20260422T205720
CREATED:20250410T184349Z
LAST-MODIFIED:20250410T184349Z
UID:41452-1752775200-1752786000@www.iceclasses.com
SUMMARY:Overview of NEC Low Voltage Wiring Methods and Requirements for Security Systems
DESCRIPTION:
URL:https://www.iceclasses.com/event/overview-of-nec-low-voltage-wiring-methods-and-requirements-for-security-systems/
CATEGORIES:Fire Alarm / Burglar Alarm / Locksmith
END:VEVENT
BEGIN:VEVENT
DTSTART;TZID=UTC:20250716T190000
DTEND;TZID=UTC:20250716T210000
DTSTAMP:20260422T205720
CREATED:20250623T154730Z
LAST-MODIFIED:20250715T170031Z
UID:42087-1752692400-1752699600@www.iceclasses.com
SUMMARY:NJ Law & Rules: Required Class (L/C)
DESCRIPTION:
URL:https://www.iceclasses.com/event/nj-law-rules-required-class-l-c-3/
CATEGORIES:Fire Alarm / Burglar Alarm / Locksmith
END:VEVENT
BEGIN:VEVENT
DTSTART;TZID=UTC:20250710T183000
DTEND;TZID=UTC:20250710T203000
DTSTAMP:20260422T205720
CREATED:20250410T183807Z
LAST-MODIFIED:20250410T183807Z
UID:41448-1752172200-1752179400@www.iceclasses.com
SUMMARY:Electronics for Low Voltage Systems
DESCRIPTION:
URL:https://www.iceclasses.com/event/electronics-for-low-voltage-systems/
CATEGORIES:Fire Alarm / Burglar Alarm / Locksmith
END:VEVENT
BEGIN:VEVENT
DTSTART;TZID=UTC:20250622T090000
DTEND;TZID=UTC:20250622T120000
DTSTAMP:20260422T205720
CREATED:20250410T181536Z
LAST-MODIFIED:20250410T181536Z
UID:41437-1750582800-1750593600@www.iceclasses.com
SUMMARY:A Refresher for Performing Commercial CCTV and Access Control Surveys
DESCRIPTION:
URL:https://www.iceclasses.com/event/a-refresher-for-performing-commercial-cctv-and-access-control-surveys-3/
CATEGORIES:Fire Alarm / Burglar Alarm / Locksmith
END:VEVENT
BEGIN:VEVENT
DTSTART;TZID=UTC:20250619T183000
DTEND;TZID=UTC:20250619T203000
DTSTAMP:20260422T205720
CREATED:20250410T181650Z
LAST-MODIFIED:20250410T181650Z
UID:41441-1750357800-1750365000@www.iceclasses.com
SUMMARY:Documentation for Fire Alarm Installations According to NFPA 72
DESCRIPTION:
URL:https://www.iceclasses.com/event/documentation-for-fire-alarm-installations-according-to-nfpa-72-2/
CATEGORIES:Fire Alarm / Burglar Alarm / Locksmith
END:VEVENT
BEGIN:VEVENT
DTSTART;TZID=UTC:20250618T183000
DTEND;TZID=UTC:20250618T203000
DTSTAMP:20260422T205720
CREATED:20250410T182239Z
LAST-MODIFIED:20250410T182239Z
UID:41443-1750271400-1750278600@www.iceclasses.com
SUMMARY:Electronic Access Control Fundamentals
DESCRIPTION:
URL:https://www.iceclasses.com/event/electronic-access-control-fundamentals/
CATEGORIES:Fire Alarm / Burglar Alarm / Locksmith
END:VEVENT
BEGIN:VEVENT
DTSTART;TZID=UTC:20250614T113000
DTEND;TZID=UTC:20250614T143000
DTSTAMP:20260422T205720
CREATED:20250410T185742Z
LAST-MODIFIED:20250410T185742Z
UID:41460-1749900600-1749911400@www.iceclasses.com
SUMMARY:Barrier Free Sub code NJAC 5:23-7 Required Class (LC)
DESCRIPTION:
URL:https://www.iceclasses.com/event/barrier-free-sub-code-njac-523-7-required-class-lc-2/
CATEGORIES:Fire Alarm / Burglar Alarm / Locksmith
END:VEVENT
BEGIN:VEVENT
DTSTART;TZID=UTC:20250614T090000
DTEND;TZID=UTC:20250614T110000
DTSTAMP:20260422T205720
CREATED:20250410T185314Z
LAST-MODIFIED:20250410T185314Z
UID:41458-1749891600-1749898800@www.iceclasses.com
SUMMARY:NJ Law & Rules: Required Class (L/C)
DESCRIPTION:
URL:https://www.iceclasses.com/event/nj-law-rules-required-class-l-c-2/
CATEGORIES:Fire Alarm / Burglar Alarm / Locksmith
END:VEVENT
BEGIN:VEVENT
DTSTART;TZID=UTC:20250521T183000
DTEND;TZID=UTC:20250521T203000
DTSTAMP:20260422T205720
CREATED:20250410T181616Z
LAST-MODIFIED:20250410T181616Z
UID:41439-1747852200-1747859400@www.iceclasses.com
SUMMARY:Documentation for Fire Alarm Installations According to NFPA 72
DESCRIPTION:
URL:https://www.iceclasses.com/event/documentation-for-fire-alarm-installations-according-to-nfpa-72/
CATEGORIES:Fire Alarm / Burglar Alarm / Locksmith
END:VEVENT
BEGIN:VEVENT
DTSTART;TZID=UTC:20250518T090000
DTEND;TZID=UTC:20250518T120000
DTSTAMP:20260422T205720
CREATED:20250410T181504Z
LAST-MODIFIED:20250410T181504Z
UID:41435-1747558800-1747569600@www.iceclasses.com
SUMMARY:A Refresher for Performing Commercial CCTV and Access Control Surveys
DESCRIPTION:
URL:https://www.iceclasses.com/event/a-refresher-for-performing-commercial-cctv-and-access-control-surveys-2/
CATEGORIES:Fire Alarm / Burglar Alarm / Locksmith
END:VEVENT
BEGIN:VEVENT
DTSTART;TZID=UTC:20250515T180000
DTEND;TZID=UTC:20250515T210000
DTSTAMP:20260422T205720
CREATED:20250304T161746Z
LAST-MODIFIED:20250304T161746Z
UID:41165-1747332000-1747342800@www.iceclasses.com
SUMMARY:Overview of NEC Low Voltage Wiring Methods and Requirements for Security Systems: 3 Ceu’s
DESCRIPTION:
URL:https://www.iceclasses.com/event/overview-of-nec-low-voltage-wiring-methods-and-requirements-for-security-systems-3-ceus/
CATEGORIES:Fire Alarm / Burglar Alarm / Locksmith
END:VEVENT
BEGIN:VEVENT
DTSTART;TZID=UTC:20250430T180000
DTEND;TZID=UTC:20250430T210000
DTSTAMP:20260422T205720
CREATED:20250417T182643Z
LAST-MODIFIED:20250417T182643Z
UID:41518-1746036000-1746046800@www.iceclasses.com
SUMMARY:Uniform Construction Code
DESCRIPTION:
URL:https://www.iceclasses.com/event/uniform-construction-code-3/
CATEGORIES:Fire Alarm / Burglar Alarm / Locksmith
END:VEVENT
BEGIN:VEVENT
DTSTART;TZID=UTC:20250424T180000
DTEND;TZID=UTC:20250424T210000
DTSTAMP:20260422T205720
CREATED:20250304T161845Z
LAST-MODIFIED:20250304T161845Z
UID:41167-1745517600-1745528400@www.iceclasses.com
SUMMARY:Wireless Technologies for the Security Industry Explained: 3 Ceu’s
DESCRIPTION:
URL:https://www.iceclasses.com/event/wireless-technologies-for-the-security-industry-explained-3-ceus/
CATEGORIES:Fire Alarm / Burglar Alarm / Locksmith
END:VEVENT
BEGIN:VEVENT
DTSTART;TZID=UTC:20250417T180000
DTEND;TZID=UTC:20250417T210000
DTSTAMP:20260422T205720
CREATED:20250304T161255Z
LAST-MODIFIED:20250304T161255Z
UID:41155-1744912800-1744923600@www.iceclasses.com
SUMMARY:A Refresher for Performing Commercial CCTV and Access Control Surveys
DESCRIPTION:
URL:https://www.iceclasses.com/event/a-refresher-for-performing-commercial-cctv-and-access-control-surveys/
CATEGORIES:Fire Alarm / Burglar Alarm / Locksmith
END:VEVENT
BEGIN:VEVENT
DTSTART;TZID=UTC:20250403T190000
DTEND;TZID=UTC:20250403T210000
DTSTAMP:20260422T205720
CREATED:20250304T161417Z
LAST-MODIFIED:20250304T161417Z
UID:41159-1743706800-1743714000@www.iceclasses.com
SUMMARY:Documentation for Fire Alarm Installations According to NFPA 72 : 2 Ceu’s
DESCRIPTION:
URL:https://www.iceclasses.com/event/documentation-for-fire-alarm-installations-according-to-nfpa-72-2-ceus/
CATEGORIES:Fire Alarm / Burglar Alarm / Locksmith
END:VEVENT
BEGIN:VEVENT
DTSTART;TZID=UTC:20250320T190000
DTEND;TZID=UTC:20250320T210000
DTSTAMP:20260422T205720
CREATED:20250304T161705Z
LAST-MODIFIED:20250304T161705Z
UID:41163-1742497200-1742504400@www.iceclasses.com
SUMMARY:Electronics for Low Voltage Systems 2 Ceu’s
DESCRIPTION:
URL:https://www.iceclasses.com/event/electronics-for-low-voltage-systems-2-ceus/
CATEGORIES:Fire Alarm / Burglar Alarm / Locksmith
END:VEVENT
BEGIN:VEVENT
DTSTART;TZID=UTC:20250313T190000
DTEND;TZID=UTC:20250313T210000
DTSTAMP:20260422T205720
CREATED:20250304T161616Z
LAST-MODIFIED:20250304T161616Z
UID:41161-1741892400-1741899600@www.iceclasses.com
SUMMARY:Electronic Access Control Fundamentals 2 Ceu’s
DESCRIPTION:
URL:https://www.iceclasses.com/event/electronic-access-control-fundamentals-2-ceus/
CATEGORIES:Fire Alarm / Burglar Alarm / Locksmith
END:VEVENT
BEGIN:VEVENT
DTSTART;TZID=UTC:20241110T080000
DTEND;TZID=UTC:20241110T153000
DTSTAMP:20260422T205720
CREATED:20240703T150136Z
LAST-MODIFIED:20240703T150136Z
UID:37631-1731225600-1731252600@www.iceclasses.com
SUMMARY:AMERICAN HEART ASSOCIATION HEARTSAVER CPR & AED WITH BASIC FIRST AID
DESCRIPTION:
URL:https://www.iceclasses.com/event/american-heart-association-heartsaver-cpr-aed-with-basic-first-aid-3/
CATEGORIES:Electrical,Fire Alarm / Burglar Alarm / Locksmith
END:VEVENT
END:VCALENDAR