BEGIN:VCALENDAR
VERSION:2.0
PRODID:-//ICE Classes - ECPv6.15.20//NONSGML v1.0//EN
CALSCALE:GREGORIAN
METHOD:PUBLISH
X-ORIGINAL-URL:https://www.iceclasses.com
X-WR-CALDESC:Events for ICE Classes
REFRESH-INTERVAL;VALUE=DURATION:PT1H
X-Robots-Tag:noindex
X-PUBLISHED-TTL:PT1H
BEGIN:VTIMEZONE
TZID:UTC
BEGIN:STANDARD
TZOFFSETFROM:+0000
TZOFFSETTO:+0000
TZNAME:UTC
DTSTART:20210101T000000
END:STANDARD
END:VTIMEZONE
BEGIN:VEVENT
DTSTART;TZID=UTC:20251116T123000
DTEND;TZID=UTC:20251116T153000
DTSTAMP:20260423T093211
CREATED:20251110T182857Z
LAST-MODIFIED:20251110T182857Z
UID:43081-1763296200-1763307000@www.iceclasses.com
SUMMARY:AHA BLS Healthcare Provider CPR
DESCRIPTION:
URL:https://www.iceclasses.com/event/aha-bls-healthcare-provider-cpr/
CATEGORIES:Chiropractic,CPR,Massage Therapy,Physical Therapy
END:VEVENT
BEGIN:VEVENT
DTSTART;TZID=UTC:20230629T170000
DTEND;TZID=UTC:20230629T210000
DTSTAMP:20260423T093211
CREATED:20230118T192641Z
LAST-MODIFIED:20230118T192641Z
UID:29048-1688058000-1688072400@www.iceclasses.com
SUMMARY:BASIC FIRST AID
DESCRIPTION:
URL:https://www.iceclasses.com/event/basic-first-aid-52/
CATEGORIES:Chiropractic,CPR,Massage Therapy
END:VEVENT
BEGIN:VEVENT
DTSTART;TZID=UTC:20230626T180000
DTEND;TZID=UTC:20230626T210000
DTSTAMP:20260423T093211
CREATED:20230118T191157Z
LAST-MODIFIED:20230118T191157Z
UID:29026-1687802400-1687813200@www.iceclasses.com
SUMMARY:BLS CPR RENEWAL
DESCRIPTION:
URL:https://www.iceclasses.com/event/bls-cpr-renewal-76/
CATEGORIES:Athletic Training,Chiropractic,CPR,Massage Therapy
END:VEVENT
BEGIN:VEVENT
DTSTART;TZID=UTC:20230625T090000
DTEND;TZID=UTC:20230625T130000
DTSTAMP:20260423T093211
CREATED:20230118T192610Z
LAST-MODIFIED:20230118T192610Z
UID:29046-1687683600-1687698000@www.iceclasses.com
SUMMARY:BASIC FIRST AID
DESCRIPTION:
URL:https://www.iceclasses.com/event/basic-first-aid-51/
CATEGORIES:Chiropractic,CPR,Massage Therapy
END:VEVENT
BEGIN:VEVENT
DTSTART;TZID=UTC:20230621T180000
DTEND;TZID=UTC:20230621T220000
DTSTAMP:20260423T093211
CREATED:20230118T185948Z
LAST-MODIFIED:20230118T185948Z
UID:29008-1687370400-1687384800@www.iceclasses.com
SUMMARY:BLS CPR INITIAL
DESCRIPTION:
URL:https://www.iceclasses.com/event/bls-cpr-initial-92/
CATEGORIES:Athletic Training,Chiropractic,CPR,Massage Therapy
END:VEVENT
BEGIN:VEVENT
DTSTART;TZID=UTC:20230615T090000
DTEND;TZID=UTC:20230615T130000
DTSTAMP:20260423T093211
CREATED:20230118T192540Z
LAST-MODIFIED:20230118T192540Z
UID:29044-1686819600-1686834000@www.iceclasses.com
SUMMARY:BASIC FIRST AID
DESCRIPTION:
URL:https://www.iceclasses.com/event/basic-first-aid-50/
CATEGORIES:Chiropractic,CPR,Massage Therapy
END:VEVENT
BEGIN:VEVENT
DTSTART;TZID=UTC:20230614T090000
DTEND;TZID=UTC:20230614T120000
DTSTAMP:20260423T093211
CREATED:20230118T191122Z
LAST-MODIFIED:20230118T191122Z
UID:29024-1686733200-1686744000@www.iceclasses.com
SUMMARY:BLS CPR RENEWAL
DESCRIPTION:
URL:https://www.iceclasses.com/event/bls-cpr-renewal-75/
CATEGORIES:Athletic Training,Chiropractic,CPR,Massage Therapy
END:VEVENT
BEGIN:VEVENT
DTSTART;TZID=UTC:20230611T090000
DTEND;TZID=UTC:20230611T120000
DTSTAMP:20260423T093211
CREATED:20230118T191054Z
LAST-MODIFIED:20230118T191054Z
UID:29022-1686474000-1686484800@www.iceclasses.com
SUMMARY:BLS CPR RENEWAL
DESCRIPTION:
URL:https://www.iceclasses.com/event/bls-cpr-renewal-74/
CATEGORIES:Athletic Training,Chiropractic,CPR,Massage Therapy
END:VEVENT
BEGIN:VEVENT
DTSTART;TZID=UTC:20230607T090000
DTEND;TZID=UTC:20230607T133000
DTSTAMP:20260423T093211
CREATED:20230118T185901Z
LAST-MODIFIED:20230118T185901Z
UID:29006-1686128400-1686144600@www.iceclasses.com
SUMMARY:BLS CPR INITIAL
DESCRIPTION:
URL:https://www.iceclasses.com/event/bls-cpr-initial-91/
CATEGORIES:Athletic Training,Chiropractic,CPR,Massage Therapy
END:VEVENT
BEGIN:VEVENT
DTSTART;TZID=UTC:20230604T090000
DTEND;TZID=UTC:20230604T133000
DTSTAMP:20260423T093211
CREATED:20230118T185815Z
LAST-MODIFIED:20230118T185815Z
UID:29004-1685869200-1685885400@www.iceclasses.com
SUMMARY:BLS CPR INITIAL
DESCRIPTION:
URL:https://www.iceclasses.com/event/bls-cpr-initial-90/
CATEGORIES:Athletic Training,Chiropractic,CPR,Massage Therapy
END:VEVENT
BEGIN:VEVENT
DTSTART;TZID=UTC:20230525T170000
DTEND;TZID=UTC:20230525T210000
DTSTAMP:20260423T093211
CREATED:20230118T192230Z
LAST-MODIFIED:20230118T192230Z
UID:29042-1685034000-1685048400@www.iceclasses.com
SUMMARY:BASIC FIRST AID
DESCRIPTION:
URL:https://www.iceclasses.com/event/basic-first-aid-49/
CATEGORIES:Chiropractic,CPR,Massage Therapy
END:VEVENT
BEGIN:VEVENT
DTSTART;TZID=UTC:20230521T090000
DTEND;TZID=UTC:20230521T130000
DTSTAMP:20260423T093211
CREATED:20230118T192151Z
LAST-MODIFIED:20230118T192151Z
UID:29040-1684659600-1684674000@www.iceclasses.com
SUMMARY:BASIC FIRST AID
DESCRIPTION:
URL:https://www.iceclasses.com/event/basic-first-aid-48/
CATEGORIES:Chiropractic,CPR,Massage Therapy
END:VEVENT
BEGIN:VEVENT
DTSTART;TZID=UTC:20230519T090000
DTEND;TZID=UTC:20230519T120000
DTSTAMP:20260423T093211
CREATED:20230118T191011Z
LAST-MODIFIED:20230118T191011Z
UID:29020-1684486800-1684497600@www.iceclasses.com
SUMMARY:BLS CPR RENEWAL
DESCRIPTION:
URL:https://www.iceclasses.com/event/bls-cpr-renewal-73/
CATEGORIES:Athletic Training,Chiropractic,CPR,Massage Therapy
END:VEVENT
BEGIN:VEVENT
DTSTART;TZID=UTC:20230518T090000
DTEND;TZID=UTC:20230518T130000
DTSTAMP:20260423T093211
CREATED:20230118T192118Z
LAST-MODIFIED:20230118T192118Z
UID:29038-1684400400-1684414800@www.iceclasses.com
SUMMARY:BASIC FIRST AID
DESCRIPTION:
URL:https://www.iceclasses.com/event/basic-first-aid-47/
CATEGORIES:Chiropractic,CPR,Massage Therapy
END:VEVENT
BEGIN:VEVENT
DTSTART;TZID=UTC:20230430T090000
DTEND;TZID=UTC:20230430T130000
DTSTAMP:20260423T093211
CREATED:20230118T192027Z
LAST-MODIFIED:20230118T192027Z
UID:29036-1682845200-1682859600@www.iceclasses.com
SUMMARY:BASIC FIRST AID
DESCRIPTION:
URL:https://www.iceclasses.com/event/basic-first-aid-46/
CATEGORIES:Chiropractic,CPR,Massage Therapy
END:VEVENT
BEGIN:VEVENT
DTSTART;TZID=UTC:20230430T090000
DTEND;TZID=UTC:20230430T120000
DTSTAMP:20260423T093211
CREATED:20230118T190744Z
LAST-MODIFIED:20230118T190744Z
UID:29018-1682845200-1682856000@www.iceclasses.com
SUMMARY:BLS CPR RENEWAL
DESCRIPTION:
URL:https://www.iceclasses.com/event/bls-cpr-renewal-72/
CATEGORIES:Athletic Training,Chiropractic,CPR,Massage Therapy
END:VEVENT
BEGIN:VEVENT
DTSTART;TZID=UTC:20230421T090000
DTEND;TZID=UTC:20230421T133000
DTSTAMP:20260423T093211
CREATED:20230118T185710Z
LAST-MODIFIED:20230118T185710Z
UID:29002-1682067600-1682083800@www.iceclasses.com
SUMMARY:BLS CPR INITIAL
DESCRIPTION:
URL:https://www.iceclasses.com/event/bls-cpr-initial-89/
CATEGORIES:Athletic Training,Chiropractic,CPR,Massage Therapy
END:VEVENT
BEGIN:VEVENT
DTSTART;TZID=UTC:20230420T170000
DTEND;TZID=UTC:20230420T210000
DTSTAMP:20260423T093211
CREATED:20230118T191958Z
LAST-MODIFIED:20230118T191958Z
UID:29034-1682010000-1682024400@www.iceclasses.com
SUMMARY:BASIC FIRST AID
DESCRIPTION:
URL:https://www.iceclasses.com/event/basic-first-aid-45/
CATEGORIES:Chiropractic,CPR,Massage Therapy
END:VEVENT
BEGIN:VEVENT
DTSTART;TZID=UTC:20230413T090000
DTEND;TZID=UTC:20230413T130000
DTSTAMP:20260423T093211
CREATED:20230118T191927Z
LAST-MODIFIED:20230118T191927Z
UID:29032-1681376400-1681390800@www.iceclasses.com
SUMMARY:BASIC FIRST AID
DESCRIPTION:
URL:https://www.iceclasses.com/event/basic-first-aid-44/
CATEGORIES:Chiropractic,CPR,Massage Therapy
END:VEVENT
BEGIN:VEVENT
DTSTART;TZID=UTC:20230326T090000
DTEND;TZID=UTC:20230326T120000
DTSTAMP:20260423T093211
CREATED:20230118T190656Z
LAST-MODIFIED:20230118T190656Z
UID:29016-1679821200-1679832000@www.iceclasses.com
SUMMARY:BLS CPR RENEWAL
DESCRIPTION:
URL:https://www.iceclasses.com/event/bls-cpr-renewal-71/
CATEGORIES:Athletic Training,Chiropractic,CPR,Massage Therapy
END:VEVENT
BEGIN:VEVENT
DTSTART;TZID=UTC:20230317T090000
DTEND;TZID=UTC:20230317T120000
DTSTAMP:20260423T093211
CREATED:20230118T190627Z
LAST-MODIFIED:20230118T190627Z
UID:29014-1679043600-1679054400@www.iceclasses.com
SUMMARY:BLS CPR RENEWAL
DESCRIPTION:
URL:https://www.iceclasses.com/event/bls-cpr-renewal-70/
CATEGORIES:Athletic Training,Chiropractic,CPR,Massage Therapy
END:VEVENT
BEGIN:VEVENT
DTSTART;TZID=UTC:20230226T090000
DTEND;TZID=UTC:20230226T120000
DTSTAMP:20260423T093211
CREATED:20230118T190532Z
LAST-MODIFIED:20230118T190532Z
UID:29012-1677402000-1677412800@www.iceclasses.com
SUMMARY:BLS CPR RENEWAL
DESCRIPTION:
URL:https://www.iceclasses.com/event/bls-cpr-renewal-69/
CATEGORIES:Athletic Training,Chiropractic,CPR,Massage Therapy
END:VEVENT
BEGIN:VEVENT
DTSTART;TZID=UTC:20230212T090000
DTEND;TZID=UTC:20230212T133000
DTSTAMP:20260423T093211
CREATED:20230116T185501Z
LAST-MODIFIED:20230116T185501Z
UID:28967-1676192400-1676208600@www.iceclasses.com
SUMMARY:BLS CPR INITIAL
DESCRIPTION:
URL:https://www.iceclasses.com/event/bls-cpr-initial-58/
CATEGORIES:Chiropractic,CPR
END:VEVENT
BEGIN:VEVENT
DTSTART;TZID=UTC:20230129T090000
DTEND;TZID=UTC:20230129T120000
DTSTAMP:20260423T093211
CREATED:20230118T190121Z
LAST-MODIFIED:20230118T190121Z
UID:29010-1674982800-1674993600@www.iceclasses.com
SUMMARY:BLS CPR RENEWAL
DESCRIPTION:
URL:https://www.iceclasses.com/event/bls-cpr-renewal-68/
CATEGORIES:Athletic Training,Chiropractic,CPR,Massage Therapy
END:VEVENT
BEGIN:VEVENT
DTSTART;TZID=UTC:20230118T170000
DTEND;TZID=UTC:20230118T210000
DTSTAMP:20260423T093211
CREATED:20230118T191639Z
LAST-MODIFIED:20230118T191817Z
UID:29030-1674061200-1674075600@www.iceclasses.com
SUMMARY:BASIC FIRST AID
DESCRIPTION:
URL:https://www.iceclasses.com/event/basic-first-aid-43/
CATEGORIES:Chiropractic,CPR,Massage Therapy
END:VEVENT
BEGIN:VEVENT
DTSTART;TZID=UTC:20230118T090000
DTEND;TZID=UTC:20230118T130000
DTSTAMP:20260423T093211
CREATED:20230118T191557Z
LAST-MODIFIED:20230118T191749Z
UID:29028-1674032400-1674046800@www.iceclasses.com
SUMMARY:BASIC FIRST AID
DESCRIPTION:
URL:https://www.iceclasses.com/event/basic-first-aid-42/
CATEGORIES:Chiropractic,CPR,Massage Therapy
END:VEVENT
BEGIN:VEVENT
DTSTART;TZID=UTC:20220829T180000
DTEND;TZID=UTC:20220829T210000
DTSTAMP:20260423T093211
CREATED:20220315T173552Z
LAST-MODIFIED:20220315T173552Z
UID:26382-1661796000-1661806800@www.iceclasses.com
SUMMARY:BLS CPR RENEWAL
DESCRIPTION:
URL:https://www.iceclasses.com/event/bls-cpr-renewal-49/
CATEGORIES:CPR
END:VEVENT
BEGIN:VEVENT
DTSTART;TZID=UTC:20220817T090000
DTEND;TZID=UTC:20220817T120000
DTSTAMP:20260423T093211
CREATED:20220315T173238Z
LAST-MODIFIED:20220315T173238Z
UID:26378-1660726800-1660737600@www.iceclasses.com
SUMMARY:BLS CPR RENEWAL
DESCRIPTION:
URL:https://www.iceclasses.com/event/bls-cpr-renewal-48/
CATEGORIES:CPR
END:VEVENT
BEGIN:VEVENT
DTSTART;TZID=UTC:20220810T090000
DTEND;TZID=UTC:20220810T133000
DTSTAMP:20260423T093211
CREATED:20220315T173155Z
LAST-MODIFIED:20220315T173155Z
UID:26376-1660122000-1660138200@www.iceclasses.com
SUMMARY:BLS CPR INITIAL
DESCRIPTION:
URL:https://www.iceclasses.com/event/bls-cpr-initial-57/
CATEGORIES:CPR
END:VEVENT
BEGIN:VEVENT
DTSTART;TZID=UTC:20220725T180000
DTEND;TZID=UTC:20220725T210000
DTSTAMP:20260423T093211
CREATED:20220315T173114Z
LAST-MODIFIED:20220315T173114Z
UID:26374-1658772000-1658782800@www.iceclasses.com
SUMMARY:BLS CPR RENEWAL
DESCRIPTION:
URL:https://www.iceclasses.com/event/bls-cpr-renewal-47/
CATEGORIES:CPR
END:VEVENT
END:VCALENDAR