BEGIN:VCALENDAR
VERSION:2.0
PRODID:-//ICE Classes - ECPv6.15.20//NONSGML v1.0//EN
CALSCALE:GREGORIAN
METHOD:PUBLISH
X-WR-CALNAME:ICE Classes
X-ORIGINAL-URL:https://www.iceclasses.com
X-WR-CALDESC:Events for ICE Classes
REFRESH-INTERVAL;VALUE=DURATION:PT1H
X-Robots-Tag:noindex
X-PUBLISHED-TTL:PT1H
BEGIN:VTIMEZONE
TZID:UTC
BEGIN:STANDARD
TZOFFSETFROM:+0000
TZOFFSETTO:+0000
TZNAME:UTC
DTSTART:20250101T000000
END:STANDARD
END:VTIMEZONE
BEGIN:VEVENT
DTSTART;TZID=UTC:20260426T080000
DTEND;TZID=UTC:20260426T143000
DTSTAMP:20260426T014248
CREATED:20260318T125335Z
LAST-MODIFIED:20260318T125335Z
UID:44438-1777190400-1777213800@www.iceclasses.com
SUMMARY:Artificial Intelligence for the Electrical Contractor
DESCRIPTION:
URL:https://www.iceclasses.com/event/artificial-intelligence-for-the-electrical-contractor-2/
CATEGORIES:Electrical
END:VEVENT
BEGIN:VEVENT
DTSTART;TZID=UTC:20260426T083000
DTEND;TZID=UTC:20260426T123000
DTSTAMP:20260426T014248
CREATED:20260420T215934Z
LAST-MODIFIED:20260420T220029Z
UID:44759-1777192200-1777206600@www.iceclasses.com
SUMMARY:Ethical Issues of Land Surveying and Engineering Professionals
DESCRIPTION:
URL:https://www.iceclasses.com/event/ethical-issues-of-land-surveying-and-engineering-professionals/
END:VEVENT
BEGIN:VEVENT
DTSTART;TZID=UTC:20260426T090000
DTEND;TZID=UTC:20260427T170000
DTSTAMP:20260426T014248
CREATED:20260204T194303Z
LAST-MODIFIED:20260204T194303Z
UID:43911-1777194000-1777309200@www.iceclasses.com
SUMMARY:Infant Massage Therapy and Technique
DESCRIPTION:
URL:https://www.iceclasses.com/event/infant-massage-therapy-and-technique-16/
END:VEVENT
BEGIN:VEVENT
DTSTART;TZID=UTC:20260426T130000
DTEND;TZID=UTC:20260426T170000
DTSTAMP:20260426T014248
CREATED:20260420T221306Z
LAST-MODIFIED:20260420T221306Z
UID:44761-1777208400-1777222800@www.iceclasses.com
SUMMARY:Mathematics for Land Surveyors/Engineers
DESCRIPTION:
URL:https://www.iceclasses.com/event/mathematics-for-land-surveyors-engineers-5/
END:VEVENT
END:VCALENDAR